BEGIN:VCALENDAR
VERSION:2.0
PRODID:-//A.D.A. Puławska - ECPv6.15.20//NONSGML v1.0//EN
CALSCALE:GREGORIAN
METHOD:PUBLISH
X-ORIGINAL-URL:https://adapulawska.org
X-WR-CALDESC:Wydarzenia dla A.D.A. Puławska
REFRESH-INTERVAL;VALUE=DURATION:PT1H
X-Robots-Tag:noindex
X-PUBLISHED-TTL:PT1H
BEGIN:VTIMEZONE
TZID:Europe/Warsaw
BEGIN:DAYLIGHT
TZOFFSETFROM:+0100
TZOFFSETTO:+0200
TZNAME:CEST
DTSTART:20240331T010000
END:DAYLIGHT
BEGIN:STANDARD
TZOFFSETFROM:+0200
TZOFFSETTO:+0100
TZNAME:CET
DTSTART:20241027T010000
END:STANDARD
BEGIN:DAYLIGHT
TZOFFSETFROM:+0100
TZOFFSETTO:+0200
TZNAME:CEST
DTSTART:20250330T010000
END:DAYLIGHT
BEGIN:STANDARD
TZOFFSETFROM:+0200
TZOFFSETTO:+0100
TZNAME:CET
DTSTART:20251026T010000
END:STANDARD
BEGIN:DAYLIGHT
TZOFFSETFROM:+0100
TZOFFSETTO:+0200
TZNAME:CEST
DTSTART:20260329T010000
END:DAYLIGHT
BEGIN:STANDARD
TZOFFSETFROM:+0200
TZOFFSETTO:+0100
TZNAME:CET
DTSTART:20261025T010000
END:STANDARD
END:VTIMEZONE
BEGIN:VEVENT
DTSTART;TZID=Europe/Warsaw:20250623T183000
DTEND;TZID=Europe/Warsaw:20250623T213000
DTSTAMP:20260423T034428
CREATED:20250619T131750Z
LAST-MODIFIED:20250619T163242Z
UID:15319-1750703400-1750714200@adapulawska.org
SUMMARY:89 sekund do północy\, albo jak pożytecznie spędzić czas na progu trzeciej wojny światowej
DESCRIPTION:Rosyjsko-ukraińska wojna pokazuje\, jak złudne są popularne wyobrażenia co trwałości pokoju i nieuchronności postępu społecznego. Co więcej\, samo ryzyko nowych ekspansji Rosji\, w tym na terytorium UE ujawniło niezdolność starych sojuszy obronnych do realizacji zadeklarowanych zadań. Nawet jeśli w najbliższych latach wojna nie dotknie bezpośrednio innych krajów Europy\, militaryzacja znacząco wpłynie na proporcje budżetów i wydatków poszczególnych państw\, na poziom demokratycznych swobód\, politykę społeczną\, siłę ruchów prawicowych i ochronę prywatnych sfer życia. \n\nCzego uczy nas doświadczenie wojny Rosji przeciwko Ukrainie?\nNa co powinni przygotować się anarchiści i demokratyczna lewica?\nJakie formy organizacji są najbardziej dostosowane do społecznych wstrząsów? \n\nNa te tematy porozmawiamy z ukraińskim kombatantem\, aktywistą organizacji „Ruch Socjalny” Fediremm Ustynovem.\n\nW ramach wydarzenia odbędzie się również akcja solidarności z Denisem Matsolą i Vladyslavem „Iskrą” Żurawlevem\, lewicowymi aktywistami\, którzy od ponad trzech lat doznają tortur w rosyjskiej niewoli.
URL:https://adapulawska.org/wydarzenie/89-sekund-do-polnocy-albo-jak-pozytecznie-spedzic-czas-na-progu-trzeciej-wojny-swiatowej/
LOCATION:ADA Puławska\, Puławska 37\, Warszawa\, 02-508\, Poland
CATEGORIES:spotkanie
ATTACH;FMTTYPE=image/jpeg:https://adapulawska.org/wp-content/uploads/2025/06/signal-2025-06-19-145943_002.jpeg
ORGANIZER;CN="ADA Pu%C5%82awska":MAILTO:kontakt@adapulawska.org
END:VEVENT
END:VCALENDAR