BEGIN:VCALENDAR
VERSION:2.0
PRODID:-//A.D.A. Puławska - ECPv6.15.20//NONSGML v1.0//EN
CALSCALE:GREGORIAN
METHOD:PUBLISH
X-ORIGINAL-URL:https://adapulawska.org
X-WR-CALDESC:Wydarzenia dla A.D.A. Puławska
REFRESH-INTERVAL;VALUE=DURATION:PT1H
X-Robots-Tag:noindex
X-PUBLISHED-TTL:PT1H
BEGIN:VTIMEZONE
TZID:Europe/Warsaw
BEGIN:DAYLIGHT
TZOFFSETFROM:+0100
TZOFFSETTO:+0200
TZNAME:CEST
DTSTART:20240331T010000
END:DAYLIGHT
BEGIN:STANDARD
TZOFFSETFROM:+0200
TZOFFSETTO:+0100
TZNAME:CET
DTSTART:20241027T010000
END:STANDARD
BEGIN:DAYLIGHT
TZOFFSETFROM:+0100
TZOFFSETTO:+0200
TZNAME:CEST
DTSTART:20250330T010000
END:DAYLIGHT
BEGIN:STANDARD
TZOFFSETFROM:+0200
TZOFFSETTO:+0100
TZNAME:CET
DTSTART:20251026T010000
END:STANDARD
BEGIN:DAYLIGHT
TZOFFSETFROM:+0100
TZOFFSETTO:+0200
TZNAME:CEST
DTSTART:20260329T010000
END:DAYLIGHT
BEGIN:STANDARD
TZOFFSETFROM:+0200
TZOFFSETTO:+0100
TZNAME:CET
DTSTART:20261025T010000
END:STANDARD
BEGIN:DAYLIGHT
TZOFFSETFROM:+0100
TZOFFSETTO:+0200
TZNAME:CEST
DTSTART:20270328T010000
END:DAYLIGHT
BEGIN:STANDARD
TZOFFSETFROM:+0200
TZOFFSETTO:+0100
TZNAME:CET
DTSTART:20271031T010000
END:STANDARD
END:VTIMEZONE
BEGIN:VEVENT
DTSTART;TZID=Europe/Warsaw:20260303T180000
DTEND;TZID=Europe/Warsaw:20260303T230000
DTSTAMP:20260422T024458
CREATED:20260220T131411Z
LAST-MODIFIED:20260220T131412Z
UID:16058-1772560800-1772578800@adapulawska.org
SUMMARY:"Dom dla Rity"- pokaz filmu i dyskusja z reżyserką
DESCRIPTION:Zapraszamy na pokaz filmu Dom dla Rity w reżyserii Yulii Appen\, członkini kolektywu Freefilmers\, po którym odbędzie się dyskusja z udziałem autorki.  \n\n\n\nDom dla Rity (90 min\, 2026\, Ukraina) opowiada historię romskiej rodziny\, która została zmuszona do ucieczki ze swojego domu w miejscowości Pryszyb\, która znalazła się pod okupacją rosyjską wiosną 2022 roku. Narracja filmu skupia się wokół poszukiwania domu\, strategii przetrwania i poczucia przynależności wysiedlonych Romek i Romów. W Zaporożu\, położonym zaledwie 40 kilometrów od linii frontu\, bohaterki i bohaterowie mierzą się z dyskryminacją i obojętnością. Film dokumentuje refleksje społeczności romskiej na temat Ukrainy oraz ich własnej złożonej tożsamości w czasie pełno-skalowej inwazji i w kontekście oporu wobec rosyjskiej agresji.  \n\n\n\nYulia Appen jest reżyserką filmów dokumentalnych i fotografką. Jej filmy poruszają tematy domu oraz krajobrazu jako nośnika znaczeń kulturowych i historycznych. Od lutego 2022\, Yulia pracuje jako dziennikarka-wolontariuszka dla kanału Zbrojnych Sił Ukrainy dokumentując codzienność wojny i doświadczenia ludzi\, którzy przeżyli okupację. Razem z Freefilmers\, Yulia stworzyła serię wywiadów z osobami o anty-autorytarnych\, anarchistycznych i anty-faszystowskich poglądach walczących w ZSU (we współpracy z Solidarity Collectives). Od lat wspiera też społeczność romską i inne marginalizowane społeczności na terenach przyfrontowych i deokupowanych.  \n\n\n\nFreefilmers tworzą filmy podejmujące wątki walki o wolność i równość\, promują niezależną twórczość filmową we wschodniej Ukrainie oraz tworzą platformę wsparcia pozwalającą na eksperymentowanie poza oficjalnym systemem filmowym. Obecnie członkowie Freefilmers skupiają się na niesieniu pomocy marginalizowanym społecznościom np. queerowym aktywistom\, osobom neuronietypowym i społeczności romskiej. Niektórzy członkowie dołączyli do Sił Zbrojnych Ukrainy\, inni prowadzą zbiórki\, dostarczają podstawowe produkty i pomoc medyczną. \n\n\n\nFilm w języku ukraińskim\, rosyjskim i Romani z napisami angielskimi. \n\n\n\nDyskusja po filmie odbędzie się równolegle w języku polskim i ukraińskim.  \n\n\n\nWydarzenie odbędzie się w ramach cyklu pokazów filmu Dom dla Rity w Warszawie\, Łodzi\, Poznaniu\, Berlinie i Amsterdamie zorganizowanego przez Freefilmers i Martę Hryniuk\, ze wsparciem House of Europe.  \n\n\n\nhttps://www.freefilmers.org/en/
URL:https://adapulawska.org/wydarzenie/dom-dla-rity-pokaz-filmu-i-dyskusja-z-rezyserka/
LOCATION:ADA Puławska\, Puławska 37\, Warszawa\, 02-508\, Poland
ATTACH;FMTTYPE=image/png:https://adapulawska.org/wp-content/uploads/2026/02/Screenshot-2026-02-20-at-14-07-27-Instagram.png
END:VEVENT
BEGIN:VEVENT
DTSTART;TZID=Europe/Warsaw:20260226T180000
DTEND;TZID=Europe/Warsaw:20260226T220000
DTSTAMP:20260422T024458
CREATED:20260128T132515Z
LAST-MODIFIED:20260220T131652Z
UID:15933-1772128800-1772143200@adapulawska.org
SUMMARY:Droga do wolności: cztery lata od inwazji
DESCRIPTION:PROJEKCJA I FILMU ORAZ DYSKUSJA Z AKTYWISTAMI I AKTYWISTKAMI Z UKRAINY\n \nFILM: „Le Chemin de la Liberté” (reż. Pierre Chamechaude i Christophe Cordier\, 2026\, 57 minut)\n \nCztery lata temu putinowska Rosja dokonała pełnoskalowej imperialistycznej agresji na Ukrainę. Ukraińcy i Ukrainki podjęli walkę i wielokrotnie wykorzystali swoje organizacyjne i wspólnotowe doświadczenia\, aby stawić czoła agresorom. Wśród osób\, które zaangażowały się w zbrojny opór i wsparcie dla tych\, którzy chwycili za broń są feministki\, ekolodzy i ekolożki\, związkowcy i związkowczynie\, anarchistki i anarchiści. Ich działania nawiązują do antyautorytarnego\, wolnościowego modelu Ukrainy\, który przywołuje na myśl doświadczenia anarchistycznego ruchu Machnowszczyzny sprzed tu lat. Film opowiada historię ruchu anarchistycznego i Machnowszczyzny przez pryzmat współczesnych wydarzeń. Zawiera wywiady z osobami zaangażowanymi w związki zawodowe\, ruchy społeczne i walkę zbrojną przeciwko okupantowi.\n \nDYSKUSJA:Po filmie zapraszamy na dyskusję na temat ruchów społecznych i związków zawodowych w Ukrainie. Nasi goście i gościnie opowiedzą nam o specyfice aktywizmu podczas wojny\, aktualnych problemach społecznych i wyzwaniach przed jakimi stoją środowiska niezależnej lewicy i związków zawodowych. Nie zabraknie również doświadczeń walki zbrojnej i wsparcia dla osób służących w siłach oporu. Wspólnie z naszymi prelegantkami i prelegantami zastanowimy się czego uczy nas historia ruchów emancypacyjnych\, a może to my jesteśmy w stanie czegoś nauczyć historię? W dyskusji udział wezmą: Jurij Samoiłow (Konfederacja Wolnych Związków Zawodowych Ukrainy w mieście Krzywy Róg)\,Saszko i Sonia (Studencki Związek Zawodowy „Priama Dia”)+ czekamy na potwierdzenie od jednego Gościa. prowadzenie: Ignacy Jóźwiak (Inicjatywa Pracownicza)
URL:https://adapulawska.org/wydarzenie/droga-do-wolnosci-cztery-lata-od-inwazji/
LOCATION:ADA Puławska\, Puławska 37\, Warszawa\, 02-508\, Poland
CATEGORIES:spotkanie
ATTACH;FMTTYPE=image/jpeg:https://adapulawska.org/wp-content/uploads/2026/01/drogadowolnosci.jpg
ORGANIZER;CN="ADA Pu%C5%82awska":MAILTO:kontakt@adapulawska.org
END:VEVENT
BEGIN:VEVENT
DTSTART;TZID=Europe/Warsaw:20251107T190000
DTEND;TZID=Europe/Warsaw:20251107T220000
DTSTAMP:20260422T024458
CREATED:20251105T201437Z
LAST-MODIFIED:20251105T201438Z
UID:15679-1762542000-1762552800@adapulawska.org
SUMMARY:WARSAW ROLLER DERBY NA ADZIE!
DESCRIPTION:Warsaw Roller Derby zaprasza na wspólny wieczór na Adzie Puławskiej \n🛼To może najpierw czym jest Roller Derby? Naszą pasją i mega zajawką\, którą chcemy się podzielić i Was do niej zaprosić. Jest to oddolny sport drużynowy\, kontaktowy na WROTKACH 😲 \n😈Ścigamy się\, przepychamy\, snujemy strategie i mamy derby names niczym drag queens. U nas każdego rodzaju ciało się sprawdzi\, więc porzućcie wymówki i wpadnijcie na trening rekrutacyjny nawet jeśli wasza stopa nigdy nie doznała wrot! 💪 \n📺 Co w takim razie porobimy na spotkaniu? Obejrzymy film\, który sprawił\, że świat dowiedział się w ogóle o tym szalonym sporcie oraz zachęcił do niego sporą część z nas. Potem pogadamy o faktach i mitach roller derby\, zasadach\, tym co derby nam dają oraz zagramy sobie w symulację rozgrywki 😁 \n– sito – przynieście swoje kosuzlki/ torby co tam chcecie!– przekaski– dj – stay tuned! \nOtwieramy bramkę o 19:00! \n😼 Kogo zapraszamy? – Osoby 16+ chętne dowiedzenia się więcej i spędzenia miło czasu jesiennego wieczoru. Kto wie może po obejrzeniu filmu zapragniecie zacząć trenować lub zostać sędziami albo wiernymi fanami! 🖤 \n💥Gdzie – ul. Puławska 37💥Kiedy – 7 listopada w godz 19.30-23💥Wstęp – Free! 💥Rekrutacja 10 listopada – 💥Najbliższy mecz w Warszawie – 29 listopada
URL:https://adapulawska.org/wydarzenie/warsaw-roller-derby-na-adzie/
LOCATION:ADA Puławska\, Puławska 37\, Warszawa\, 02-508\, Poland
ATTACH;FMTTYPE=image/jpeg:https://adapulawska.org/wp-content/uploads/2025/11/565393918_782055134706868_3414896667544496060_n.jpg
END:VEVENT
BEGIN:VEVENT
DTSTART;TZID=Europe/Warsaw:20250624T183000
DTEND;TZID=Europe/Warsaw:20250624T213000
DTSTAMP:20260422T024458
CREATED:20250623T074808Z
LAST-MODIFIED:20250623T075617Z
UID:15398-1750789800-1750800600@adapulawska.org
SUMMARY:Rewolucja Rojavy oczami ochotnika International Freedom Batalion i spotkanie z reżyserem
DESCRIPTION:Już we wtorek (24 czerwca) zapraszamy wszystkich na projekcję filmu dokumentalnego “Belki Sibe”. Film poprowadzi nas przez Rewolucję Rojavy oczami ochotnika International Freedom Batalion. Będziemy mieli okazję zapoznać się z ważnymi wydarzeniami historii współczesnej\, takimi jak zdobycie Rakki i obalenie Kalifatu w Syrii. Jest to też unikalna szansa\, aby wysłuchać walczących w tamtym okresie żołnierzy zrzeszonych w SDF\, dowiedzieć się jakie motywacje nimi kierowały\, jaką przyszłość upatrują dla Rojavy i Bliskiego Wschodu.  \n\n\n\nPo projekcji odbędzie się dyskusja z reżyserem\, Alexis’em Daloumis’em\, w trakcie której odpowiadać będzie na pytania z sali [język angielski!]. \n\n\n\nSpotkanie zorganizowane we współpracy z WGA.
URL:https://adapulawska.org/wydarzenie/rewolucja-rojavy-oczami-ochotnika-international-freedom-batalion-i-spotkanie-z-rezyserem/
LOCATION:ADA Puławska\, Puławska 37\, Warszawa\, 02-508\, Poland
ATTACH;FMTTYPE=image/png:https://adapulawska.org/wp-content/uploads/2025/06/belki_ada.png
ORGANIZER;CN="Kolektyw ADA":MAILTO:kontakt@adapulawska.org
END:VEVENT
END:VCALENDAR