BEGIN:VCALENDAR
VERSION:2.0
PRODID:-//A.D.A. Puławska - ECPv6.15.20//NONSGML v1.0//EN
CALSCALE:GREGORIAN
METHOD:PUBLISH
X-ORIGINAL-URL:https://adapulawska.org
X-WR-CALDESC:Wydarzenia dla A.D.A. Puławska
REFRESH-INTERVAL;VALUE=DURATION:PT1H
X-Robots-Tag:noindex
X-PUBLISHED-TTL:PT1H
BEGIN:VTIMEZONE
TZID:Europe/Warsaw
BEGIN:DAYLIGHT
TZOFFSETFROM:+0100
TZOFFSETTO:+0200
TZNAME:CEST
DTSTART:20250330T010000
END:DAYLIGHT
BEGIN:STANDARD
TZOFFSETFROM:+0200
TZOFFSETTO:+0100
TZNAME:CET
DTSTART:20251026T010000
END:STANDARD
BEGIN:DAYLIGHT
TZOFFSETFROM:+0100
TZOFFSETTO:+0200
TZNAME:CEST
DTSTART:20260329T010000
END:DAYLIGHT
BEGIN:STANDARD
TZOFFSETFROM:+0200
TZOFFSETTO:+0100
TZNAME:CET
DTSTART:20261025T010000
END:STANDARD
BEGIN:DAYLIGHT
TZOFFSETFROM:+0100
TZOFFSETTO:+0200
TZNAME:CEST
DTSTART:20270328T010000
END:DAYLIGHT
BEGIN:STANDARD
TZOFFSETFROM:+0200
TZOFFSETTO:+0100
TZNAME:CET
DTSTART:20271031T010000
END:STANDARD
END:VTIMEZONE
BEGIN:VEVENT
DTSTART;TZID=Europe/Warsaw:20260110T193000
DTEND;TZID=Europe/Warsaw:20260110T223000
DTSTAMP:20260422T004624
CREATED:20260103T131329Z
LAST-MODIFIED:20260103T131330Z
UID:15870-1768073400-1768084200@adapulawska.org
SUMMARY:NO EMO WITHOUT VIOLENCE: Struggle Manifesto + We Watch Clouds + Sow the seed\, reap the fear
DESCRIPTION:𝐍𝐨 𝐞𝐦𝐨 𝐰𝐢𝐭𝐡𝐨𝐮𝐭 𝐯𝐢𝐨𝐥𝐞𝐧𝐜𝐞: 𝐒𝐭𝐫𝐮𝐠𝐠𝐥𝐞 𝐌𝐚𝐧𝐢𝐟𝐞𝐬𝐭𝐨 [𝐠𝐫𝐢𝐧𝐝𝐜𝐨𝐫𝐞\, 𝐏𝐨𝐳𝐧𝐚𝐧] + 𝐖𝐞 𝐖𝐚𝐭𝐜𝐡 𝐂𝐥𝐨𝐮𝐝𝐬 [𝐬𝐜𝐫𝐞𝐚𝐦𝐨\, 𝐖𝐚𝐫𝐬𝐳𝐚𝐰𝐚] + 𝐒𝐨𝐰 𝐭𝐡𝐞 𝐬𝐞𝐞𝐝\, 𝐫𝐞𝐚𝐩 𝐭𝐡𝐞 𝐟𝐞𝐚𝐫 [𝐞𝐦𝐨𝐜𝐫𝐮𝐬𝐭/𝐬𝐜𝐫𝐞𝐚𝐦𝐨\, 𝐖𝐚𝐫𝐬𝐳𝐚𝐰𝐚] \n📅 𝐃𝐚𝐭𝐚: 10.01.2026📍 𝐌𝐢𝐞𝐣𝐬𝐜𝐞: ADA Puławska\, ul. Puławska 37 \nUcieleśnienie sztamy pomiędzy „emo” i „violence” – ostatni bastion prawdziwego emo w Warszawie na jednym wieczorze razem z poznańskim OG grindcore’u\, a do tego lekka kruszonka na wierzch w postaci autochtońskiego neocrustu.Zabawa dla osób smutnych i wkurwionych 🙂  \nTIME TABLE:19:30 — bramki20:30 — pierwszy zespółpotem drugi\, potem trzeci\, potem koniec \nZagrają: \n💀 𝐒𝐭𝐫𝐮𝐠𝐠𝐥𝐞 𝐌𝐚𝐧𝐢𝐟𝐞𝐬𝐭𝐨 [grindcore][Poznań]🎧 https://youtu.be/-NXaF_TPF9o?si=cQAucqeqf8vAHU1k🎧 https://open.spotify.com/album/0ffwbknRpccoqN9ZXdRcuv?si=Azt4fVMxQ5-JUxUgbpSY5AIG: https://www.instagram.com/struggle.manifesto/ \n💀 𝐖𝐞 𝐖𝐚𝐭𝐜𝐡 𝐂𝐥𝐨𝐮𝐝𝐬 [screamo][Warszawa]🎧 https://youtu.be/itvm_EmS4To?si=KYRIiyN3Y-6svO-9🎧 https://open.spotify.com/album/72Kkek4CQNWQuKnG5EHbsO?si=YnEUMxEtSaq1Ro4OVLeeQwIG: https://www.instagram.com/wewatchclouds/FFO: Däitro\, Ampere\, francuskie screamo \n💀 𝐒𝐨𝐰 𝐭𝐡𝐞 𝐬𝐞𝐞𝐝\, 𝐫𝐞𝐚𝐩 𝐭𝐡𝐞 𝐟𝐞𝐚𝐫 [emocrust/screamo][Warszawa]🎧 https://youtu.be/baiqd8OlJtk?si=D_0u5PMLT1WzatmtIG: https://www.instagram.com/stsxrtf/FFO: Fall of Efrafa\, Orchid\, Tragedy \nTo wydarzenie odbywa się w duchu DIY i wzajemnego szacunku. Nie ma miejsca na jakiekolwiek formy dyskryminacji.
URL:https://adapulawska.org/wydarzenie/no-emo-without-violence-struggle-manifesto-we-watch-clouds-sow-the-seed-reap-the-fear/
LOCATION:ADA Puławska\, Puławska 37\, Warszawa\, 02-508\, Poland
ATTACH;FMTTYPE=image/jpeg:https://adapulawska.org/wp-content/uploads/2026/01/595901287_884589057298825_4480092670539087426_n.jpg
END:VEVENT
BEGIN:VEVENT
DTSTART;TZID=Europe/Warsaw:20260112T190000
DTEND;TZID=Europe/Warsaw:20260112T210000
DTSTAMP:20260422T004624
CREATED:20251210T204144Z
LAST-MODIFIED:20251210T204145Z
UID:15836-1768244400-1768251600@adapulawska.org
SUMMARY:Glamour Giveaway: New Year's Eve Edition
DESCRIPTION:Zapraszamy na kolejną edycję wielkiej wymianki ciuchów i dodatków organizowaną specjalnie z myślą o osobach robiących drag i burleskę! \nNazbierało Ci się w domu sporo rzeczy\, które miały kiedyś być do jakiegoś perfo\, ale ostatecznie okazało się\, że zbierają tylko kurz? \nZaczynasz przygodę z dragiem/burleską i brakuje Ci WSZYSTKIEGO? \nTo wydarzenie jest dla Ciebie! \nZanim wyniesiecie stare ciuchy i dodatki na śmietnik\, zanim pójdziecie na zakupy – przyjdźcie na naszą wymiankę! Będzie można odświeżyć szafę\, oszczędzić pieniądze i planetę. Zachęcamy do przynoszenia wszystkiego\, co potrzebne do występowania na scenie: ubrań\, butów\, peruk\, biżuterii\, dodatków\, materiałów\, nietrafionych zakupów makijażowych. \nAle na tym nie koniec – będzie to też okazja\, aby poznać i wymienić się doświadczeniami z innymi osobami z dragowego i burleskowego środowiska. Networking to klucz do sukcesu w każdej branży\, a osoby\, które mają tę samą pasję\, to najlepszy materiał na nowych przyjaciół! \nZabierać można wszystko bez żadnych ograniczeń!Rzeczy\, które nie znajdą nowych właścicieli trafią do freeshopu na Adzie\, gdzie będą czekać na nowy dom. \nDo zobaczenia!
URL:https://adapulawska.org/wydarzenie/glamour-giveaway-new-years-eve-edition/
LOCATION:ADA Puławska\, Puławska 37\, Warszawa\, 02-508\, Poland
ATTACH;FMTTYPE=image/jpeg:https://adapulawska.org/wp-content/uploads/2025/12/598421163_122202156350546709_8486582820191224334_n.jpg
END:VEVENT
BEGIN:VEVENT
DTSTART;TZID=Europe/Warsaw:20260117T190000
DTEND;TZID=Europe/Warsaw:20260117T220000
DTSTAMP:20260422T004624
CREATED:20251202T205441Z
LAST-MODIFIED:20260114T113608Z
UID:15793-1768676400-1768687200@adapulawska.org
SUMMARY:NYOS (FIN) • Magic Moments @ Ada • Svmerki • 17.01 ✦ Fiński Nowy Rok
DESCRIPTION:𝗦𝘃𝗺𝗲𝗿𝗸𝗶 serdecznie zapraszają na gorące świętowanie Fińskiego Nowego Roku i spektakularny koncert post-noise-rock duetu z Finlandii 𝗡𝗬𝗢𝗦 z lokalnym wsparciem 𝗠𝗮𝗴𝗶𝗰 𝗠𝗼𝗺𝗲𝗻𝘁𝘀 17 stycznia na Adzie! ✨ \n𝗡𝗬𝗢𝗦 to fiński duet złączony wzajemną miłością do noise-panku i post-roku\, kawy i elektryzujących występów na żywo\, od 2014 wydali 7 albumów\, nieprzerwanie koncertują\, wywołując dosłownie ścianę dźwięku na ponad 400 koncertach w ponad 20 krajach. \nhttps://nyos.bandcamp.comhttps://linktr.ee/nyosbandhttps://instagram.com/nyosbandhttps://fb.com/nyosband \nZespół powraca do nas z siódmym pełnometrażowym wydawnictwem „Growl” z 𝗣𝗲𝗹𝗮𝗴𝗶𝗰 𝗥𝗲𝗰𝗼𝗿𝗱𝘀 (Cult of Luna\, God is an Astronaut\, Envy\, Mono). Łącząc mutantujące noise punkowe zapętlenia 𝗕𝗮𝘁𝘁𝗹𝗲𝘀 i 𝗧𝗼𝗿𝘁𝗼𝗶𝘀𝗲 z mocną ścianą dźwięku przypominającą post rockowych 𝗥𝘂𝘀𝘀𝗶𝗮𝗻 𝗖𝗶𝗿𝗰𝗹𝗲𝘀\, NYOS w dalszym ciągu kontrastuje swoją wyjątkową złożoność kompozycyjną z improwizacjami na żywo osiąga coraz wyższy poziom zabawnego chaosu i nieskrępowanej\, wznoszącej się energii!  \nhttps://youtube.com/watch?v=6XoOxwPrMf8 \nNadal zakorzeniony w charakterystycznym dla zespołu podejściu opartym na pętlach\, nowy materiał zespołu jest bardziej ambitny pod względem pejzaży dźwiękowych i kompozycji utworów\, naturalnie przyjmując gęstsze\, bardziej teksturowane brzmienie z większą uwagą na atmosferę i napięcie. \nFFO • Battles\, Don Caballero\, The Mars Volta\, Lightning Bolt\, Tortoise\, Hella\, Tiny Fingers\, Zach Hill\, Russian Circles\, Explosions in the Sky\, Tera Melos \n• \n𝗠𝗮𝗴𝗶𝗰 𝗠𝗼𝗺𝗲𝗻𝘁𝘀 to post-emopunk z wykonaniu dwojga eks-członków post-pankowego 𝗛𝗮̈𝗻𝗱𝗲\, Ani i Grześka\, czyli minimalizm jak u 𝗛𝗶𝗴𝗶𝗲𝗻𝘆 plus czarujący wokal. \nPiosenki\, które wyciągną cię z łóżka w trudnym momencie i zabiorą na vegan ciastko i spacer. Nostalgiczna aura pełna płynących gitar napędzanych brzmieniem automatu perkusyjnego i unoszących się wysoko wokali. Idealna do tańczenia z kotem na rękach albo śpiewania pod prysznicem. Emoji z uśmiechniętą buźką ale też lekko smutną w tym samym czasie (opis @under_the_big_black_sun). \nhttps://youtube.com/playlist?list=OLAK5uy_nKBNP8n0HJj-4MXXiYy6MXG3x3yt1SBF4https://instagram.com/magicmomentspunx \n𝗣𝗮𝗿𝘁𝗻𝗲𝗿𝗸𝗶 𝗶 𝗽𝗮𝗿𝘁𝗻𝗲𝗿𝘇𝘆Ada PuławskaBloody CucumberEmpatia DistroHałasy i melodieHey Joe – sklep z płytamiPelagic RecordsRadio AktywneShoegazepl10 f.cking stars \nGDZIE: Ada Puławska / Puławska 37\, WarszawaKIEDY: 17 stycznia 2026\, drzwi 19:00\, koncerty 20:0050
URL:https://adapulawska.org/wydarzenie/nyos-fin-magic-moments-ada-svmerki-17-01-%e2%9c%a6-finski-nowy-rok/
LOCATION:ADA Puławska\, Puławska 37\, Warszawa\, 02-508\, Poland
ATTACH;FMTTYPE=image/jpeg:https://adapulawska.org/wp-content/uploads/2025/12/600229075_1520246193436963_5801640588020537050_n.jpg
ORGANIZER;CN="Svmerki":MAILTO:svmerki.soon@gmail.com
END:VEVENT
BEGIN:VEVENT
DTSTART;TZID=Europe/Warsaw:20260124T190000
DTEND;TZID=Europe/Warsaw:20260124T220000
DTSTAMP:20260422T004624
CREATED:20260103T131153Z
LAST-MODIFIED:20260103T131154Z
UID:15861-1769281200-1769292000@adapulawska.org
SUMMARY:OPEN SLUT! Queerowa scena otwarta na Adzie
DESCRIPTION:Nowy Rok\, nowe otwarcie – otwarcie sceny na Adzie!Chcesz spróbować swoich sił na scenie? Chcesz zaprezentować na scenie coś nowego? Chcesz popodziwiać i wesprzeć lokalną kulturę queerową? To wydarzenie jest dla Ciebie!24 stycznia 2026 roku kolektyw S.L.U.T. zaprasza na pierwsze wydarzenie z serii Open Slut. Będzie to okazja do pokazania się dla osób wykonujących szeroko rozumianą sztukę performatywną i okazja dla publiczności by zobaczyć młode talenty oraz premiery zupełnie nowych performensów! \nZgłoszenia przyjmujemy do godziny 23:59\, 3 stycznia 2026 roku. Jeśli chcesz wystąpić na naszej scenie\, zapoznaj się proszę z poniższym regulaminem: https://docs.google.com/document/d/1OCkb4iC-uNWUlEhtbd7Qy46mhPCmKv5vDA5jNvmno6A/edit?tab=t.0A następnie wypełnij ten formularz zgłoszeniowy: https://docs.google.com/forms/d/1N9a7Oc47xGNuFDuGiIFAHWKa1kF595cXTvGs_pjyaaE/edit?pli=1Wyniki naboru zostaną ogłoszone 6 stycznia 🙂 \nDo zobaczenia w nowym roku!
URL:https://adapulawska.org/wydarzenie/open-slut-queerowa-scena-otwarta-na-adzie/
LOCATION:ADA Puławska\, Puławska 37\, Warszawa\, 02-508\, Poland
ATTACH;FMTTYPE=image/jpeg:https://adapulawska.org/wp-content/uploads/2026/01/602417612_122206291052546709_7321461745755847544_n.jpg
END:VEVENT
BEGIN:VEVENT
DTSTART;TZID=Europe/Warsaw:20260129T190000
DTEND;TZID=Europe/Warsaw:20260129T213000
DTSTAMP:20260422T004624
CREATED:20260126T131926Z
LAST-MODIFIED:20260126T131926Z
UID:15897-1769713200-1769722200@adapulawska.org
SUMMARY:Zapraszamy na wspólny seans filmu dokumentalnego "Belkî Sibê: A Journey Through the Syrian War and Rojava Revolution" Alexisa Daloumisa
DESCRIPTION:W odpowiedzi na generalną mobilizację w Północno – Wschodniej Syrii\, Zachodnim Kurdystanie\, który doświadcza inwazji ze strony „nowego” dżihadystycznego reżimu\, w tę niedzielę odbyła się ogólnoświatową premiera dokumentu o walce i rewolucji Rojavy. \n\n\n\nParę miesięcy temu oglądałyśmy ten film i gościłyśmy reżysera\, Alexisa Daloumisa. Dziś\, w czasie ataków na Północno – Wschodnią Syrię\, chcemy wrócić do tego obrazu\, zwrócić uwagę na obecne wydarzenia i wyrazić solidarność z mieszkankami Rojavy i ich walką! \n\n\n\nJeśli nie możesz przyjść\, a chcesz wesprzeć sprawę zachęcamy do przekazywania datków na Kurdyjski Czerwony Półksiężyc\, poprzez zweryfikowaną przez kurdystan.info zrzutkę; https://zrzutka.pl/pdn9sy  \n\n\n\nBiji biji Rojava!
URL:https://adapulawska.org/wydarzenie/zapraszamy-na-wspolny-seans-filmu-dokumentalnego-belki-sibe-a-journey-through-the-syrian-war-and-rojava-revolution-alexisa-daloumisa/
LOCATION:ADA Puławska\, Puławska 37\, Warszawa\, 02-508\, Poland
ATTACH;FMTTYPE=image/jpeg:https://adapulawska.org/wp-content/uploads/2026/01/belki.jpeg
ORGANIZER;CN="Kolektyw ADA":MAILTO:kontakt@adapulawska.org
END:VEVENT
END:VCALENDAR