BEGIN:VCALENDAR
VERSION:2.0
PRODID:-//A.D.A. Puławska - ECPv6.15.20//NONSGML v1.0//EN
CALSCALE:GREGORIAN
METHOD:PUBLISH
X-WR-CALNAME:A.D.A. Puławska
X-ORIGINAL-URL:https://adapulawska.org
X-WR-CALDESC:Wydarzenia dla A.D.A. Puławska
REFRESH-INTERVAL;VALUE=DURATION:PT1H
X-Robots-Tag:noindex
X-PUBLISHED-TTL:PT1H
BEGIN:VTIMEZONE
TZID:Europe/Warsaw
BEGIN:DAYLIGHT
TZOFFSETFROM:+0100
TZOFFSETTO:+0200
TZNAME:CEST
DTSTART:20240331T010000
END:DAYLIGHT
BEGIN:STANDARD
TZOFFSETFROM:+0200
TZOFFSETTO:+0100
TZNAME:CET
DTSTART:20241027T010000
END:STANDARD
BEGIN:DAYLIGHT
TZOFFSETFROM:+0100
TZOFFSETTO:+0200
TZNAME:CEST
DTSTART:20250330T010000
END:DAYLIGHT
BEGIN:STANDARD
TZOFFSETFROM:+0200
TZOFFSETTO:+0100
TZNAME:CET
DTSTART:20251026T010000
END:STANDARD
BEGIN:DAYLIGHT
TZOFFSETFROM:+0100
TZOFFSETTO:+0200
TZNAME:CEST
DTSTART:20260329T010000
END:DAYLIGHT
BEGIN:STANDARD
TZOFFSETFROM:+0200
TZOFFSETTO:+0100
TZNAME:CET
DTSTART:20261025T010000
END:STANDARD
END:VTIMEZONE
BEGIN:VEVENT
DTSTART;TZID=Europe/Warsaw:20251203T190000
DTEND;TZID=Europe/Warsaw:20251203T210000
DTSTAMP:20260422T040955
CREATED:20251202T204654Z
LAST-MODIFIED:20251202T204654Z
UID:15764-1764788400-1764795600@adapulawska.org
SUMMARY:selfisz benefit// Palestine Cinema Days// Devils Claw
DESCRIPTION:Grafika od niezawodnej Izki https://www.instagram.com/devilsclaws/ na wsparcie Palestine Cinema Days 2025 \ndrukujemy czarną farbą\, format +/- A3 \ndla nieobecnych:https://selfisz.bigcartel.com/(aktywne do środy 03.12 16:00)////*Selfisz?To projekt poświęcony drukowaniu na tekstyliach.Instrukcja polega na tym że: my szykujemy grafikę\, Ty przynosisz swoje ubranie\, na którym nanosimy\, za pomocą techniki sitodruku\, ustalony wzór. Dzieje się to podczas jednego\, niepowtarzalnego wydarzenia.Uwaga!Rzeczy są przechowywane przez 2 miesiące.Po upływie tego czasu nie ma możliwości odbioru!UWAGA!NA NASZYM PODWÓRKU ORAZ W PRACOWNI OBOWIĄZUJE ZAKAZ ROBIENIA ZDJĘĆ I NAGRYWANIA FILMÓW
URL:https://adapulawska.org/wydarzenie/selfisz-benefit-palestine-cinema-days-devils-claw/
LOCATION:ADA Puławska\, Puławska 37\, Warszawa\, 02-508\, Poland
ATTACH;FMTTYPE=image/jpeg:https://adapulawska.org/wp-content/uploads/2025/12/589589448_1300022438837005_2966239797666229199_n.jpg
ORGANIZER;CN="V9":MAILTO:vlepvnet@gmail.com
END:VEVENT
BEGIN:VEVENT
DTSTART;TZID=Europe/Warsaw:20251206T200000
DTEND;TZID=Europe/Warsaw:20251206T230000
DTSTAMP:20260422T040955
CREATED:20251202T205011Z
LAST-MODIFIED:20251202T205014Z
UID:15775-1765051200-1765062000@adapulawska.org
SUMMARY:ANIMAL CROSSdressING / benefit na świnki / drag + djset / VUJO + Wilam + Babazebora
DESCRIPTION:PIGS IN SPACE x PTAKI Hitchcocka + ANACONDA mówi NIE\, ale to DRAG show!  \nW tzw Mikołajki zapraszamy Cię do zabawy i zbieramy kaskę na świnki z Azylu „Chrumkowo”! Pomóżcie nam nakarmić i ogrzać te kochane bbs ❤️ \nW planie występy od:*VUJO*Wilama*Babazebora \n*Lip sync battle do ANIMAListic songs z nagrodami – zgłoszenia na vujobookings@gmail.com piosenki:Survivor – Eye of the TigerJefferson Airplane – White Rabbit  \n*drag DJset by VUJO – vibes typu Klaudelizecore x Polish 2010s x brainrot bangers
URL:https://adapulawska.org/wydarzenie/animal-crossdressing-benefit-na-swinki-drag-djset-vujo-wilam-babazebora/
LOCATION:ADA Puławska\, Puławska 37\, Warszawa\, 02-508\, Poland
ATTACH;FMTTYPE=image/jpeg:https://adapulawska.org/wp-content/uploads/2025/12/585865109_122307744284007815_9135040918076080827_n.jpg
END:VEVENT
BEGIN:VEVENT
DTSTART;TZID=Europe/Warsaw:20251210T190000
DTEND;TZID=Europe/Warsaw:20251210T210000
DTSTAMP:20260422T040955
CREATED:20251209T190241Z
LAST-MODIFIED:20251209T190351Z
UID:15807-1765393200-1765400400@adapulawska.org
SUMMARY:selfisz benefit// fundacja RAP
DESCRIPTION:hejunia\,jak co roczek razem z watchdocsami zbieramy sianko na pieskipotem dajemy to sianko fundacji RAP bo oni wiedzą jak je profesjonalnie zamienić na szczęście i dobrostan różnych kajtków.grafikę zrobił legendarny Rafalą Dominikhttps://www.instagram.com/rafaldominik/kolor nadruku będzie czarny a rozmiar większy niż a4 i mniejszy niż a3 \nfundacja RAP:https://www.facebook.com/FundacjaRAP \ndla nieobecnych:https://selfisz.bigcartel.com/(aktywne do środy 10.12 16:00)////*Selfisz?To projekt poświęcony drukowaniu na tekstyliach.Instrukcja polega na tym że: my szykujemy grafikę\, Ty przynosisz swoje ubranie\, na którym nanosimy\, za pomocą techniki sitodruku\, ustalony wzór. Dzieje się to podczas jednego\, niepowtarzalnego wydarzenia.Uwaga!Rzeczy są przechowywane przez 2 miesiące.Po upływie tego czasu nie ma możliwości odbioru!UWAGA!NA NASZYM PODWÓRKU ORAZ W PRACOWNI OBOWIĄZUJE ZAKAZ ROBIENIA ZDJĘĆ I NAGRYWANIA FILMÓW
URL:https://adapulawska.org/wydarzenie/selfisz-benefit-fundacja-rap/
LOCATION:Galeria V9\, Puławska 37\, Warszawa\, 02-508\, Poland
ATTACH;FMTTYPE=image/jpeg:https://adapulawska.org/wp-content/uploads/2025/12/577062149_1307459004760015_6092057922893851025_n.jpg
ORGANIZER;CN="V9":MAILTO:vlepvnet@gmail.com
END:VEVENT
BEGIN:VEVENT
DTSTART;TZID=Europe/Warsaw:20251219T190000
DTEND;TZID=Europe/Warsaw:20251219T220000
DTSTAMP:20260422T040955
CREATED:20251202T205326Z
LAST-MODIFIED:20251202T205327Z
UID:15784-1766170800-1766181600@adapulawska.org
SUMMARY:FUNERAL NOISE -BENEFIT NA FUNERARIUM
DESCRIPTION:🦇Zapraszamy na wydarzenie Funeral Noise\, które będzie benefitem na Fundację Funerarium. 🦇 \n⚰️Fundacja podejmuje działania mające na celu przełamywanie ogólnospołecznego tabu dotyczącego śmierci\, umierania i procesu żałoby\, poprzez tworzenie przestrzeni do otwartej i merytorycznej dyskusji na ten temat. \n🎸Koncerty: EAT MY TEETH\, 25 Jesuses of Fear\, Animozja 19 grudnia 2025 (piątek)Bramki 19:00Start 20:00Ada Puławska\, Warszawa \n🦇Animozja (hc punk) \n🦇Animozja to świeża energia na scenie hardcore punka\, działająca w duchu DIY. Zespół narodził się w 2024 roku w krakowskim warsztacie\, gdzie ich styl ewoluował\,łącząc surowość hardcore punka z melancholijnymi postpunkowymi riffami i grungowym brudem. \n👁️🌀25 Jesuses of Fear (no band) \n👁️🌀25 Jesuses of Fear to eksperymentalna mieszanka deathrocka\, noise rocka i punka. Wyrażają sprzeciw wobec dehumanizującej mechaniczności współczesnego społeczeństwa. Tematy zagubienia w relacjach i bezradności wobec kultury przemocy przeplatają się tu z refleksjami na temat alienacji i wewnętrznego rozpadu. Senne halucynacje\, strach i przemoc tworzą gorączkową spiralę emocji i myśli. Gęste warstwy pogłosowych gitar\, posępne klawisze i hipnotyczna perkusja tworzą napiętą\, klaustrofobiczną atmosferę.  \n🦷EAT MY TEETH (anarcho-deathrock) \n🦷EAT MY TEETH to anarcho-deathrockowy skład z Warszawy założony pod koniec 2021 roku. Świeżo wygrzebani z ziemi punk-rockowcy wygrywają melodie przywołujące na myśl poruszaną wiatrem zardzewiałą cmentarną bramę\, okraszając to intensywnym scenicznym performansem.
URL:https://adapulawska.org/wydarzenie/funeral-noise-benefit-na-funerarium/
LOCATION:ADA Puławska\, Puławska 37\, Warszawa\, 02-508\, Poland
ATTACH;FMTTYPE=image/jpeg:https://adapulawska.org/wp-content/uploads/2025/12/583790360_122159243798781445_168872096048634233_n.jpg
END:VEVENT
END:VCALENDAR