BEGIN:VCALENDAR
VERSION:2.0
PRODID:-//A.D.A. Puławska - ECPv6.15.20//NONSGML v1.0//EN
CALSCALE:GREGORIAN
METHOD:PUBLISH
X-ORIGINAL-URL:https://adapulawska.org
X-WR-CALDESC:Wydarzenia dla A.D.A. Puławska
REFRESH-INTERVAL;VALUE=DURATION:PT1H
X-Robots-Tag:noindex
X-PUBLISHED-TTL:PT1H
BEGIN:VTIMEZONE
TZID:Europe/Warsaw
BEGIN:DAYLIGHT
TZOFFSETFROM:+0100
TZOFFSETTO:+0200
TZNAME:CEST
DTSTART:20240331T010000
END:DAYLIGHT
BEGIN:STANDARD
TZOFFSETFROM:+0200
TZOFFSETTO:+0100
TZNAME:CET
DTSTART:20241027T010000
END:STANDARD
BEGIN:DAYLIGHT
TZOFFSETFROM:+0100
TZOFFSETTO:+0200
TZNAME:CEST
DTSTART:20250330T010000
END:DAYLIGHT
BEGIN:STANDARD
TZOFFSETFROM:+0200
TZOFFSETTO:+0100
TZNAME:CET
DTSTART:20251026T010000
END:STANDARD
BEGIN:DAYLIGHT
TZOFFSETFROM:+0100
TZOFFSETTO:+0200
TZNAME:CEST
DTSTART:20260329T010000
END:DAYLIGHT
BEGIN:STANDARD
TZOFFSETFROM:+0200
TZOFFSETTO:+0100
TZNAME:CET
DTSTART:20261025T010000
END:STANDARD
END:VTIMEZONE
BEGIN:VEVENT
DTSTART;TZID=Europe/Warsaw:20250702T190000
DTEND;TZID=Europe/Warsaw:20250702T210000
DTSTAMP:20260422T124020
CREATED:20250702T081149Z
LAST-MODIFIED:20250702T081149Z
UID:15423-1751482800-1751490000@adapulawska.org
SUMMARY:selfisz 315// 6! Urodziny Radia Kapitał
DESCRIPTION:Radio Kapitał nadaje już 6 lat. Zapraszamy po urodzinową grafikę autorstwa Gosi Wrzosek i Zuzi Koftyhttps://www.instagram.com/gogogonia/https://www.instagram.com/zuzannakofta/ \nfarba zielona na jasne podłożaA4 \ndla nieobecnych:https://selfisz.bigcartel.com/(aktywne do środy 2.07 16:00)////*Selfisz?To projekt poświęcony drukowaniu na tekstyliach.Instrukcja polega na tym że: my szykujemy grafikę\, Ty przynosisz swoje ubranie\, na którym nanosimy\, za pomocą techniki sitodruku\, ustalony wzór. Dzieje się to podczas jednego\, niepowtarzalnego wieczoru.Uwaga!Rzeczy są przechowywane przez 2 miesiące.Po upływie tego czasu nie ma możliwości odbioru.
URL:https://adapulawska.org/wydarzenie/selfisz-315-6-urodziny-radia-kapital/
LOCATION:Galeria V9\, Puławska 37\, Warszawa\, 02-508\, Poland
ATTACH;FMTTYPE=image/jpeg:https://adapulawska.org/wp-content/uploads/2025/07/514118486_1170482871790963_6702713073694977563_n.jpg
ORGANIZER;CN="V9":MAILTO:vlepvnet@gmail.com
END:VEVENT
BEGIN:VEVENT
DTSTART;TZID=Europe/Warsaw:20250705T190000
DTEND;TZID=Europe/Warsaw:20250705T220000
DTSTAMP:20260422T124020
CREATED:20250702T081828Z
LAST-MODIFIED:20250702T081829Z
UID:15429-1751742000-1751752800@adapulawska.org
SUMMARY:Drag show by House of the Bills tylko że w Warszawie
DESCRIPTION:Warszawo\, słyszymy\, że się źle u Was dzieje. U nas też\, dlatego przychodzimy zrobić jeszcze większy chaos. Po toruńsku\, legendarnie.  \nThe Billki nadciągają z interwencją. Po ostatniej aferze prasowejuznałyśmy\, że skoro już jesteśmy „zagrożeniem dla moralności”\, to trzeba to wreszcie zrobić porządnie.  \nBędzie dużo wyuzdania\, dużo dobrego lipsyncu\, dużo nas i jeszcze więcej świecących penisów- uwaga na oczy\, bo zdążyły już oślepić nie jednego heteroseksualnego prawicowca. \nDo zobaczenia pod sceną – lub w kolejnym oświadczeniu prasowym. \n📍ADA Puławska\, Warszawa 🗓️ 5.07\, 19:00
URL:https://adapulawska.org/wydarzenie/drag-show-by-house-of-the-bills-tylko-ze-w-warszawie/
LOCATION:ADA Puławska\, Puławska 37\, Warszawa\, 02-508\, Poland
ATTACH;FMTTYPE=image/jpeg:https://adapulawska.org/wp-content/uploads/2025/07/500319224_717780241000596_86090135363478141_n.jpg
END:VEVENT
BEGIN:VEVENT
DTSTART;TZID=Europe/Warsaw:20250706T180000
DTEND;TZID=Europe/Warsaw:20250706T220000
DTSTAMP:20260422T124020
CREATED:20250706T100126Z
LAST-MODIFIED:20250706T100205Z
UID:15481-1751824800-1751839200@adapulawska.org
SUMMARY:Pokaz filmu „To Kill a War Machine” + dyskusja
DESCRIPTION:Od 2020 roku grupa bezpośredniego działaniaPalestine Action dokumentuje swoje brawurowe akcje oporu\, polegające na niszczeniu infrastruktury dostarczającej broń na potrzeby trwającego ludobójstwa w Gazie oraz innych operacji terrorystycznych prowadzonych przez IDF. Palestin Acion niedługo może być wpisana na listę grup terrorystycznych w Wlk Brytanii przez co film będzie „zakazany” w oficjalnym obiegu. \nNiezależni filmowcy z Rainbow Collective połączyli ten zbiór nagrań z narracją założycieli grupy\, aby przedstawić dynamiczny rozwój jednej z najbardziej skutecznych i konfrontacyjnych grup protestacyjnych na świecie\, a także reakcję\, z jaką muszą się mierzyć aktywiści\, gdy ściągają na siebie gniew brytyjskiego państwa oraz firm zbrojeniowych działających na jego terytorium. Czego efekt chcemy pokazać na powyższym wydarzeniu. \nPokaz będzie poprzedzony wprowadzeniem. Film jest w języku angielskim bez napisów. EDIT: JEDNAK Z POLSKIMI NAPISAMI! \nNa wydarzeniu będzie wystawiona pucha\, z której całość leci na kolektyw Kaktus\, wspierający Palestynczyków. \nBramka otwarta od 18.30 do 19.30. \nZachęcamy także do przynoszenia rzeczy potrzebnych na polskich granicach\, gdzie No Borders Team i inne ziomy ratują życie Osobom w drodze!Lista potrzebnych rzeczy\, które można przynieść w niedziele:  \nPowerbanki Kable do ładowania wszystkie rodzaje Telefony OctaniseptBandaże Termosy Suchy prowiant – batony proteinowe\, orzechy\, konserwy z długim terminem Herbaty Buty rozmiar 38-44 sportowe\, wygodne Ubrania damskie i męskie s-xxl letnie\, wiosenne. Kurtki przeciwdeszczowe Jednorazowe sztućce i miski Plecaki Śpiwory Karimaty Czołówki z czerwonym światłem
URL:https://adapulawska.org/wydarzenie/pokaz-filmu-to-kill-a-war-machine-dyskusja/
LOCATION:ADA Puławska\, Puławska 37\, Warszawa\, 02-508\, Poland
ATTACH;FMTTYPE=image/jpeg:https://adapulawska.org/wp-content/uploads/2025/07/515496143_1176198151203091_1549717942100381072_n.jpg
ORGANIZER;CN="ADA Pu%C5%82awska":MAILTO:kontakt@adapulawska.org
END:VEVENT
BEGIN:VEVENT
DTSTART;TZID=Europe/Warsaw:20250713T190000
DTEND;TZID=Europe/Warsaw:20250713T220000
DTSTAMP:20260422T124020
CREATED:20250605T165152Z
LAST-MODIFIED:20250702T084350Z
UID:15262-1752433200-1752444000@adapulawska.org
SUMMARY:Induktri (DK) / Shmer (SE) / Chujoza (PL) / Primitive (PL)
DESCRIPTION:Induktri – youth hardcore – Kopenhagahttps://induktri.bandcamp.com/album/d-t-t-g \nShmer – crust grind – Malmohttps://shmer.bandcamp.com/ \nChujoza – crust – Jelenia Górahttps://chujoza.bandcamp.com/album/niewolnicy \nPrimitive – noise punk – Częstochowa \nwięcej info wkrótce…
URL:https://adapulawska.org/wydarzenie/induktri-dk-shmer-se-chujoza-pl-primitive-pl/
LOCATION:ADA Puławska\, Puławska 37\, Warszawa\, 02-508\, Poland
CATEGORIES:koncert,muzyka
ATTACH;FMTTYPE=image/jpeg:https://adapulawska.org/wp-content/uploads/2025/06/494479535_1126740872815486_3176657410352427634_n.jpg
END:VEVENT
BEGIN:VEVENT
DTSTART;TZID=Europe/Warsaw:20250718T200000
DTEND;TZID=Europe/Warsaw:20250718T235900
DTSTAMP:20260422T124020
CREATED:20250702T082020Z
LAST-MODIFIED:20250702T082021Z
UID:15443-1752868800-1752883140@adapulawska.org
SUMMARY:Koncert: Putan Club / Jarzmo / Mój Wuj Aznavour / K. Murf
DESCRIPTION:Wpadajcie na koncert\, zaczynamy punktualnie o 20.00. Będzie klawo. To ostatni koncert przed naszą przerwą wakacyjną!
URL:https://adapulawska.org/wydarzenie/koncert-putan-club-jarzmo-moj-wuj-aznavour-k-murf/
LOCATION:ADA Puławska\, Puławska 37\, Warszawa\, 02-508\, Poland
ATTACH;FMTTYPE=image/jpeg:https://adapulawska.org/wp-content/uploads/2025/07/514640974_1174636524692587_5281007377135366161_n.jpg
ORGANIZER;CN="ADA Pu%C5%82awska":MAILTO:kontakt@adapulawska.org
END:VEVENT
END:VCALENDAR