BEGIN:VCALENDAR
VERSION:2.0
PRODID:-//A.D.A. Puławska - ECPv6.15.20//NONSGML v1.0//EN
CALSCALE:GREGORIAN
METHOD:PUBLISH
X-WR-CALNAME:A.D.A. Puławska
X-ORIGINAL-URL:https://adapulawska.org
X-WR-CALDESC:Wydarzenia dla A.D.A. Puławska
REFRESH-INTERVAL;VALUE=DURATION:PT1H
X-Robots-Tag:noindex
X-PUBLISHED-TTL:PT1H
BEGIN:VTIMEZONE
TZID:Europe/Warsaw
BEGIN:DAYLIGHT
TZOFFSETFROM:+0100
TZOFFSETTO:+0200
TZNAME:CEST
DTSTART:20240331T010000
END:DAYLIGHT
BEGIN:STANDARD
TZOFFSETFROM:+0200
TZOFFSETTO:+0100
TZNAME:CET
DTSTART:20241027T010000
END:STANDARD
BEGIN:DAYLIGHT
TZOFFSETFROM:+0100
TZOFFSETTO:+0200
TZNAME:CEST
DTSTART:20250330T010000
END:DAYLIGHT
BEGIN:STANDARD
TZOFFSETFROM:+0200
TZOFFSETTO:+0100
TZNAME:CET
DTSTART:20251026T010000
END:STANDARD
BEGIN:DAYLIGHT
TZOFFSETFROM:+0100
TZOFFSETTO:+0200
TZNAME:CEST
DTSTART:20260329T010000
END:DAYLIGHT
BEGIN:STANDARD
TZOFFSETFROM:+0200
TZOFFSETTO:+0100
TZNAME:CET
DTSTART:20261025T010000
END:STANDARD
END:VTIMEZONE
BEGIN:VEVENT
DTSTART;TZID=Europe/Warsaw:20250407T190000
DTEND;TZID=Europe/Warsaw:20250407T220000
DTSTAMP:20260422T175738
CREATED:20250319T134556Z
LAST-MODIFIED:20250319T134556Z
UID:14975-1744052400-1744063200@adapulawska.org
SUMMARY:Glamour Giveaway 2: wiosenne porządki w Twojej garderobie scenicznej!
DESCRIPTION:Zapraszamy na kolejną edycję wielkiej wymianki ciuchów i dodatków organizowaną specjalnie z myślą o osobach robiących drag i burleskę! \nNazbierało Ci się w domu sporo rzeczy\, które miały kiedyś być do jakiegoś perfo\, ale ostatecznie okazało się\, że zbierają tylko kurz? \nZaczynasz przygodę z dragiem/burleską i brakuje Ci WSZYSTKIEGO? \nTo wydarzenie jest dla Ciebie! \nZanim wyniesiecie stare ciuchy i dodatki na śmietnik\, zanim pójdziecie na zakupy – przyjdźcie na naszą wymiankę! Będzie można odświeżyć szafę\, oszczędzić pieniądze i planetę. Zachęcamy do przynoszenia wszystkiego\, co potrzebne do występowania na scenie: ubrań\, butów\, peruk\, biżuterii\, dodatków\, materiałów\, nietrafionych zakupów makijażowych. \nAle na tym nie koniec – będzie to też okazja\, aby poznać i wymienić się doświadczeniami z innymi osobami z dragowego i burleskowego środowiska. Networking to klucz do sukcesu w każdej branży\, a osoby\, które mają tę samą pasję\, to najlepszy materiał na nowych przyjaciół! \nZabierać można wszystko bez żadnych ograniczeń!Rzeczy\, które nie znajdą nowych właścicieli trafią do freeshopu na Adzie\, gdzie będą czekać na nowy dom. \nDo zobaczenia!
URL:https://adapulawska.org/wydarzenie/glamour-giveaway-2-wiosenne-porzadki-w-twojej-garderobie-scenicznej/
CATEGORIES:wymianka
ATTACH;FMTTYPE=image/jpeg:https://adapulawska.org/wp-content/uploads/2025/03/482079217_122146131038546709_5160046556208361280_n.jpg
END:VEVENT
BEGIN:VEVENT
DTSTART;TZID=Europe/Warsaw:20250426T180000
DTEND;TZID=Europe/Warsaw:20250426T210000
DTSTAMP:20260422T175738
CREATED:20250228T133139Z
LAST-MODIFIED:20250228T133139Z
UID:14893-1745690400-1745701200@adapulawska.org
SUMMARY:POGOda ducha - INDUSTRY\, OHYDA\, ALLARME\, SYFON // 26.04 ADA
DESCRIPTION:CONSTANT EAST 20 \nLudzie automaty i ludzie maszyny zapraszamy na koncert do mokotowskiej piwnicy. W programie rozmowy o jakości powietrza oraz oglądanie na instagramie rolek z dziedziny tofu science. Kwietniowe słońce przebija się przez smog?? Być może.. \nIndustry (Zimny anarchopunk z Berlina) \nNaszywka z pacyfką na twojej kostce nagle zaczyna się rozrastaćdo gigantycznych rozmiarów\, po chwili jest już tak duża\, że możesz na niej odlecieć daleko w poszukiwaniu jakiegoś skrawka ziemi gdzie zbudujesz dom i będziesz spokojnie żyć z dala od wybuchających bomb i innych strasznych rzeczy. Kiedy już ochłoniesz i akurat zrobisz sobie przerwę w budowaniu kompostownika pewnie zadasz sobie pytanie: kto jest odpowiedzialny za te czary? Otóż nie żaden czarodziej z siwą brodą tylko punkowy zespół Industry. Kiedy odpalasz ich płytę to automatycznie wpadają ci do głowy pomysły jak sprawdzić żeby doskonale naoliwione tryby systemu się zacięły albo jak odwrócić uwagę policjanta pilnującego gmachu rządowego i namalować na fasadzie anarchię oraz napis „władza won” Industry grają zimnego i przenikliwego panka z wyraźnymi wpływami 80sowej anarcho sceny z UK zatem jeśli lubisz pękający krzyż na okładce Exit Stance lub wczesne piwniczne nagrania Amebix to jest idealny moment żeby wpuścić czarną koszulę w czarne spodnie i stawić się w dwuszeregu pod sceną. Gitara na flangerze\, surowa szczerość i duży poziom desperacji. \nhttps://staticagemusik.bandcamp.com/album/industry-a-self-portrait-at-the-stage-of-totalitarian-domination-of-all-aspects-of-human-life \nOhyda (Halucynogenny Punk z Lublina) \nDiztort kommando dowodzone przez czarnego gandalfa. Ohyda powraca po krótkiej przerwie z nowym wokalem. Muzyczna hipnoza porównywalna dowrzucenia cegły do pralki lub zbierania potłuczonego szkła odkurzaczem. Trochę tak jakby ci się wylało piwo w pedalboardzie obklejonym naklejkami Lebenden Toten i Zouo. \nhttps://ohyda.bandcamp.com/album/pan-b-g-spe-ni-wszystkie-pragnienia-lewak-w-i-dojdzie-do-katastrofy \nAllarme (Love\, peace\, Noisewave Warszawa) \nJeśli twoim samochodem i domem zajęła się policja to dawaj szybko na Adę bo Allarme robi hałas. Pełno sprzężeń aż głowa boli do tego wijący się saksofon – jak lubisz szorowanie gitarą po betonie to oszalejesz ze szczęścia. Słychać dużo inspiracji niezależnym gitarowym graniem od Big Black i DNA po Brygadę Kryzys. Muzyka miasta gdy gasną latarnie i zapada mrok. \nhttps://batcaveproductions.bandcamp.com/album/allarme \nSyfon (Punk debiut Warszawa) \nNowy gazowany skład aż bąbelki idą nosem. \n26.04ADA PUŁAWSKA
URL:https://adapulawska.org/wydarzenie/pogoda-ducha-industry-ohyda-allarme-syfon-26-04-ada/
CATEGORIES:koncert
ATTACH;FMTTYPE=image/jpeg:https://adapulawska.org/wp-content/uploads/2025/02/480089795_598864826457286_7805111413962568034_n.jpg
END:VEVENT
BEGIN:VEVENT
DTSTART;TZID=Europe/Warsaw:20250430T190000
DTEND;TZID=Europe/Warsaw:20250430T210000
DTSTAMP:20260422T175738
CREATED:20250429T112711Z
LAST-MODIFIED:20250429T112711Z
UID:15076-1746039600-1746046800@adapulawska.org
SUMMARY:Selfisz 309 // marcjanna | botanical.forplay | PICCA Z MIŁOŚCIĄ
DESCRIPTION:witamy\ndwie grafiki od nowojorskiego pakietu: \nhttps://www.instagram.com/marcjanna/\nhttps://www.instagram.com/botanical.foreplay/ \npieces | marcjanna\nrozmiar: 33/33cm\nkolor nadruku: blak \nbabe |botanical.foreplay\nrozmiar: 39/25cm\nkolor nadruku: good ol’night \nUWAGA BĘDZIE PICCA Z PIECA OPALANEGO MIIŁOŚCIĄ \ndla nieobecnych:\nhttps://selfisz.bigcartel.com/\n(aktywne do środy 23.04\, 16:00)\n////\n*Selfisz?\nTo projekt poświęcony drukowaniu na tekstyliach.\nInstrukcja polega na tym że: my szykujemy grafikę\, Ty przynosisz swoje ubranie\, na którym nanosimy\, za pomocą techniki sitodruku\, ustalony wzór. Dzieje się to podczas jednego\, niepowtarzalnego wieczoru.\nUwaga!\nRzeczy są przechowywane przez 2 miesiące.\nPo upływie tego czasu nie ma możliwości odbioru
URL:https://adapulawska.org/wydarzenie/selfisz-309-marcjanna-botanical-forplay-picca-z-miloscia/
CATEGORIES:selfisz
ATTACH;FMTTYPE=image/jpeg:https://adapulawska.org/wp-content/uploads/2025/04/marcjanna.jpg
ORGANIZER;CN="V9":MAILTO:vlepvnet@gmail.com
END:VEVENT
END:VCALENDAR