BEGIN:VCALENDAR
VERSION:2.0
PRODID:-//A.D.A. Puławska - ECPv6.15.20//NONSGML v1.0//EN
CALSCALE:GREGORIAN
METHOD:PUBLISH
X-WR-CALNAME:A.D.A. Puławska
X-ORIGINAL-URL:https://adapulawska.org
X-WR-CALDESC:Wydarzenia dla A.D.A. Puławska
REFRESH-INTERVAL;VALUE=DURATION:PT1H
X-Robots-Tag:noindex
X-PUBLISHED-TTL:PT1H
BEGIN:VTIMEZONE
TZID:Europe/Warsaw
BEGIN:DAYLIGHT
TZOFFSETFROM:+0100
TZOFFSETTO:+0200
TZNAME:CEST
DTSTART:20240331T010000
END:DAYLIGHT
BEGIN:STANDARD
TZOFFSETFROM:+0200
TZOFFSETTO:+0100
TZNAME:CET
DTSTART:20241027T010000
END:STANDARD
BEGIN:DAYLIGHT
TZOFFSETFROM:+0100
TZOFFSETTO:+0200
TZNAME:CEST
DTSTART:20250330T010000
END:DAYLIGHT
BEGIN:STANDARD
TZOFFSETFROM:+0200
TZOFFSETTO:+0100
TZNAME:CET
DTSTART:20251026T010000
END:STANDARD
BEGIN:DAYLIGHT
TZOFFSETFROM:+0100
TZOFFSETTO:+0200
TZNAME:CEST
DTSTART:20260329T010000
END:DAYLIGHT
BEGIN:STANDARD
TZOFFSETFROM:+0200
TZOFFSETTO:+0100
TZNAME:CET
DTSTART:20261025T010000
END:STANDARD
END:VTIMEZONE
BEGIN:VEVENT
DTSTART;TZID=Europe/Warsaw:20250308T170000
DTEND;TZID=Europe/Warsaw:20250308T234500
DTSTAMP:20260422T194209
CREATED:20250205T215126Z
LAST-MODIFIED:20250307T124126Z
UID:14796-1741453200-1741477500@adapulawska.org
SUMMARY:LOVE PEACE NOISE - Allarme\, little man figurine\, Snakes Snakes Snakes - 8.03 - ADA Puławska
DESCRIPTION:L O V EP E A C EN O I S E Niech żyje hałas i brak słuchu \nAllarme (Wwa) \nPost-punk\, psychodelia\, hałas i trans. Ściany sprzężeń gitar\, dziki saksofon i połamane rytmy. Oto przepis na Allarme. Ogłuszenie w cenie koncertu. Ansambl zaprezentuje materiał z nadchodzącego LP. Peace\, Allarme out. \nYoutube – https://www.youtube.com/watch?v=nSKxdOlVdMMSpotify – https://open.spotify.com/album/3oXgpuopBCUIxIOQlb8Z9X?si=UIfpj2iTRG6PcdZHGlnEgA \nlittle man\, figurine (Rzeszów) \nlittle man\, figurine to pięcioosobowy zespół noise/post-rockowy z Rzeszowa. Powstał w 2023 roku z inicjatywy grupy przyjaciół ze szkoły średniej\, których łączy zamiłowanie do surowych\, eksperymentalnych pejzaży dźwiękowych. Ich muzyka to świeże spojrzenie na to\, co wcześniej definiowali tacy artyści jak Swans czy Unwound.Ich debiutancki singiel „Dazzle Camouflage” oddaje istotę zespołu\, łącząc chropowatość i piękno w sugestywnym miksie organicznych emocji przeplatanych kakofoniczną harmonią – lub harmonijną kakofonią. \nSNAKES SNAKES SNAKES (Łódź)3+1. Fuzz echo i syk. Wierzymy w distortion\, psychodelię i ironię. \nZespół powstał u schyłku 2021\, od tego czasu niezależnie gra i tworzy koncerty w Polsce i za granicą w nurcie DIY obracając się w klimatach psychodelii\, transu\, shoegazingu i post punku. W 2025 roku ukaże się ich debiutancki album pt. SYK\, którego owocem jest promujący go singiel \,\,Eyes” – kosmiczna podróż po przesterach\, fakturach i pogłosach. \n• Eyes na Youtube: https://www.youtube.com/watch?si=0_uUZujZWfrNVEW5&v=Pq19Xf0jz04&feature=youtu.be• Eyes na Spotify: https://open.spotify.com/track/2ckfj0Cd1pFiMQcLffwHuZ?si=DkJ8nv02SB-c7Wg4B1KGMg \nPo koncertach after manifowy o który zadba kolektyw NIEBEZPIECZNE BITY
URL:https://adapulawska.org/wydarzenie/love-peace-noise-allarme-little-man-figurine-snakes-snakes-snakes-8-03-ada-pulawska/
CATEGORIES:koncert,muzyka
ATTACH;FMTTYPE=image/jpeg:https://adapulawska.org/wp-content/uploads/2025/02/475647419_122175803084256001_4760269462634759557_n.jpg
END:VEVENT
BEGIN:VEVENT
DTSTART;TZID=Europe/Warsaw:20250315T190000
DTEND;TZID=Europe/Warsaw:20250315T220000
DTSTAMP:20260422T194209
CREATED:20250205T215047Z
LAST-MODIFIED:20250205T215047Z
UID:14798-1742065200-1742076000@adapulawska.org
SUMMARY:PALESTINE ACTION BENEFIT - TRÄUME\, MARIE LAVEAU\, USER\, MELUZYNA // 15.03 ADA
DESCRIPTION:CONSTANT EAST 19 \nGdy świat przestanie się zbroić\, a w wojsku zabraknie etatów\, broń oddamy do hut\, a trepów do domu wariatów. \nKoncert jest benefitem na Palestine Action – 100% ANTI WAR! \nhttps://www.palestineaction.org \nTRÄUME  \nLubisz Discharge albo horrory? a może wejpujesz i ostatnio na grzale mango ice? Traume przemieszcza się po świecie szybko jak nowe trendy na tiktoku zatem uważaj bo zaraz zagrają ci na śmietniku pod domem. Jest tu wszystko czego potrzeba do szczęścia: bęben solidny\, ciągnąca gitara no i ten wokal ach. Jest też bas oczywiście no ale co o basie napisać poza tym\, że basista kocha Spandau Ballet? \nhttps://traumepunk.bandcamp.com \nMARIE LAVEAU \nOglądasz czarno biały film na vhsie i nagle ekran rozbija ręka kościotrupa\, która łapie cię za fraki i wciąga do tajemniczego świata. To nie sen to nowa fala gotyckiego podziemia\, które w ostatnim czasie rozwija się błyskawicznie i zanim się obejrzysz w żabce będzie można kupić zestaw do makijażu albo koszulkę Siouxsie and the Banshees. Brzmieniowo jest surowo i posępnie jak w latach 80tych\, jest klawisz\, postawione pióra\, skrzek\, jęk i pisk. Nic tylko zrobić crowd surfing na trumnie. \nhttps://batcaveproductions.bandcamp.com/album/too-bad-youre-gone \nUSER \nJeśli zalewasz płatki śniadaniowe wybielaczem to się zakolegujecie ale uważaj żeby Ci nie wypalili wszystkich papierosów w 5 minut. Wściekły hardcore do czołgania się po podłodze. User to dzika banda schodząca z pola bitwy ostatnia. Jebać granice i wojny. Panki Hoj! \nMELUZYNA \nWężowa skóra\, drapiące gitary\, cmentarne wokale i tajemnicze zaklęcia to codzienność Meluzyny. Punk\, gotyk i zimna fala zagrana zadziornie i chropowato aż włosy stają dęba. Meluzna jest nieokiełznana i lepiej miej się na baczności. Kathleen Hanna poleca. \nhttps://www.youtube.com/watch?v=y0zJSicrt9Q \n15.03.25 (sobota)19:00ADA PUŁAWSKAPuławska 37\, Warszawa
URL:https://adapulawska.org/wydarzenie/palestine-action-benefit-traume-marie-laveau-user-meluzyna-15-03-ada/
CATEGORIES:benefit,koncert
ATTACH;FMTTYPE=image/jpeg:https://adapulawska.org/wp-content/uploads/2025/02/475522796_592361017107667_3622700807281921903_n.jpg
END:VEVENT
BEGIN:VEVENT
DTSTART;TZID=Europe/Warsaw:20250319T190000
DTEND;TZID=Europe/Warsaw:20250319T210000
DTSTAMP:20260422T194209
CREATED:20250319T134219Z
LAST-MODIFIED:20250319T134219Z
UID:14969-1742410800-1742418000@adapulawska.org
SUMMARY:Selfisz Open Call// Semo// Iza K
DESCRIPTION:Dobra\, wlatują obie. \nW głosowaniu zwyciężyła grafika Semo https://www.instagram.com/samoumevno/ (ta po lewej)\, ale ta druga od Izy K https://www.instagram.com/schiza.jpg/ przecież też fajna. \nTak że czym chata bogata i mi casa su casa. Zapraszamy na celebrację. \ninfo:Semorozmiar: A3kolor nadruku: bituminous \nIza Krozmiar: A3kolor nadruku: noir plaisir \nGrafy w szczególe do podglądu w dyskusji. \ndla nieobecnych:https://selfisz.bigcartel.com/(aktywne do środy 19.03\, 16:00)////*Selfisz?To projekt poświęcony drukowaniu na tekstyliach.Instrukcja polega na tym że: my szykujemy grafikę\, Ty przynosisz swoje ubranie\, na którym nanosimy\, za pomocą techniki sitodruku\, ustalony wzór. Dzieje się to podczas jednego\, niepowtarzalnego wieczoru.Uwaga!Rzeczy są przechowywane przez 2 miesiące.Po upływie tego czasu nie ma możliwości odbioru./////////////////////////////////////A.D.A. PUŁAWSKA to mieszczący się przy ulicy Puławskiej 37 w Warszawie Aktywny Dom Alternatywny\, pełniący funkcję autonomicznego centrum społeczno-kulturalnego.Swoją działalność opiera w całości na oddolnej aktywności społeczne
URL:https://adapulawska.org/wydarzenie/selfisz-open-call-semo-iza-k/
LOCATION:Galeria V9\, Puławska 37\, Warszawa\, 02-508\, Poland
CATEGORIES:selfisz
ATTACH;FMTTYPE=image/jpeg:https://adapulawska.org/wp-content/uploads/2025/03/482244908_1085335063639078_6564966963923528680_n.jpg
ORGANIZER;CN="V9":MAILTO:vlepvnet@gmail.com
END:VEVENT
BEGIN:VEVENT
DTSTART;TZID=Europe/Warsaw:20250328T170000
DTEND;TZID=Europe/Warsaw:20250328T190000
DTSTAMP:20260422T194209
CREATED:20250324T121346Z
LAST-MODIFIED:20250324T121346Z
UID:15017-1743181200-1743188400@adapulawska.org
SUMMARY:Obiady u Ady
DESCRIPTION:Jak co piątek o 17:00 zapraszamy na darmowy\, ciepły\, wegański obiad wszystkich chętnych Mokotowian i nie tylko. Do zobaczenia! \nA.D.A. zaprasza wszystkie osoby\, które mają potrzebę wspólnego ciepłego obiadu: sąsiadki i sąsiadów\, osoby w kryzysie\, osoby starsze\, koleżanki i kolegów. Kuchnia wegańska i sycąca.  \n• Jeśli możesz przyjdź ze swoim pojemnikiem\n• Jedzenie możesz zjeść u nas na patio lub zabrać ze sobą\n• Jedzenie jest za darmo\, ale jeśli nie masz problemów finansowych możesz się dorzucić \nA.D.A. Puławska to przestrzeń wolna od wykluczenia i dyskryminacji
URL:https://adapulawska.org/wydarzenie/obiady-u-ady-10/
CATEGORIES:jedzonko
ATTACH;FMTTYPE=image/png:https://adapulawska.org/wp-content/uploads/2024/12/obiady_u_ady1.png
END:VEVENT
BEGIN:VEVENT
DTSTART;TZID=Europe/Warsaw:20250329T190000
DTEND;TZID=Europe/Warsaw:20250329T220000
DTSTAMP:20260422T194209
CREATED:20250324T121729Z
LAST-MODIFIED:20250324T121729Z
UID:15020-1743274800-1743285600@adapulawska.org
SUMMARY:Unicorn Partisans\, Demolka\, Kowelskie Psy // 29.03 ADA
DESCRIPTION:Unicorn Partisans – discopunk vs. technocrust from Berlin (DE)https://unicornpartisans.net/wpsite/ \nDemolka – electro punks from Lodz (PL)https://www.facebook.com/Demolkaduet/?locale=pl_PL \nKowelskie Psy – electropunk/darkwave duo from Warszawa (PL)https://www.instagram.com/kvldgs/ \nPoster: helen_hurtshttps://www.instagram.com/helen_hurts/ \n29.03.25 (sobota)19:00ADA PUŁAWSKAPuławska 37\, Warszawa
URL:https://adapulawska.org/wydarzenie/unicorn-partisans-demolka-kowelskie-psy-29-03-ada/
CATEGORIES:koncert
ATTACH;FMTTYPE=image/jpeg:https://adapulawska.org/wp-content/uploads/2025/03/480810582_3247829018692227_8760812016507625676_n.jpg
END:VEVENT
END:VCALENDAR