BEGIN:VCALENDAR
VERSION:2.0
PRODID:-//A.D.A. Puławska - ECPv6.15.20//NONSGML v1.0//EN
CALSCALE:GREGORIAN
METHOD:PUBLISH
X-ORIGINAL-URL:https://adapulawska.org
X-WR-CALDESC:Wydarzenia dla A.D.A. Puławska
REFRESH-INTERVAL;VALUE=DURATION:PT1H
X-Robots-Tag:noindex
X-PUBLISHED-TTL:PT1H
BEGIN:VTIMEZONE
TZID:Europe/Warsaw
BEGIN:DAYLIGHT
TZOFFSETFROM:+0100
TZOFFSETTO:+0200
TZNAME:CEST
DTSTART:20240331T010000
END:DAYLIGHT
BEGIN:STANDARD
TZOFFSETFROM:+0200
TZOFFSETTO:+0100
TZNAME:CET
DTSTART:20241027T010000
END:STANDARD
BEGIN:DAYLIGHT
TZOFFSETFROM:+0100
TZOFFSETTO:+0200
TZNAME:CEST
DTSTART:20250330T010000
END:DAYLIGHT
BEGIN:STANDARD
TZOFFSETFROM:+0200
TZOFFSETTO:+0100
TZNAME:CET
DTSTART:20251026T010000
END:STANDARD
BEGIN:DAYLIGHT
TZOFFSETFROM:+0100
TZOFFSETTO:+0200
TZNAME:CEST
DTSTART:20260329T010000
END:DAYLIGHT
BEGIN:STANDARD
TZOFFSETFROM:+0200
TZOFFSETTO:+0100
TZNAME:CET
DTSTART:20261025T010000
END:STANDARD
END:VTIMEZONE
BEGIN:VEVENT
DTSTART;TZID=Europe/Warsaw:20250205T190000
DTEND;TZID=Europe/Warsaw:20250205T210000
DTSTAMP:20260422T214107
CREATED:20250204T214554Z
LAST-MODIFIED:20250205T214647Z
UID:14786-1738782000-1738789200@adapulawska.org
SUMMARY:Selfisz 300// pavel.pistoletto
DESCRIPTION:selfisz numer trehunna.uderza:https://www.instagram.com/pavel.pistoletto/https://www.instagram.com/pavel.pistoletto/https://www.instagram.com/pavel.pistoletto/https://www.instagram.com/pavel.pistoletto/ \nkolor nadruku: sunbathed greenrozmiar 28/28 cmdla nieobecnych:https://selfisz.bigcartel.com/(aktywne do środy 05.02\, 16:00)////*Selfisz?To projekt poświęcony drukowaniu na tekstyliach.Instrukcja polega na tym że: my szykujemy grafikę\, Ty przynosisz swoje ubranie\, na którym nanosimy\, za pomocą techniki sitodruku\, ustalony wzór. Dzieje się to podczas jednego\, niepowtarzalnego wieczoru.Uwaga!Rzeczy są przechowywane przez 2 miesiące.Po upływie tego czasu nie ma możliwości odbioru./////////////////////////////////////A.D.A. PUŁAWSKA to mieszczący się przy ulicy Puławskiej 37 w Warszawie Aktywny Dom Alternatywny\, pełniący funkcję autonomicznego centrum społeczno-kulturalnego.Swoją działalność opiera w całości na oddolnej aktywności społeczne
URL:https://adapulawska.org/wydarzenie/selfisz-300-pavel-pistoletto/
CATEGORIES:selfisz
ATTACH;FMTTYPE=image/jpeg:https://adapulawska.org/wp-content/uploads/2025/02/474874698_1051427807029804_4178402279680665205_n.jpg
ORGANIZER;CN="V9":MAILTO:vlepvnet@gmail.com
END:VEVENT
BEGIN:VEVENT
DTSTART;TZID=Europe/Warsaw:20250207T170000
DTEND;TZID=Europe/Warsaw:20250207T190000
DTSTAMP:20260422T214107
CREATED:20250205T215323Z
LAST-MODIFIED:20250205T215323Z
UID:14808-1738947600-1738954800@adapulawska.org
SUMMARY:Obiady u Ady
DESCRIPTION:Jak co piątek o 17:00 zapraszamy na darmowy\, ciepły\, wegański obiad wszystkich chętnych Mokotowian i nie tylko. Do zobaczenia! \nA.D.A. zaprasza wszystkie osoby\, które mają potrzebę wspólnego ciepłego obiadu: sąsiadki i sąsiadów\, osoby w kryzysie\, osoby starsze\, koleżanki i kolegów. Kuchnia wegańska i sycąca.  \n• Jeśli możesz przyjdź ze swoim pojemnikiem\n• Jedzenie możesz zjeść u nas na patio lub zabrać ze sobą\n• Jedzenie jest za darmo\, ale jeśli nie masz problemów finansowych możesz się dorzucić \nA.D.A. Puławska to przestrzeń wolna od wykluczenia i dyskryminacji
URL:https://adapulawska.org/wydarzenie/obiady-u-ady-8/
CATEGORIES:jedzonko
ATTACH;FMTTYPE=image/png:https://adapulawska.org/wp-content/uploads/2024/12/obiady_u_ady1.png
END:VEVENT
BEGIN:VEVENT
DTSTART;TZID=Europe/Warsaw:20250208T190000
DTEND;TZID=Europe/Warsaw:20250208T220000
DTSTAMP:20260422T214108
CREATED:20250124T171220Z
LAST-MODIFIED:20250124T171220Z
UID:14737-1739041200-1739052000@adapulawska.org
SUMMARY:PRZYJAŹŃ TO MAGIA  |  PISUAR / DEATHKNELL / RUNAWAY DEVILS  |  BENEFIT NA KOLEKTY PRZYJAŹŃ
DESCRIPTION:Kiedy?8 | 02 | 2025Gdzie?Ada PuławskaBramki 19:00 | Noise 20:00 \nMyślisz że kryzys mieszkaniowy to poważna sprawa? Nie podoba ci się jak policja nielegalnie wyrzuca ludzi z domów? Uważasz\, że ataki nazioli\, niezależnie jak nieudolne są całkiem nie okay? Po prostu nie lubisz Trzaskowskiego i jego ferajny? A może chcesz przy*ierdolić komuś słuchając piwniczanej muzyki? \nJeżeli pozytywnie odpowiedziałaś na jedno lub więcej z wyżej wymienionych pytań to serdecznie zapraszamy cię na benefit dla Kolektywu Przyjaźń! Walczymy z tymi problemami już od dłuższej chwili i nie przestaniemy. \nKto dla nas zagra? \nPisuar \nKilka wziętych chwilówek tylko pogorszyło twoją reputację wśród ludzi\, z którymi pracujesz? Kierowca autobusu znowu zamknął ci drzwi przed nosem? Rodzina bez przerwy pyta kiedy ślub? Odgrzany w piecyku weger znowu był zimny? To wszystko jest ok. Jedzenie nie musi wyglądać jak z rolki na instagramie a z większością ludzi i tak się nigdy nie dogadasz. Przestań gonić za czymś czego nigdy nie dotkniesz. Dołącz do społeczności – Jest jeszcze życie A nie muzyka Jesteś jeszcze ty!https://www.instagram.com/pisua_r?igsh=dWYwbGVlNms3M2Fthttps://pisuar.bandcamp.com/ \nDeahknell (slut metal) \nKamień został podniesiony i wypełzły nowe karaluchy na stołeczną mapę punk. Deathknell mają logo\, którego nie jesteś w stanie rozczytać\, co powinno cię nakierować\, co jest grane. Rzuć się w ciemność tej popielniczki i daj sehttps://www.instagram.com/deathknell_slut?igsh=NnkzdGUzeDFkcWRj \nRunaway devils (Black Raw’n roll) \nTo zespół czterech wiedźm z Łodzi grająca Black Raw’n roll. Ich muzyka wyłania się z mroku\, a wypełniona jest emocjami. Inspiracje wywodzą się z dungeon synthu\, punk rocka\, dsbm’u oraz klasycznego black metalu\, lecz naszą myślą przewodnią jest to że nie ograniczamy się wcale. \nRaw to nie piękne\, wyidealizowane brzmienia. To dźwięki pochodzące z naszej duszy. Często mroczne\, przeplatane surową energią i spontanicznością. To wolność w ekspresji\, wydana w formie oldschool muzyki.https://www.instagram.com/runaway_devils?igsh=Z2gybzJrdDNtcGUw
URL:https://adapulawska.org/wydarzenie/przyjazn-to-magia-pisuar-deathknell-runaway-devils-benefit-na-kolekty-przyjazn/
CATEGORIES:benefit,muzyka
ATTACH;FMTTYPE=image/jpeg:https://adapulawska.org/wp-content/uploads/2025/01/474733108_122135260808428702_6499185496464808330_n.jpg
END:VEVENT
BEGIN:VEVENT
DTSTART;TZID=Europe/Warsaw:20250212T190000
DTEND;TZID=Europe/Warsaw:20250212T210000
DTSTAMP:20260422T214108
CREATED:20250210T183627Z
LAST-MODIFIED:20250210T183627Z
UID:14829-1739386800-1739394000@adapulawska.org
SUMMARY:Selfisz 301// dissenso.cognitivo
DESCRIPTION:W najbliższą środę proponujemy studium alienozy baldaszkowatej zaobserwowanej przez adiunkta Dissenso Cognitivo https://www.instagram.com/dissenso.cognitivo/ \nDrukujemy farbą czarną. wymiary 25×18 cm. \ndla nieobecnych:https://selfisz.bigcartel.com/(aktywne do środy 12.02\, 16:00) \n////*Selfisz?To projekt poświęcony drukowaniu na tekstyliach.Instrukcja polega na tym że: my szykujemy grafikę\, Ty przynosisz swoje ubranie\, na którym nanosimy\, za pomocą techniki sitodruku\, ustalony wzór. Dzieje się to podczas jednego\, niepowtarzalnego wieczoru.Uwaga!Rzeczy są przechowywane przez 2 miesiące.Po upływie tego czasu nie ma możliwości odbioru./////////////////////////////////////A.D.A. PUŁAWSKA to mieszczący się przy ulicy Puławskiej 37 w Warszawie Aktywny Dom Alternatywny\, pełniący funkcję autonomicznego centrum społeczno-kulturalnego.Swoją działalność opiera w całości na oddolnej aktywności społeczne
URL:https://adapulawska.org/wydarzenie/selfisz-301-dissenso-cognitivo/
LOCATION:Galeria V9\, Puławska 37\, Warszawa\, 02-508\, Poland
CATEGORIES:selfisz
ATTACH;FMTTYPE=image/jpeg:https://adapulawska.org/wp-content/uploads/2025/02/477028522_1056791236493461_5046298677786676738_n.jpg
ORGANIZER;CN="V9":MAILTO:vlepvnet@gmail.com
END:VEVENT
BEGIN:VEVENT
DTSTART;TZID=Europe/Warsaw:20250214T160000
DTEND;TZID=Europe/Warsaw:20250228T150000
DTSTAMP:20260422T214108
CREATED:20250228T140503Z
LAST-MODIFIED:20250228T140503Z
UID:14913-1739548800-1740754800@adapulawska.org
SUMMARY:Selfisz Open Call 2025
DESCRIPTION:Cześć\,Zapraszamy do udziału w selfiszowym opencallu. Prace zbieramy do 28.02.2025 15:00 \nPierwszą grafikę wybiera niezawisłe jury kuratorsko szpącące V9 gallery. Druk przewidujemy na 05.03.2025 \nDrugą grafikę wybiera\, spośród dwóch wytypowanych przez wyżej wymienione jury\, społeczeństwo w instagramowym głosowaniu. Druk przewidujemy na 12.03.2025 \nWYTYCZNE:pdf\, 300 dpijeden kolorformat max a3+ \nProjekty należy wysyłać na selfiszopencall@gmail.comNa prace wysłane gdzie indziej nie spodziewaj się reakcji! \nProsimy o wysyłanie prac jako załącznik w wiadomości.Linki do plików w chmurze nie będą otwierane. \nProsimy o podanie jakiegoś linku do siebie w celu oznaczania w późniejszym procesie. \nJeśli przesyłasz nam swoje grafiki to oznacza ze udzielasz nam zgody do wykorzystania ich w projekcie selfisz!
URL:https://adapulawska.org/wydarzenie/selfisz-open-call-2025/
CATEGORIES:selfisz
ATTACH;FMTTYPE=image/jpeg:https://adapulawska.org/wp-content/uploads/2025/02/479694957_1059775572861694_2734341263350197048_n.jpg
ORGANIZER;CN="V9":MAILTO:vlepvnet@gmail.com
END:VEVENT
BEGIN:VEVENT
DTSTART;TZID=Europe/Warsaw:20250214T170000
DTEND;TZID=Europe/Warsaw:20250214T190000
DTSTAMP:20260422T214108
CREATED:20250210T184045Z
LAST-MODIFIED:20250210T184045Z
UID:14839-1739552400-1739559600@adapulawska.org
SUMMARY:Obiady u Ady
DESCRIPTION:Jak co piątek o 17:00 zapraszamy na darmowy\, ciepły\, wegański obiad wszystkich chętnych Mokotowian i nie tylko. Do zobaczenia! \nA.D.A. zaprasza wszystkie osoby\, które mają potrzebę wspólnego ciepłego obiadu: sąsiadki i sąsiadów\, osoby w kryzysie\, osoby starsze\, koleżanki i kolegów. Kuchnia wegańska i sycąca.  \n• Jeśli możesz przyjdź ze swoim pojemnikiem\n• Jedzenie możesz zjeść u nas na patio lub zabrać ze sobą\n• Jedzenie jest za darmo\, ale jeśli nie masz problemów finansowych możesz się dorzucić \nA.D.A. Puławska to przestrzeń wolna od wykluczenia i dyskryminacji
URL:https://adapulawska.org/wydarzenie/obiady-u-ady-9/
CATEGORIES:jedzonko
ATTACH;FMTTYPE=image/png:https://adapulawska.org/wp-content/uploads/2024/12/obiady_u_ady1.png
END:VEVENT
BEGIN:VEVENT
DTSTART;TZID=Europe/Warsaw:20250222T190000
DTEND;TZID=Europe/Warsaw:20250222T220000
DTSTAMP:20260422T214108
CREATED:20250122T161741Z
LAST-MODIFIED:20250122T161741Z
UID:14726-1740250800-1740261600@adapulawska.org
SUMMARY:NO EMO WITHOUT VIOLENCE: Sow the seed\, reap the fear + Mistral + Arizona Ghost Radio
DESCRIPTION:𝐍𝐨 𝐞𝐦𝐨 𝐰𝐢𝐭𝐡𝐨𝐮𝐭 𝐯𝐢𝐨𝐥𝐞𝐧𝐜𝐞: 𝐒𝐨𝐰 𝐭𝐡𝐞 𝐬𝐞𝐞𝐝\, 𝐫𝐞𝐚𝐩 𝐭𝐡𝐞 𝐟𝐞𝐚𝐫 [𝐞𝐦𝐨𝐜𝐫𝐮𝐬𝐭] + 𝐌𝐢𝐬𝐭𝐫𝐚𝐥 [𝐛𝐥𝐚𝐜𝐤𝐠𝐚𝐳𝐞] + 𝐀𝐫𝐢𝐳𝐨𝐧𝐚 𝐆𝐡𝐨𝐬𝐭 𝐑𝐚𝐝𝐢𝐨 [𝐞𝐦𝐨𝐯𝐢𝐨𝐥𝐞𝐧𝐜𝐞]📅 𝐃𝐚𝐭𝐚: 22.02.2025📍 𝐌𝐢𝐞𝐣𝐬𝐜𝐞: ADA Puławska \nTrzy zespoły\, zero przebaczenia. Nie ma miejsca na ciszę\, kompromisy i ładne śpiewanie\, łamiemy serca i łamiemy nogi. Tu muzyka to katharsis\, chaos to metoda\, a każdy\, kto wchodzi pod scenę jest częścią załogi. Koncert DIY robiony z pasji\, bez żadnej kalkulacji. \nWjazd to tylko 20 złotych\, bo scena jest dla każdego. Chcemy\, żeby wszyscy mogli uczestniczyć w naszym koncercie i żeby więcej dzieciaków mogło zajarać się punkiem.Niepełnoletni wjazd za darmo. \nZagrają:💀 𝐒𝐨𝐰 𝐭𝐡𝐞 𝐬𝐞𝐞𝐝\, 𝐫𝐞𝐚𝐩 𝐭𝐡𝐞 𝐟𝐞𝐚𝐫 [emocrust]Trio\, które nie szuka pocieszenia\, a ich muzyka to echo zmiażdżonych nadziei. D-beat\, screamy\, breakdowny i smutne melodyjki.🎧 https://youtu.be/baiqd8OlJtk?si=D_0u5PMLT1WzatmtFFO: Fall of Efrafa\, Orchid \n💀 𝐌𝐢𝐬𝐭𝐫𝐚𝐥 [blackgaze]Ściana dźwięku\, która tłamsi wszystko\, co żywe. Zimna pustka w każdym akordzie. Muzyka\, która zostawia po sobie tylko dławiącą ciszę.🎧 https://open.spotify.com/track/38jkHdy1ANuZqriZpVZxoK?si=_-NZEZPXTPq0yyAWnJKQxQFFO: Alcest\, Deafheaven \n💀 𝐀𝐫𝐢𝐳𝐨𝐧𝐚 𝐆𝐡𝐨𝐬𝐭 𝐑𝐚𝐝𝐢𝐨 [emoviolence]Debiut sceniczny porozumienia makowsko-zielonkowego. Świeże emoviolence tworzone przez ludzi znanych z Trujących Kwiatów\, Kartografii\, Long Time No Talk\, Kartografii 2\, Malk i Kartografii 3.🎧 Jeszcze nie ma :((FFO: Jeromes Dream\, 2000s screamo
URL:https://adapulawska.org/wydarzenie/no-emo-without-violence-sow-the-seed-reap-the-fear-mistral-arizona-ghost-radio/
CATEGORIES:koncert,muzyka
ATTACH;FMTTYPE=image/jpeg:https://adapulawska.org/wp-content/uploads/2025/01/473386680_122133212996425794_4963494557996966191_n.jpg
END:VEVENT
BEGIN:VEVENT
DTSTART;TZID=Europe/Warsaw:20250226T190000
DTEND;TZID=Europe/Warsaw:20250226T210000
DTSTAMP:20260422T214108
CREATED:20250225T140024Z
LAST-MODIFIED:20250228T140320Z
UID:14910-1740596400-1740603600@adapulawska.org
SUMMARY:Selfisz 303// Robrche
DESCRIPTION:tak czy siak człapu człap.\nna salonach z pażdzierzową podłogą nasz człowiek z Francji https://www.instagram.com/robrche/\nbez dylematów tym razem\, farba siada na jasne i ciemne.\nrozmiar: 29.5×31 cm\nkolor nadruku: moss grind\ndla nieobecnych:\nhttps://selfisz.bigcartel.com/\n(aktywne do środy 26.02\, 16:00) \n////\n*Selfisz?\nTo projekt poświęcony drukowaniu na tekstyliach.\nInstrukcja polega na tym że: my szykujemy grafikę\, Ty przynosisz swoje ubranie\, na którym nanosimy\, za pomocą techniki sitodruku\, ustalony wzór. Dzieje się to podczas jednego\, niepowtarzalnego wieczoru.\nUwaga!\nRzeczy są przechowywane przez 2 miesiące.\nPo upływie tego czasu nie ma możliwości odbioru.\n/////////////////////////////////////
URL:https://adapulawska.org/wydarzenie/selfisz-303-robrche/
CATEGORIES:selfisz
ATTACH;FMTTYPE=image/jpeg:https://adapulawska.org/wp-content/uploads/2025/02/480963435_1065340708971847_7509149346414190185_n.jpg
ORGANIZER;CN="V9":MAILTO:vlepvnet@gmail.com
END:VEVENT
BEGIN:VEVENT
DTSTART;TZID=Europe/Warsaw:20250228T190000
DTEND;TZID=Europe/Warsaw:20250228T220000
DTSTAMP:20260422T214108
CREATED:20250108T200609Z
LAST-MODIFIED:20250205T214803Z
UID:14564-1740769200-1740780000@adapulawska.org
SUMMARY:TYLKO TEN PUNK - CHAIN CULT (GR)\, NATURES MORTES\, PRORVA\, KOÑ // 28.02 ADA
DESCRIPTION:CONSTANT EAST 17 \nJEST BEZPIECZNIE\, JEST SPOKOJNIE\, USTA TAK KRWAWE\, SŁOWA BEZDOMNE \nI TYLKO TEN PUNK OOOOoooOOOooOOooOOOOOoo \nBudzimy się pomału ze snu zimowego i w nowy rok wchodzimy w smutnych nastrojach\, bo z czego mamy się cieszyć w tym ponurym kraju. Z tej okazji na dwa koncerty przylatują do nas herosi greckiego post punka w doborowym towarzystwie. Witamy słońce i żegnamy szarą Warszawę w najlepszej stołecznej piwnicy: \nChain Cult (Hellenistyczny post punk / Ateny)  \nHomer pisał na kartach Iliady\, że Chain Cult to świetny zespół no i się nie mylił. To są hymny nie piosenki\, wszystko jest dokładnie wyliczone i zgadza jak w porządku korynckim. Jeśli pochodzisz z kolebki cywilizacji i świat zawdzięcza ci w dużym skrócie ukształtowanie europejskiej kultury a ty widzisz jak to wszystko co twoi przodkowie zbudowali zostaje rozjebane przez jakichś chciwych miliarderów\, korporacje i tym podobne obrzydlistwa to musi być ci bardzo smutno. Jest kilka wyjść z tej pieprzonej sytuacji a jednym z nich jest przekłucie frustracji w muzykę i to właśnie ta trójka postanowiła zrobić. Muzyka Chain Cult jest chwytająca za serce i wręcz zagrzewająca do walki o lepsze jutro. To jest zespół co wykuł swoje brzmienie i konsekwentnie podąża obraną drogą a ich ostatnia płyta „Harm Reductor” jest tego idealnym przykładem. Można pisać\, że słychać tutaj Blitz z „Second Empire Justice” albo inne klasyki ale to niepotrzebne zupełnie bo ta płyta to jest właśnie klasyk a nawet kanon współczesnego Post Punka granego na dużym panku. \nhttps://chaincult.bandcamp.com/album/shallow-grave \nNatures Mortes (post punk – Warszawa/Poznań)  \nGotycki renesans trwa w najlepsze\, nietoperze latają nisko i zabierają policjantom pałki oraz srają na nazioli. Jeśli pierwsze o czym myślisz po przebudzeniu to żeby posłuchać 45 Grave albo pomalować sobie twarz na biało to jesteś w dobrej alejce na cmentarzu. Natures Mortes to Death Rock idealny do rozkopywania grobów i palenia świec. \nhttps://batcaveproductions.bandcamp.com/album/bruises \nProrva (melancholia punk – Warszawa) \nŁobuz kocha najbardziej. Prorva gra melancholijny punk albo post punk\, jak kto woli. Wyobraź sobie\, że jest wieczór a ty w krótkich spodenkach moro i koszulce Camera Silens siedzisz na nasypie kolejowym\, pijesz piwko i jesz słonecznika. \nhttps://prorva.bandcamp.com/album/recha \nKOÑ – debiut post punk lokalni oi! \n28.02.25 (piątek)19:00ADA PuławskaPuławska 37\, Warszawa
URL:https://adapulawska.org/wydarzenie/tylko-ten-punk-chain-cult-gr-natures-mortes-prorva-kon-28-02-ada/
CATEGORIES:koncert,muzyka
ATTACH;FMTTYPE=image/jpeg:https://adapulawska.org/wp-content/uploads/2025/01/474618377_580847684925667_5529189993565166310_n.jpg
END:VEVENT
END:VCALENDAR