BEGIN:VCALENDAR
VERSION:2.0
PRODID:-//A.D.A. Puławska - ECPv6.15.20//NONSGML v1.0//EN
CALSCALE:GREGORIAN
METHOD:PUBLISH
X-ORIGINAL-URL:https://adapulawska.org
X-WR-CALDESC:Wydarzenia dla A.D.A. Puławska
REFRESH-INTERVAL;VALUE=DURATION:PT1H
X-Robots-Tag:noindex
X-PUBLISHED-TTL:PT1H
BEGIN:VTIMEZONE
TZID:Europe/Warsaw
BEGIN:DAYLIGHT
TZOFFSETFROM:+0100
TZOFFSETTO:+0200
TZNAME:CEST
DTSTART:20240331T010000
END:DAYLIGHT
BEGIN:STANDARD
TZOFFSETFROM:+0200
TZOFFSETTO:+0100
TZNAME:CET
DTSTART:20241027T010000
END:STANDARD
BEGIN:DAYLIGHT
TZOFFSETFROM:+0100
TZOFFSETTO:+0200
TZNAME:CEST
DTSTART:20250330T010000
END:DAYLIGHT
BEGIN:STANDARD
TZOFFSETFROM:+0200
TZOFFSETTO:+0100
TZNAME:CET
DTSTART:20251026T010000
END:STANDARD
BEGIN:DAYLIGHT
TZOFFSETFROM:+0100
TZOFFSETTO:+0200
TZNAME:CEST
DTSTART:20260329T010000
END:DAYLIGHT
BEGIN:STANDARD
TZOFFSETFROM:+0200
TZOFFSETTO:+0100
TZNAME:CET
DTSTART:20261025T010000
END:STANDARD
END:VTIMEZONE
BEGIN:VEVENT
DTSTART;TZID=Europe/Warsaw:20250103T170000
DTEND;TZID=Europe/Warsaw:20250103T190000
DTSTAMP:20260422T233028
CREATED:20241203T130953Z
LAST-MODIFIED:20250108T202652Z
UID:12827-1735923600-1735930800@adapulawska.org
SUMMARY:Obiady u Ady
DESCRIPTION:Jak co piątek o 17:00 zapraszamy na darmowy\, ciepły\, wegański obiad wszystkich chętnych Mokotowian i nie tylko. Do zobaczenia! \nA.D.A. zaprasza wszystkie osoby\, które mają potrzebę wspólnego ciepłego obiadu: sąsiadki i sąsiadów\, osoby w kryzysie\, osoby starsze\, koleżanki i kolegów. Kuchnia wegańska i sycąca.  \n• Jeśli możesz przyjdź ze swoim pojemnikiem\n• Jedzenie możesz zjeść u nas na patio lub zabrać ze sobą\n• Jedzenie jest za darmo\, ale jeśli nie masz problemów finansowych możesz się dorzucić \nA.D.A. Puławska to przestrzeń wolna od wykluczenia i dyskryminacji
URL:https://adapulawska.org/wydarzenie/obiady-u-ady-6/
LOCATION:ADA Puławska\, Puławska 37\, Warszawa\, 02-508\, Poland
CATEGORIES:jedzonko
ATTACH;FMTTYPE=image/png:https://adapulawska.org/wp-content/uploads/2024/12/obiady_u_ady1.png
END:VEVENT
BEGIN:VEVENT
DTSTART;TZID=Europe/Warsaw:20250110T170000
DTEND;TZID=Europe/Warsaw:20250110T190000
DTSTAMP:20260422T233028
CREATED:20250109T222056Z
LAST-MODIFIED:20250109T222056Z
UID:14663-1736528400-1736535600@adapulawska.org
SUMMARY:Obiady u Ady
DESCRIPTION:Jak co piątek o 17:00 zapraszamy na darmowy\, ciepły\, wegański obiad wszystkich chętnych Mokotowian i nie tylko. Do zobaczenia! \nA.D.A. zaprasza wszystkie osoby\, które mają potrzebę wspólnego ciepłego obiadu: sąsiadki i sąsiadów\, osoby w kryzysie\, osoby starsze\, koleżanki i kolegów. Kuchnia wegańska i sycąca.  \n• Jeśli możesz przyjdź ze swoim pojemnikiem\n• Jedzenie możesz zjeść u nas na patio lub zabrać ze sobą\n• Jedzenie jest za darmo\, ale jeśli nie masz problemów finansowych możesz się dorzucić \nA.D.A. Puławska to przestrzeń wolna od wykluczenia i dyskryminacji
URL:https://adapulawska.org/wydarzenie/obiady-u-ady-2/
CATEGORIES:jedzonko
ATTACH;FMTTYPE=image/png:https://adapulawska.org/wp-content/uploads/2024/12/obiady_u_ady1.png
END:VEVENT
BEGIN:VEVENT
DTSTART;TZID=Europe/Warsaw:20250115T190000
DTEND;TZID=Europe/Warsaw:20250115T210000
DTSTAMP:20260422T233028
CREATED:20250109T222344Z
LAST-MODIFIED:20250109T222353Z
UID:14665-1736967600-1736974800@adapulawska.org
SUMMARY:Selfisz 297// RYGOR
DESCRIPTION:2024 zamknęliśmy czachą i 2025 otwieramy czachązapraszamy:  \nselfisz RYGORRYGORLubelska(+1doklejeniec z Wałbrzycha) szanowna ekipa soundsystemowa\, w której skład wchodzą: WOYO/DESPER/KRZESKI/PLAMA/KRST/Dudnią juz dobre 12 lat z nielichą mocą 13\,69kW. HARDCORE/HARDTEK/BREAKCORE/JUNGLE/SPEEDCORE.STROBOLE/LASERY/DUŻODYMU \nu nas też coś podudnią\, ale nie wiemy czy z 13.69kW mocy by coś po tej Vce zostało…. trzeba sie przekonać…. \nbędą też płytki z Jebaćtyhihten distro \ndla nieobecnych:https://selfisz.bigcartel.com/(aktywne do środy 15.12\, 16:00) \n////*Selfisz?To projekt poświęcony drukowaniu na tekstyliach.Instrukcja polega na tym że: my szykujemy grafikę\, Ty przynosisz swoje ubranie\, na którym nanosimy\, za pomocą techniki sitodruku\, ustalony wzór. Dzieje się to podczas jednego\, niepowtarzalnego wieczoru. \nUwaga!Rzeczy są przechowywane przez 2 miesiące.Po upływie tego czasu nie ma możliwości odbioru./////////////////////////////////////A.D.A. PUŁAWSKA to mieszczący się przy ulicy Puławskiej 37 w Warszawie Aktywny Dom Alternatywny\, pełniący funkcję autonomicznego centrum społeczno-kulturalnego.Swoją działalność opiera w całości na oddolnej aktywności społeczne
URL:https://adapulawska.org/wydarzenie/selfisz-297-rygor/
LOCATION:Galeria V9\, Puławska 37\, Warszawa\, 02-508\, Poland
CATEGORIES:selfisz
ATTACH;FMTTYPE=image/jpeg:https://adapulawska.org/wp-content/uploads/2025/01/rygor.jpg
ORGANIZER;CN="V9":MAILTO:vlepvnet@gmail.com
END:VEVENT
BEGIN:VEVENT
DTSTART;TZID=Europe/Warsaw:20250118T170000
DTEND;TZID=Europe/Warsaw:20250118T220000
DTSTAMP:20260422T233028
CREATED:20250109T220915Z
LAST-MODIFIED:20250109T220915Z
UID:14656-1737219600-1737237600@adapulawska.org
SUMMARY:Mega Koncert Białoruski Ada Pulawska 18.01.2025
DESCRIPTION:18.01.2025 мы запрашаем вас на ўнікатовую музычную iмррэзу ў клубе Ada Puławska (вул. Puławska 37\, Варшава)Гэта вечар\, дзе эксперыменты сустракаюцца з традыцыямі\, а гітары\, рытмы і тэксты змогуць крануць самыя розныя струны вашай душы. \n⏰ Час: 17:00 — адкрыццё варот\, 17:30 — пачатак \n🎶 У праграме: \nСяргей Пукст — майстар кароткіх\, агрэсіўных пост-панк кампазіцый з псіхадэлічным адценнем. Яго музыка — гэта «tiktok rock»\, дзе нават 50 секунд хапае\, каб стварыць незабыўную атмасферу. Гітарныя мелодыі Пукста — гэта сапраўднае мастацтва для тых\, хто шукае новае. \nhttps://www.youtube.com/watch?v=n0mePtr59hU \nSyndrom Samazvanca — мінскі гурт\, які цяпер базуецца ў Варшаве. Іх музыка — гэта магутны мікс псіхадэлічнага року\, краўтроку і пост-панку. На гэты раз акустычныя рыфы\, складаная рытміка і гукі голосу гарантавана захопяць вашу ўвагу. \nhttps://open.spotify.com/artist/4Dd0C12XvG2nEzh6Hs49mNhttps://linktr.ee/syndromsamazvanca \nМаразм Аркадзія — гэта поп-панк з акустычнай гітарай і неверагоднай колькасцю півной энергіі! На стримінгах можна пачуць DIY-гучанне і шчырыя песні пра жыццё ў свеце капіталізму\, а на канцэртах — пабачыць\, як Маразм Аркадзія перамагае гэты свет сваім гумарам і энергіяй. \nhttps://www.youtube.com/watch?v=l67b2u0_5XYhttps://band.link/g10fY \nБредятина Дятела — гэта шалёнасць і весялосць у кожнай ноте! Іх цяжкія гітарныя рыфы і танцавальныя рытмы не пакінуць вас абыякавымі. Сатырычныя тэксты пра свабоду і прагу жыцця вырываюць слухача з рэальнасці і ўключаюць у свет музычнай рэвалюцыі. \nhttps://open.spotify.com/artist/6KBPlIYtmkUDl6FsIRMeaw?utm_source=chatgpt.comhttps://linktr.ee/bdiatela \nНе прапусціце гэты вечар жывой музыкі\, шчырасці і сапраўднай энергіі! \n18 stycznia zapraszamy na wyjątkowy koncert muzyczny w klubie Ada Puławska (ul. Puławska 37\, Warszawa).To wieczór\, w którym eksperymenty spotykają się z tradycją\, a gitary\, rytmy i teksty poruszą najgłębsze struny twojej duszy. \n⏰ Godzina: 17:00 — otwarcie bram\, 17:30 — start \n🎶 W programie: \nSiergiej Pukst — mistrz krótkich\, agresywnych post-punkowych kompozycji z psychodelicznym zabarwieniem. Jego muzyka to „tiktok rock”\, gdzie nawet 50 sekund wystarczy\, by stworzyć niezapomniany klimat. Gitarowe melodie Puksta to prawdziwa sztuka dla tych\, którzy szukają czegoś nowego. \nhttps://www.youtube.com/watch?v=n0mePtr59hU \nSyndrom Samazvanca — zespół z Mińska\, obecnie mieszkający w Warszawie. Ich muzyka to potężna mieszanka psychodelicznego rocka\, krautrocka i post-punka. Tym razem akustyczne riffy\, skomplikowana rytmika i brzmienie głosu z pewnością przykują twoją uwagę. \nhttps://open.spotify.com/artist/4Dd0C12XvG2nEzh6Hs49mNhttps://linktr.ee/syndromsamazvanca \nMarazm Arkadija — to pop-punk z akustyczną gitarą i niesamowitą piwną energią! Na platformach streamingowych można usłyszeć DIY-brzmienie i szczere piosenki o życiu w świecie kapitalizmu\, a na koncertach zobaczyć\, jak Marazm Arkadija zwycięża ten świat swoim humorem i energią.https://www.youtube.com/watch?v=l67b2u0_5XYhttps://band.link/g10fY \nBredjatina Djatiela — to szaleństwo i radość w każdej nucie! Ich ciężkie gitarowe riffy i taneczne rytmy nie pozostawią cię obojętnym. Satyryczne teksty o wolności i pragnieniu życia wyrywają słuchacza z rzeczywistości i przenoszą do świata muzycznej rewolucji. \nhttps://www.youtube.com/watch?v=l67b2u0_5XYhttps://band.link/g10fY \nNie przegap tego wieczoru pełnego żywej muzyki\, szczerości i prawdziwej energii!!!
URL:https://adapulawska.org/wydarzenie/mega-koncert-bialoruski-ada-pulawska-18-01-2025/
CATEGORIES:koncert,muzyka
ATTACH;FMTTYPE=image/jpeg:https://adapulawska.org/wp-content/uploads/2025/01/472535630_8468272693279450_410148486827453347_n.jpg
END:VEVENT
BEGIN:VEVENT
DTSTART;TZID=Europe/Warsaw:20250122T190000
DTEND;TZID=Europe/Warsaw:20250122T210000
DTSTAMP:20260422T233028
CREATED:20250122T161428Z
LAST-MODIFIED:20250122T161428Z
UID:14721-1737572400-1737579600@adapulawska.org
SUMMARY:Selfisz 298// k__lastima
DESCRIPTION:hellozza wielkiej wody k__lastima wlatuje do nas na warsztat. (>‿◠)https://www.instagram.com/k__lastimahttps://www.instagram.com/k__lastimahttps://www.instagram.com/k__lastima(>‿◠)SEPCJALNIE DLA PAŃSTWA DIE GRAFIKI DO WYBORU ALBO I NIE.tematyka jest uliczno sentymentalna jak zwykle.  \nważna informacja jest taka ze BĘDĄ FRYTKI Z JAKIMS CRAZY GRAVY SMAŻONE NA PODWÓRKU wiec w kolejce bedzie mozna sobie costam skubnąć do SZAMY w kolejce albo zeby bylo co popić  \npiesekrozmiar: 20×24 cmkolor nadruku: czarny \nłobuzyrozmiar: 25×45 cmkolor nadruku: czarny \ndla nieobecnych:https://selfisz.bigcartel.com/(aktywne do środy 15.12\, 16:00)////*Selfisz?To projekt poświęcony drukowaniu na tekstyliach.Instrukcja polega na tym że: my szykujemy grafikę\, Ty przynosisz swoje ubranie\, na którym nanosimy\, za pomocą techniki sitodruku\, ustalony wzór. Dzieje się to podczas jednego\, niepowtarzalnego wieczoru.Uwaga!Rzeczy są przechowywane przez 2 miesiące.Po upływie tego czasu nie ma możliwości odbioru./////////////////////////////////////A.D.A. PUŁAWSKA to mieszczący się przy ulicy Puławskiej 37 w Warszawie Aktywny Dom Alternatywny\, pełniący funkcję autonomicznego centrum społeczno-kulturalnego.Swoją działalność opiera w całości na oddolnej aktywności społeczne
URL:https://adapulawska.org/wydarzenie/selfisz-298-k__lastima/
CATEGORIES:selfisz
ATTACH;FMTTYPE=image/jpeg:https://adapulawska.org/wp-content/uploads/2025/01/473830125_1038862844952967_3891972917222213239_n.jpg
ORGANIZER;CN="V9":MAILTO:vlepvnet@gmail.com
END:VEVENT
BEGIN:VEVENT
DTSTART;TZID=Europe/Warsaw:20250129T190000
DTEND;TZID=Europe/Warsaw:20250129T210000
DTSTAMP:20260422T233028
CREATED:20250128T151600Z
LAST-MODIFIED:20250128T151600Z
UID:14747-1738177200-1738184400@adapulawska.org
SUMMARY:Selfisz 299// Luca
DESCRIPTION:samoloooty loooty loootyzapraszamy po ilustracje od lotnikahttps://www.instagram.com/vitamaxi.nl_official/https://www.instagram.com/vitamaxi.nl_official/https://www.instagram.com/vitamaxi.nl_official/ \n__|__ –o–o–(_)–o–o– \nkolor nadruku: czarnyrozmiar +/-a3 \ndla nieobecnych:https://selfisz.bigcartel.com/(aktywne do środy 29.12\, 16:00)////*Selfisz?To projekt poświęcony drukowaniu na tekstyliach.Instrukcja polega na tym że: my szykujemy grafikę\, Ty przynosisz swoje ubranie\, na którym nanosimy\, za pomocą techniki sitodruku\, ustalony wzór. Dzieje się to podczas jednego\, niepowtarzalnego wieczoru.Uwaga!Rzeczy są przechowywane przez 2 miesiące.Po upływie tego czasu nie ma możliwości odbioru./////////////////////////////////////A.D.A. PUŁAWSKA to mieszczący się przy ulicy Puławskiej 37 w Warszawie Aktywny Dom Alternatywny\, pełniący funkcję autonomicznego centrum społeczno-kulturalnego.Swoją działalność opiera w całości na oddolnej aktywności społeczne
URL:https://adapulawska.org/wydarzenie/selfisz-299-luca/
CATEGORIES:selfisz
ATTACH;FMTTYPE=image/jpeg:https://adapulawska.org/wp-content/uploads/2025/01/474885599_1046223904216861_6604889316697727584_n.jpg
ORGANIZER;CN="V9":MAILTO:vlepvnet@gmail.com
END:VEVENT
BEGIN:VEVENT
DTSTART;TZID=Europe/Warsaw:20250131T170000
DTEND;TZID=Europe/Warsaw:20250131T190000
DTSTAMP:20260422T233028
CREATED:20250128T151751Z
LAST-MODIFIED:20250128T151751Z
UID:14751-1738342800-1738350000@adapulawska.org
SUMMARY:Obiady u Ady
DESCRIPTION:Jak co piątek o 17:00 zapraszamy na darmowy\, ciepły\, wegański obiad wszystkich chętnych Mokotowian i nie tylko. Do zobaczenia! \nA.D.A. zaprasza wszystkie osoby\, które mają potrzebę wspólnego ciepłego obiadu: sąsiadki i sąsiadów\, osoby w kryzysie\, osoby starsze\, koleżanki i kolegów. Kuchnia wegańska i sycąca.  \n• Jeśli możesz przyjdź ze swoim pojemnikiem\n• Jedzenie możesz zjeść u nas na patio lub zabrać ze sobą\n• Jedzenie jest za darmo\, ale jeśli nie masz problemów finansowych możesz się dorzucić \nA.D.A. Puławska to przestrzeń wolna od wykluczenia i dyskryminacji
URL:https://adapulawska.org/wydarzenie/obiady-u-ady-7/
CATEGORIES:jedzonko
ATTACH;FMTTYPE=image/png:https://adapulawska.org/wp-content/uploads/2024/12/obiady_u_ady1.png
END:VEVENT
BEGIN:VEVENT
DTSTART;TZID=Europe/Warsaw:20250131T190000
DTEND;TZID=Europe/Warsaw:20250131T220000
DTSTAMP:20260422T233028
CREATED:20250108T200258Z
LAST-MODIFIED:20250108T200448Z
UID:14559-1738350000-1738360800@adapulawska.org
SUMMARY:ROK WĘŻA! DRAG+TAŃCE+JEDZENIE+ZABAWA
DESCRIPTION:Dobrze bawiliście się w Sylwestra? To zapraszamy Was na kolejny! Będziemy razem świętować nadejście Roku Drewnianego Węża! Z tej okazji przygotowaliśmy dla Was imprezę z mnóstwem atrakcji. Czeka Was pyszne wegańskie chińskie jedzonko\, przeboje chińskiej muzyki rozrywkowej\, tańce oraz chińskie gry i zabawy! Gwoździem programu będzie wyjątkowy drag show\, na którym wystąpią wężowe osoby dragowe z całej Polski!Start: 19:00Do zobaczenia i gong xi fa cai!
URL:https://adapulawska.org/wydarzenie/rok-weza-dragtancejedzeniezabawa/
CATEGORIES:muzyka
ATTACH;FMTTYPE=image/jpeg:https://adapulawska.org/wp-content/uploads/2025/01/472774345_1034985911990983_6838748831365304100_n.jpg
ORGANIZER;CN="ADA Pu%C5%82awska":MAILTO:kontakt@adapulawska.org
END:VEVENT
END:VCALENDAR