BEGIN:VCALENDAR
VERSION:2.0
PRODID:-//A.D.A. Puławska - ECPv6.15.20//NONSGML v1.0//EN
CALSCALE:GREGORIAN
METHOD:PUBLISH
X-WR-CALNAME:A.D.A. Puławska
X-ORIGINAL-URL:https://adapulawska.org
X-WR-CALDESC:Wydarzenia dla A.D.A. Puławska
REFRESH-INTERVAL;VALUE=DURATION:PT1H
X-Robots-Tag:noindex
X-PUBLISHED-TTL:PT1H
BEGIN:VTIMEZONE
TZID:Europe/Warsaw
BEGIN:DAYLIGHT
TZOFFSETFROM:+0100
TZOFFSETTO:+0200
TZNAME:CEST
DTSTART:20230326T010000
END:DAYLIGHT
BEGIN:STANDARD
TZOFFSETFROM:+0200
TZOFFSETTO:+0100
TZNAME:CET
DTSTART:20231029T010000
END:STANDARD
BEGIN:DAYLIGHT
TZOFFSETFROM:+0100
TZOFFSETTO:+0200
TZNAME:CEST
DTSTART:20240331T010000
END:DAYLIGHT
BEGIN:STANDARD
TZOFFSETFROM:+0200
TZOFFSETTO:+0100
TZNAME:CET
DTSTART:20241027T010000
END:STANDARD
BEGIN:DAYLIGHT
TZOFFSETFROM:+0100
TZOFFSETTO:+0200
TZNAME:CEST
DTSTART:20250330T010000
END:DAYLIGHT
BEGIN:STANDARD
TZOFFSETFROM:+0200
TZOFFSETTO:+0100
TZNAME:CET
DTSTART:20251026T010000
END:STANDARD
END:VTIMEZONE
BEGIN:VEVENT
DTSTART;TZID=Europe/Warsaw:20241220T170000
DTEND;TZID=Europe/Warsaw:20241220T190000
DTSTAMP:20260422T091221
CREATED:20241203T130953Z
LAST-MODIFIED:20241203T132738Z
UID:12825-1734714000-1734721200@adapulawska.org
SUMMARY:Obiady u Ady
DESCRIPTION:Jak co piątek o 17:00 zapraszamy na darmowy\, ciepły\, wegański obiad wszystkich chętnych Mokotowian i nie tylko. Do zobaczenia! \nA.D.A. zaprasza wszystkie osoby\, które mają potrzebę wspólnego ciepłego obiadu: sąsiadki i sąsiadów\, osoby w kryzysie\, osoby starsze\, koleżanki i kolegów. Kuchnia wegańska i sycąca.  \n• Jeśli możesz przyjdź ze swoim pojemnikiem\n• Jedzenie możesz zjeść u nas na patio lub zabrać ze sobą\n• Jedzenie jest za darmo\, ale jeśli nie masz problemów finansowych możesz się dorzucić \nA.D.A. Puławska to przestrzeń wolna od wykluczenia i dyskryminacji
URL:https://adapulawska.org/wydarzenie/obiady-u-ady-4/
LOCATION:ADA Puławska\, Puławska 37\, Warszawa\, 02-508\, Poland
CATEGORIES:jedzonko
ATTACH;FMTTYPE=image/png:https://adapulawska.org/wp-content/uploads/2024/12/obiady_u_ady1.png
END:VEVENT
BEGIN:VEVENT
DTSTART;TZID=Europe/Warsaw:20241218T190000
DTEND;TZID=Europe/Warsaw:20241218T213700
DTSTAMP:20260422T091221
CREATED:20241217T210642Z
LAST-MODIFIED:20241217T210642Z
UID:13746-1734548400-1734557820@adapulawska.org
SUMMARY:Robimy chwilę wolnego od hałasowania
DESCRIPTION:Robimy sobie (i sąsiadom!) chwilę wolnego od hałasowania\, ale już niebawem wrócimy z nowymi wydarzeniami. Też na fedi – to wydarzeniu służy testowaniu (tak\, na produkcji\, a niby jak inaczej?) nowej wtyczki do obsługi wydarzeń w fediversie 🙂 W tym roku muzyczki już raczej nie będzie. Może jaka mucha jeszcze przysiądzie i tyle.
URL:https://adapulawska.org/wydarzenie/mucha-siada/
LOCATION:ADA Puławska\, Puławska 37\, Warszawa\, 02-508\, Poland
CATEGORIES:spotkanie
ATTACH;FMTTYPE=image/webp:https://adapulawska.org/wp-content/uploads/2024/12/mucha.webp
ORGANIZER;CN="Kolektyw ADA":MAILTO:kontakt@adapulawska.org
END:VEVENT
BEGIN:VEVENT
DTSTART;TZID=Europe/Warsaw:20241213T170000
DTEND;TZID=Europe/Warsaw:20241213T190000
DTSTAMP:20260422T091221
CREATED:20241203T130953Z
LAST-MODIFIED:20241203T131947Z
UID:12824-1734109200-1734116400@adapulawska.org
SUMMARY:Obiady u Ady
DESCRIPTION:Jak co piątek o 17:00 zapraszamy na darmowy\, ciepły\, wegański obiad wszystkich chętnych Mokotowian i nie tylko. Do zobaczenia! \nA.D.A. zaprasza wszystkie osoby\, które mają potrzebę wspólnego ciepłego obiadu: sąsiadki i sąsiadów\, osoby w kryzysie\, osoby starsze\, koleżanki i kolegów. Kuchnia wegańska i sycąca.  \n• Jeśli możesz przyjdź ze swoim pojemnikiem\n• Jedzenie możesz zjeść u nas na patio lub zabrać ze sobą\n• Jedzenie jest za darmo\, ale jeśli nie masz problemów finansowych możesz się dorzucić \nA.D.A. Puławska to przestrzeń wolna od wykluczenia i dyskryminacji
URL:https://adapulawska.org/wydarzenie/obiady-u-ady-3/
LOCATION:ADA Puławska\, Puławska 37\, Warszawa\, 02-508\, Poland
CATEGORIES:jedzonko
ATTACH;FMTTYPE=image/png:https://adapulawska.org/wp-content/uploads/2024/12/obiady_u_ady1.png
END:VEVENT
BEGIN:VEVENT
DTSTART;TZID=Europe/Warsaw:20241211T190000
DTEND;TZID=Europe/Warsaw:20241211T210000
DTSTAMP:20260422T091221
CREATED:20241217T210409Z
LAST-MODIFIED:20241217T210519Z
UID:13751-1733943600-1733950800@adapulawska.org
SUMMARY:Selfisz 296// Soleil de Nuit
DESCRIPTION:ostatni selfisz w tym roku. \nczacha od wariatuńcia https://www.instagram.com/soleil_de_nuit__/ \ngrafika ok. 15×15 cmfarba w kolorze straży pożarnej (siada na jasne i ciemne podłoża) \ndla nieobecnych:https://selfisz.bigcartel.com/(aktywne do środy 11.12\, 16:00) \n////*Selfisz?To projekt poświęcony drukowaniu na tekstyliach.Instrukcja polega na tym że: my szykujemy grafikę\, Ty przynosisz swoje ubranie\, na którym nanosimy\, za pomocą techniki sitodruku\, ustalony wzór. Dzieje się to podczas jednego\, niepowtarzalnego wieczoru. \nUwaga!Rzeczy są przechowywane przez 2 miesiące.Po upływie tego czasu nie ma możliwości odbioru./////////////////////////////////////A.D.A. PUŁAWSKA to mieszczący się przy ulicy Puławskiej 37 w Warszawie Aktywny Dom Alternatywny\, pełniący funkcję autonomicznego centrum społeczno-kulturalnego.Swoją działalność opiera w całości na oddolnej aktywności społeczne
URL:https://adapulawska.org/wydarzenie/selfisz-296-soleil-de-nuit/
LOCATION:Galeria V9\, Puławska 37\, Warszawa\, 02-508\, Poland
CATEGORIES:selfisz
ATTACH;FMTTYPE=image/jpeg:https://adapulawska.org/wp-content/uploads/2024/12/468839708_1010349387804313_7144536848098147099_n.jpg
ORGANIZER;CN="V9":MAILTO:vlepvnet@gmail.com
END:VEVENT
BEGIN:VEVENT
DTSTART;TZID=Europe/Warsaw:20241206T180000
DTEND;TZID=Europe/Warsaw:20241206T210000
DTSTAMP:20260422T091221
CREATED:20241203T121730Z
LAST-MODIFIED:20241203T132056Z
UID:12783-1733508000-1733518800@adapulawska.org
SUMMARY:Niech te oczy mogą kłamać! 👁️ #Benefit
DESCRIPTION:Halo Koleżanki i Koledzy\, Osoby Koleżeńskie! \nSzykujcie outfity i rezerwujcie datę\, bo szykuje się najlepsze wydarzenie sezonu!Tego wieczora nie zmrużycie oczu. Ewentualnie oczy otworzą Wam się szerzej jak zobaczycie te cuda\, które dla Was przygotowaliśmy. Zaczyn Crew zaprasza na ziomeczkową imprezkę\, podczas której będziemy zbierać hajs na operację pięknych oczu naszej przyjaciółki \nStajemy oko w oko z wyzwaniem zebrania wysokiej kwoty\, żeby oczy koleżanki nadal mrugały\, puszczały\, kłamały\, a przede wszystkim widziały 👁️Rzućcie okiem – będzie performance\, świetna muza\, gry\, zabawy\, gofry\, karaoke\, stoisko benefitowe i aukcje\, a tam do zdobycia cuda\, których żadne oczy jeszcze nie widziały.  \nPlan i rozkład jazdy będziemy uzupełniać na bieżąco. \nPamiętajcie – Koleżanki są najważniejsze!🏴‍☠️🖤❤️👁️
URL:https://adapulawska.org/wydarzenie/niech-te-oczy-moga-klamac-benefit/
CATEGORIES:jedzonko,muzyka
ATTACH;FMTTYPE=image/jpeg:https://adapulawska.org/wp-content/uploads/2024/12/467485689_417739501402075_3779913898765931735_n.jpg
END:VEVENT
BEGIN:VEVENT
DTSTART;TZID=Europe/Warsaw:20241206T160000
DTEND;TZID=Europe/Warsaw:20241206T173000
DTSTAMP:20260422T091221
CREATED:20241203T130323Z
LAST-MODIFIED:20241203T132747Z
UID:12807-1733500800-1733506200@adapulawska.org
SUMMARY:Obiady u Ady
DESCRIPTION:Jak co piątek o 17:00 zapraszamy na darmowy\, ciepły\, wegański obiad wszystkich chętnych Mokotowian i nie tylko. Do zobaczenia! \nA.D.A. zaprasza wszystkie osoby\, które mają potrzebę wspólnego ciepłego obiadu: sąsiadki i sąsiadów\, osoby w kryzysie\, osoby starsze\, koleżanki i kolegów. Kuchnia wegańska i sycąca.  \n• Jeśli możesz przyjdź ze swoim pojemnikiem\n• Jedzenie możesz zjeść u nas na patio lub zabrać ze sobą\n• Jedzenie jest za darmo\, ale jeśli nie masz problemów finansowych możesz się dorzucić \nA.D.A. Puławska to przestrzeń wolna od wykluczenia i dyskryminacji
URL:https://adapulawska.org/wydarzenie/obiady-u-ady/
CATEGORIES:jedzonko
ATTACH;FMTTYPE=image/png:https://adapulawska.org/wp-content/uploads/2024/12/obiady_u_ady1.png
END:VEVENT
BEGIN:VEVENT
DTSTART;TZID=Europe/Warsaw:20241204T190000
DTEND;TZID=Europe/Warsaw:20241204T210000
DTSTAMP:20260422T091221
CREATED:20241203T125223Z
LAST-MODIFIED:20241203T132052Z
UID:12800-1733338800-1733346000@adapulawska.org
SUMMARY:Selfisz 295// Skrzyniarz // Beneft na Bezpestkowe
DESCRIPTION:czółeńkiem w tym tygodniu zapraszamy po cegiełkową graficzkę projektuhttps://www.instagram.com/skrzyniarz_/zbieramy siano dla dzielnych edukatorekhttps://bezpestkowe.pl/https://www.instagram.com/bezpestkowe/polecamy zapoznac sie z powyższymi linkami \nrozmiar w cm 20×28kolor nadruku jest czarnydla nieobecnych:https://selfisz.bigcartel.com/(aktywne do środy 04.12\, 16:00)////*Selfisz?To projekt poświęcony drukowaniu na tekstyliach.Instrukcja polega na tym że: my szykujemy grafikę\, Ty przynosisz swoje ubranie\, na którym nanosimy\, za pomocą techniki sitodruku\, ustalony wzór. Dzieje się to podczas jednego\, niepowtarzalnego wieczoru.Uwaga!Rzeczy są przechowywane przez 2 miesiące.Po upływie tego czasu nie ma możliwości odbioru./////////////////////////////////////A.D.A. PUŁAWSKA to mieszczący się przy ulicy Puławskiej 37 w Warszawie Aktywny Dom Alternatywny\, pełniący funkcję autonomicznego centrum społeczno-kulturalnego.Swoją działalność opiera w całości na oddolnej aktywności społeczne
URL:https://adapulawska.org/wydarzenie/selfisz-295-skrzyniarz-beneft-na-bezpestkowe/
CATEGORIES:benefit,selfisz
ATTACH;FMTTYPE=image/jpeg:https://adapulawska.org/wp-content/uploads/2024/12/468092097_1004817138357538_1034916201487926098_n.jpg
ORGANIZER;CN="V9":MAILTO:vlepvnet@gmail.com
END:VEVENT
BEGIN:VEVENT
DTSTART;TZID=Europe/Warsaw:20241203T190000
DTEND;TZID=Europe/Warsaw:20241203T210000
DTSTAMP:20260422T091221
CREATED:20241203T121718Z
LAST-MODIFIED:20241203T132146Z
UID:12780-1733252400-1733259600@adapulawska.org
SUMMARY:Glamour Giveaway: burleskowo-dragowy clothes swap!
DESCRIPTION:Robisz drag/burleskę od jakiegoś czasu i masz mnóstwo szitu\, który kiedyś tam się kupiło\, a teraz zbiera kurz? \nZaczynasz przygodę z dragiem/burleską i brakuje Ci WSZYSTKIEGO? \nTo wydarzenie jest dla Ciebie! \nZanim wyniesiecie stare ciuchy i dodatki na śmietnik\, zanim pójdziecie na zakupy – przyjdźcie na naszą wymiankę! Będzie można odświeżyć szafę\, oszczędzić pieniądze i planetę\, ale na tym nie koniec – będzie też okazja\, aby poznać i wymienić się doświadczeniami z innymi osobami z dragowego i burleskowego środowiska. Networking to klucz do sukcesu w każdej branży\, a osoby\, które mają tę samą pasję\, to najlepszy materiał na nowych przyjaciół! \nZachęcamy do przynoszenia wszystkiego\, co potrzebne do występowania na scenie: ubrań\, butów\, peruk\, biżuterii\, dodatków\, materiałów\, nietrafionych zakupów makijażowych. \nZabierać można wszystko bez żadnych ograniczeń! \nRzeczy\, które nie znajdą nowych właścicieli trafią do freeshopu na Adzie\, gdzie będą czekać na nowy dom. \nDo zobaczenia!
URL:https://adapulawska.org/wydarzenie/glamour-giveaway-burleskowo-dragowy-clothes-swap/
CATEGORIES:spotkanie,wymianka
ATTACH;FMTTYPE=image/jpeg:https://adapulawska.org/wp-content/uploads/2024/12/464704957_122118670904546709_4766974277514208755_n.jpg
END:VEVENT
BEGIN:VEVENT
DTSTART;TZID=Europe/Warsaw:20241116T180000
DTEND;TZID=Europe/Warsaw:20241116T000000
DTSTAMP:20260422T091221
CREATED:20241203T125444Z
LAST-MODIFIED:20241203T132401Z
UID:9723-1731780000-1731715200@adapulawska.org
SUMMARY:Benefit na Kurdyjski Czerwony Półksiężyc - Dyskusja\, Film\, Koncert - Painting The Sun\, Szpeja\, Plié
DESCRIPTION:Zapraszamy Was wszystkx gorąco 16.11.2024 (sobota) na wydarzenie benefitowo-edukacyjno-rekreacyjne na rzecz Kurdyjskiego Czerwonego Półksiężyca (Heyva Sor A Kurd)!  \nCzeka na Was wieczór pełen wrażeń! \nBędzie na poważnie: \nOd 18:00 będziecie mogłx wysłuchać krótkiej prezentacji  o obecnej sytuacji ekologicznej i społecznej w regionach kurdyjskich. Omówione zostaną główne problemy dotykące lokalne społeczności – kwestia dostępu do wody\, kryzysu energetycznego i humanitarnego oraz dewastacji ekologicznej spowodowanej projektami realizowanymi przez państwo tureckie. Zaproszone osoby opowiedzą\, także o projektach i inicjatywach podejmowanych w celu przezywciężenia tych wyzwań.  \nPo prezentacji sytuacji wyświetlimy dokumentalny film „Heskîf”\, autorstwa Elify Yiğity\, opowiadający o historycznym regionie Hasankeyf w prowincji Batman (kur. Parêzgeha Êlihê)\, jego kulturowej i ekologicznej degradacji spowodowanej budową tamy.  \nMimo poważnych tematów nie zabraknie też dobrej zabawy! \nOd 20:00 zapraszamy na koncert trzech projektów muzycznych.  \nZagrają dla Was: \nPlié\, zespół rockowy no-wave noise\, nieugęcie przesuwający granice tego co możliwe w litewskim noisie! Zespół ten składa się z osób wywodzących się z różnorodnych nurtów muzycznych\, od black metalu po współczesną awangardę. Grają konfrontacyjnie\, ignorując wszelkie dysonanse logiczne płynące z współdzielenia sceny przez muskularnego typa i przebranego w kostium koncertmistrza. Plié świetnie wie co robi w swoim własnym enigmatycznym i szaleńczym świecie samozwańczych uciekinierów! \nZespół zaskoczył lokalne fanki i fanów muzyki alternatywnej swoim debiutowym albumem „Never Took Place” (2021)\, zdobył rozgłos na ESNS’24\, Europavox’24\, MENT Ljubljana’23\, Tallinn Music Week’22 oraz innych popularnych w regionie festiwalach muzycznych oraz rozgrzał scenę dla siostrzanego Xiu Xiu podczas ich występu w Wilnie. Świeżo wypuścili swój drugi pełen zagadek album\, „We Know Exactly What We’re Doing” (2024)\, a obecnie realizują swoją tegoroczną trasę koncertową! \nPainting The Sun jest producentką muzyki elektronicznej\, piosenkarką\, tekściarką oraz fotografką z Warszawy. Studiowała produkcję muzyki w Berlinie. We wrześniu miała swój pierwszy występ na żywo\, który odbył się w Szczecinie w Hali Odra. Jej prace inspirowane artyst(k)ami takimi jak Grimes\, The Dumplings\, Rysy oraz Stromae zostały wystawione w Berlinie\, Gdańsku\, Zurychu oraz Atenach! \nW trakcie wydarzenia będziemy zbierać funduszę na Kurdyjski Czerowny Półksiężyc (Heyva Sor a Kurd). Heyva Sor a Kurd jest organizacją siostrzaną założonego w 1993 roku Heyva Sor a Kurdîstanê. Działa na terenach Północnej i Wschodniej Syrii (nazywanej także Rożawą). Wspiera lokalne społeczności poprzez projekty i kampanie mające na celu zapewnianie podstawowej opieki zdrowotnej\, pomocy w sytuacjach klęsk żywiołowych oraz rozwoju i edukacji lokalnych społeczności w zakresie opieki zdrowotnej.  \nDo zobaczenia na miejscu! \n– \nBenefit for the Kurdish Red Crescent – Discussion\, Film\, Concert – Painting The Sun\, Szpeja\, Plié \nWe are excited to invite you all on the 16th of November for a benefit-educational-recreational event for the Kurdish Red Crescent (Heyva Sor a Kurd)! \nEvent starts with an info meeting and viewing of the film „Heskîf” at 6:00PM \nConcert at 8:00PM \nAn eventful evening awaits you! \nWe’ll get serious: \nYou will be able to hear interesting presentations and talks about the current situation in the kurdish majority regions. The subject matter will encompass the issues of the current water\, energy and humanitarian crisis as well as the ecological devastation caused by projects being realised by the turkish state. We will also speak about initiatives and projects that attempt to take steps to counter these problems. \nYou will also be able to take part in the viewing of Elif Yiğit’s film – „Heskîf”. Her film talks about the historic region of Hasankeyf in the province of Batman (kur. Parêzgeha Êlihê) and it’s tragic fate. \nDespite the serious topics\, there will not be a shortage of fun! \nPlié is a no-wave noise rock band\, stubbornly pushing the envelope of Lithuanian noise rock overseas. It is a band of six musicians of entirely different backgrounds\, ranging from black metal to contemporary avant-garde. Playing confrontational music while disregarding logical dissonances of costumed concertmaster and a muscular curb-stomper performing alongside each other\, Plié knows exactly what they’re doing in their enigmatic\, farcically arrogant world of self-imposed runways! \nThe band managed to take aback alternative music geeks locally with a bold debut album Never Took Place (2021)\, hyped up their name at ESNS’24\, Europavox’24\, MENT Ljubljana’23\, Tallinn Music Week’22\, and main alternative festivals in the region\, as well as warmed-up kindred Xiu Xiu in their Vilnius’ show\, and just released their 2nd riddle-loaded studio album We Know Exactly What We’re Doing\, followed by a European tour in November\, 2024. \nPainting The Sun is a producer of electronic music\, a singer\, a writer and a photographer from Warsaw. The studied music production in Berlin. In September she played her first live concert in Odra Hall in Szczecin. Her works\, inspired by artists like Grimes\, The Dumplings\, Rysy and Stromae we displayed in Berlin\, Gdansk\, Zurich and in Athens! \nThroughout the event we will be gathering funds for the Kurdish Red Crescent (Heyva Sor a Kurd). It is an sister organisation of Heyva Sor a Kurdîstanê\, founded in 1993. It is an organisation active in the territories of North and East Syria (commonly called Rojava). It supports the local population through projects and campaigns aimed at ensuring access to basic healthcare\, aid in case of emergencies as well as the education of local populations in the field of healthcare. \nSee you all there!
URL:https://adapulawska.org/wydarzenie/benefit-na-kurdyjski-czerwony-polksiezyc-dyskusja-film-koncert-painting-the-sun-szpeja-plie/
CATEGORIES:benefit,muzyka
ATTACH;FMTTYPE=image/jpeg:https://adapulawska.org/wp-content/uploads/2024/12/464698801_1087114579963005_1747843488537030658_n.jpg
END:VEVENT
END:VCALENDAR