BEGIN:VCALENDAR
VERSION:2.0
PRODID:-//A.D.A. Puławska - ECPv6.15.20//NONSGML v1.0//EN
CALSCALE:GREGORIAN
METHOD:PUBLISH
X-ORIGINAL-URL:https://adapulawska.org
X-WR-CALDESC:Wydarzenia dla A.D.A. Puławska
REFRESH-INTERVAL;VALUE=DURATION:PT1H
X-Robots-Tag:noindex
X-PUBLISHED-TTL:PT1H
BEGIN:VTIMEZONE
TZID:Europe/Warsaw
BEGIN:DAYLIGHT
TZOFFSETFROM:+0100
TZOFFSETTO:+0200
TZNAME:CEST
DTSTART:20250330T010000
END:DAYLIGHT
BEGIN:STANDARD
TZOFFSETFROM:+0200
TZOFFSETTO:+0100
TZNAME:CET
DTSTART:20251026T010000
END:STANDARD
BEGIN:DAYLIGHT
TZOFFSETFROM:+0100
TZOFFSETTO:+0200
TZNAME:CEST
DTSTART:20260329T010000
END:DAYLIGHT
BEGIN:STANDARD
TZOFFSETFROM:+0200
TZOFFSETTO:+0100
TZNAME:CET
DTSTART:20261025T010000
END:STANDARD
BEGIN:DAYLIGHT
TZOFFSETFROM:+0100
TZOFFSETTO:+0200
TZNAME:CEST
DTSTART:20270328T010000
END:DAYLIGHT
BEGIN:STANDARD
TZOFFSETFROM:+0200
TZOFFSETTO:+0100
TZNAME:CET
DTSTART:20271031T010000
END:STANDARD
END:VTIMEZONE
BEGIN:VEVENT
DTSTART;TZID=Europe/Warsaw:20260419T190000
DTEND;TZID=Europe/Warsaw:20260419T220000
DTSTAMP:20260422T042511
CREATED:20260323T153031Z
LAST-MODIFIED:20260323T153033Z
UID:16091-1776625200-1776636000@adapulawska.org
SUMMARY:Dark Harvest Commandos (UK) + Sanctus Iuda + Monroe's Mysterious Death
DESCRIPTION:W niedzielę 19 kwietnia zawita do nas mocna reprezentacja Sanctus Propaganda. Trzy zespoły z katalogu tego wydawcy – solidny skład bez słabych punktów. Zapraszamy! \nDark Harvest Commandos (Glasgow\, Scotland) – hardcoreSzybki i wściekły hardcore prosto z Glasgow w Szkocji. Cztery osoby wywodzące się z podziemnej\, DIY-owej sceny\, znane wcześniej z zespołów takich jak Disaffect\, Quarantine\, Thisclose i wielu innych projektów. Nadal wkurzeni\, nadal bezkompromisowi\, nadal wierni zasadzie DIY.https://sanctuspropaganda.bandcamp.com/album/s-t-ep \nSanctus Iuda (Białystok) – crust punkZnany i lubiany crusty hardcore punk ze starych dobrych czasów. https://sanctuspropaganda.bandcamp.com/album/nie-b-d-bierny-diy \nMonroe’s Mysterious Death (Białystok) – hardcore punkSzybki\, mocny i bardzo energetyczny hardcore punk z przestrzennym brzmieniem gitar i wyrazistym wokalem. Ich koncepcyjna EP-ka poświęcona kryzysowi na granicy polsko-białoruskiej\, gdzie działa zespół. Materiał opowiada o ludziach będących w drodze w poszukiwaniu lepszego życia\, pokazując polityczne tło tej sytuacji z różnych perspektyw.https://sanctuspropaganda.bandcamp.com/album/s-t-3 \nGdzie? ADA PuławskaKiedy? 19.04.2026O której? 19:00
URL:https://adapulawska.org/wydarzenie/dark-harvest-commandos-uk-sanctus-iuda-monroes-mysterious-death/
LOCATION:ul. Puławska 37\, 02-508 Mokotów\, Poland\, ul. Puławska 37\, 02-508 Mokotów\, Poland
CATEGORIES:koncert,muzyka
ATTACH;FMTTYPE=image/jpeg:https://adapulawska.org/wp-content/uploads/2026/03/640187082_1387046856784885_5518491831530200875_n.jpg
ORGANIZER;CN="ADA Pu%C5%82awska":MAILTO:kontakt@adapulawska.org
END:VEVENT
BEGIN:VEVENT
DTSTART;TZID=Europe/Warsaw:20260424T190000
DTEND;TZID=Europe/Warsaw:20260424T220000
DTSTAMP:20260422T042511
CREATED:20260209T120547Z
LAST-MODIFIED:20260209T120648Z
UID:16011-1777057200-1777068000@adapulawska.org
SUMMARY:D-BEAT TALERZ: PLEKTANI\, SMURØD\, FAKE PLEASURE // 24.04 @ ADA
DESCRIPTION:CONSTANT EAST 34 \nPo zimowej przerwie wracamy do piwnicy na Adzie Puławskiej\, aby zaprezentować zupełną nowość na warszawskiej scenie kulinarnej – D-BEATOWY KONCEPT TALERZYKOWY. W menu dostępne będą 4 dania nagrodzone gwiazdką D-BEATy KOZIDRAK. Tego wieczoru nie będzie prowadzona rezerwacja stolików dlatego zalecamy przybycie na miejsce z odpowiednim wyprzedzeniem. Dla naszych gości szef kuchni przygotuje następujące pozycje: \nPLEKTANI (d-beat hardcore\, Ateny) \nJest tam tłuczone tak głośno i tak szybko\, że zamiast na talerzu danie zostanie podane na dużej przypince DISCHARGE. Dobrze wchodzi na ciepło\, równie smacznie wchodzi na zimno – koniecznie trzeba jeść widelcem po koledze lub koleżance podniesionym z zakurzonej podłogi. Całość okraszona wegańskim serem feta. \nhttps://plektani.bandcamp.com/album/– \nSMURØD (d-beat\, lokalni) \nSkładniki wchodzące w skład tej pozycji to d-beat\, d-beat oraz szczypta d-beatu\, a na kuchni przed wydawką na bank były jarane szlugi. Sugerowany sposób podania to wyjebanie całości na duży ekran Shitlickers i podlanie całości piwem przed spożyciem. \nhttps://smurod.bandcamp.com/album/usio-jak-za-dy \nFAKE PLEASURE (punk\, lokalni) \nJak to bywa w każdym szanującym się koncepcie talerzykowym stawiamy na różnorodność dlatego kolejne danie to pozycja lżejsza i lekkostrawna przygotowana przez szefów kuchni z ogromnym doświadczeniem w branży. \n+ TBA \nGdzie? Puławska 37Kiedy? 24.04 – 19:00 \n 
URL:https://adapulawska.org/wydarzenie/d-beat-talerz-plektani-smurod-fake-pleasure-24-04-ada/
LOCATION:Warsaw\, Poland\, Warsaw\, Poland
CATEGORIES:koncert,muzyka
ATTACH;FMTTYPE=image/jpeg:https://adapulawska.org/wp-content/uploads/2026/02/626768905_879190075091425_83450396718013049_n.jpg
END:VEVENT
BEGIN:VEVENT
DTSTART;TZID=Europe/Warsaw:20260522T160000
DTEND;TZID=Europe/Warsaw:20260524T020000
DTSTAMP:20260422T042511
CREATED:20260323T153241Z
LAST-MODIFIED:20260323T153254Z
UID:16089-1779465600-1779588000@adapulawska.org
SUMMARY:12 Urodziny Ady
DESCRIPTION:tba
URL:https://adapulawska.org/wydarzenie/12-urodziny-ady/
LOCATION:ul. Puławska 37\, 02-508 Mokotów\, Poland\, ul. Puławska 37\, 02-508 Mokotów\, Poland
CATEGORIES:benefit,film,jedzonko,muzyka,performans,selfisz,spotkanie
ATTACH;FMTTYPE=image/jpeg:https://adapulawska.org/wp-content/uploads/2026/03/634999541_1382469100575994_8839096448060397713_n.jpg
ORGANIZER;CN="ADA Pu%C5%82awska":MAILTO:kontakt@adapulawska.org
END:VEVENT
END:VCALENDAR