BEGIN:VCALENDAR
VERSION:2.0
PRODID:-//A.D.A. Puławska - ECPv6.15.20//NONSGML v1.0//EN
CALSCALE:GREGORIAN
METHOD:PUBLISH
X-WR-CALNAME:A.D.A. Puławska
X-ORIGINAL-URL:https://adapulawska.org
X-WR-CALDESC:Wydarzenia dla A.D.A. Puławska
REFRESH-INTERVAL;VALUE=DURATION:PT1H
X-Robots-Tag:noindex
X-PUBLISHED-TTL:PT1H
BEGIN:VTIMEZONE
TZID:Europe/Warsaw
BEGIN:DAYLIGHT
TZOFFSETFROM:+0100
TZOFFSETTO:+0200
TZNAME:CEST
DTSTART:20250330T010000
END:DAYLIGHT
BEGIN:STANDARD
TZOFFSETFROM:+0200
TZOFFSETTO:+0100
TZNAME:CET
DTSTART:20251026T010000
END:STANDARD
BEGIN:DAYLIGHT
TZOFFSETFROM:+0100
TZOFFSETTO:+0200
TZNAME:CEST
DTSTART:20260329T010000
END:DAYLIGHT
BEGIN:STANDARD
TZOFFSETFROM:+0200
TZOFFSETTO:+0100
TZNAME:CET
DTSTART:20261025T010000
END:STANDARD
BEGIN:DAYLIGHT
TZOFFSETFROM:+0100
TZOFFSETTO:+0200
TZNAME:CEST
DTSTART:20270328T010000
END:DAYLIGHT
BEGIN:STANDARD
TZOFFSETFROM:+0200
TZOFFSETTO:+0100
TZNAME:CET
DTSTART:20271031T010000
END:STANDARD
END:VTIMEZONE
BEGIN:VEVENT
DTSTART;TZID=Europe/Warsaw:20260303T180000
DTEND;TZID=Europe/Warsaw:20260303T230000
DTSTAMP:20260422T023016
CREATED:20260220T131411Z
LAST-MODIFIED:20260220T131412Z
UID:16058-1772560800-1772578800@adapulawska.org
SUMMARY:"Dom dla Rity"- pokaz filmu i dyskusja z reżyserką
DESCRIPTION:Zapraszamy na pokaz filmu Dom dla Rity w reżyserii Yulii Appen\, członkini kolektywu Freefilmers\, po którym odbędzie się dyskusja z udziałem autorki.  \n\n\n\nDom dla Rity (90 min\, 2026\, Ukraina) opowiada historię romskiej rodziny\, która została zmuszona do ucieczki ze swojego domu w miejscowości Pryszyb\, która znalazła się pod okupacją rosyjską wiosną 2022 roku. Narracja filmu skupia się wokół poszukiwania domu\, strategii przetrwania i poczucia przynależności wysiedlonych Romek i Romów. W Zaporożu\, położonym zaledwie 40 kilometrów od linii frontu\, bohaterki i bohaterowie mierzą się z dyskryminacją i obojętnością. Film dokumentuje refleksje społeczności romskiej na temat Ukrainy oraz ich własnej złożonej tożsamości w czasie pełno-skalowej inwazji i w kontekście oporu wobec rosyjskiej agresji.  \n\n\n\nYulia Appen jest reżyserką filmów dokumentalnych i fotografką. Jej filmy poruszają tematy domu oraz krajobrazu jako nośnika znaczeń kulturowych i historycznych. Od lutego 2022\, Yulia pracuje jako dziennikarka-wolontariuszka dla kanału Zbrojnych Sił Ukrainy dokumentując codzienność wojny i doświadczenia ludzi\, którzy przeżyli okupację. Razem z Freefilmers\, Yulia stworzyła serię wywiadów z osobami o anty-autorytarnych\, anarchistycznych i anty-faszystowskich poglądach walczących w ZSU (we współpracy z Solidarity Collectives). Od lat wspiera też społeczność romską i inne marginalizowane społeczności na terenach przyfrontowych i deokupowanych.  \n\n\n\nFreefilmers tworzą filmy podejmujące wątki walki o wolność i równość\, promują niezależną twórczość filmową we wschodniej Ukrainie oraz tworzą platformę wsparcia pozwalającą na eksperymentowanie poza oficjalnym systemem filmowym. Obecnie członkowie Freefilmers skupiają się na niesieniu pomocy marginalizowanym społecznościom np. queerowym aktywistom\, osobom neuronietypowym i społeczności romskiej. Niektórzy członkowie dołączyli do Sił Zbrojnych Ukrainy\, inni prowadzą zbiórki\, dostarczają podstawowe produkty i pomoc medyczną. \n\n\n\nFilm w języku ukraińskim\, rosyjskim i Romani z napisami angielskimi. \n\n\n\nDyskusja po filmie odbędzie się równolegle w języku polskim i ukraińskim.  \n\n\n\nWydarzenie odbędzie się w ramach cyklu pokazów filmu Dom dla Rity w Warszawie\, Łodzi\, Poznaniu\, Berlinie i Amsterdamie zorganizowanego przez Freefilmers i Martę Hryniuk\, ze wsparciem House of Europe.  \n\n\n\nhttps://www.freefilmers.org/en/
URL:https://adapulawska.org/wydarzenie/dom-dla-rity-pokaz-filmu-i-dyskusja-z-rezyserka/
LOCATION:ADA Puławska\, Puławska 37\, Warszawa\, 02-508\, Poland
ATTACH;FMTTYPE=image/png:https://adapulawska.org/wp-content/uploads/2026/02/Screenshot-2026-02-20-at-14-07-27-Instagram.png
END:VEVENT
BEGIN:VEVENT
DTSTART;TZID=Europe/Warsaw:20260314T190000
DTEND;TZID=Europe/Warsaw:20260314T220000
DTSTAMP:20260422T023016
CREATED:20260126T132633Z
LAST-MODIFIED:20260209T120934Z
UID:15906-1773514800-1773525600@adapulawska.org
SUMMARY:the body of a swan (synthwave\, LV) + dismal hollow + demon's feces
DESCRIPTION:synthy na Adzie! \nthe body of a swan – synthwave\, LVdismal hollow – death industrial\, PLdemon’s feces – synthcore\, PL \ndrzwi – 19\, start – 20
URL:https://adapulawska.org/wydarzenie/the-body-of-a-swan-synthwave-lv-dismal-hollow-demons-feces/
LOCATION:ADA Puławska\, Puławska 37\, Warszawa\, 02-508\, Poland
CATEGORIES:koncert,muzyka
ATTACH;FMTTYPE=image/jpeg:https://adapulawska.org/wp-content/uploads/2026/01/618806749_872189335597726_4781518485328402093_n.jpg
END:VEVENT
BEGIN:VEVENT
DTSTART;TZID=Europe/Warsaw:20260320T190000
DTEND;TZID=Europe/Warsaw:20260320T220000
DTSTAMP:20260422T023016
CREATED:20260129T160420Z
LAST-MODIFIED:20260209T120842Z
UID:15950-1774033200-1774044000@adapulawska.org
SUMMARY:SEROTONIN ZERO • TYRAN | 20.03.2026 | Warszawa - Ada Puławska
DESCRIPTION:💥Chroma Music zaprasza na koncert!💥W warszawskim klubie Ada Puławska zagrają: \n🔊 SEROTONIN ZERO (hardcore / black / death metal\, Warszawa)www.facebook.com/serotoninzerowww.instagram.com/serotoninzeroband	www.serotoninzero.bandcamp.com/musicwww.serotoninzero.comWarszawski zespół łączący hardcore z black i death metalem. Agresywne riffy\, blasty\, d-beat i przenikliwy wokal stanowią trzon ich brzmienia. Zespół powstał w 2018 roku z muzyków wywodzących się z białoruskiego hardcore undergroundu. Na koncie mają dwa wydawnictwa oraz liczne koncerty i festiwale w Polsce i za granicą. Podczas marcowej trasy można będzie usłyszeć utwory z nadchodzącej płyty. Dla fanów Wake\, The Secret\, END\, God Mother.➡️ „Empty”https://youtu.be/8oBXUvwApDY?si=b7Ugg_74hMpkO7Lx \n🔊 TYRAN (death metal / hardcore\, Kaszëbë)www.facebook.com/tyranmetalwww.instagram.com/tyranmetal	www.tyranmetal.bandcamp.com/music	Death metal z domieszką hardcore’u z Kaszub. Krótko\, szybko i agresywnie – huragan na żywo. Dla fanów wczesnego Entombed\, Terrorizer i Napalm Death.➡️ „New Trash”https://youtu.be/KtNUV0y1MJU?si=0vNAmk-fOdA-16WD \n🟥 Miejsce: Warszawa – Ada Puławska🟨 Data: 20.03.2026🟩 Godzina: 19:00🟦 Bilety: info wkrótce
URL:https://adapulawska.org/wydarzenie/serotonin-zero-tyran-20-03-2026-warszawa-ada-pulawska/
LOCATION:ADA Puławska\, Puławska 37\, Warszawa\, 02-508\, Poland
CATEGORIES:koncert,muzyka
ATTACH;FMTTYPE=image/jpeg:https://adapulawska.org/wp-content/uploads/2026/01/622401162_1204445325215577_4983408621850754865_n-1.jpg
END:VEVENT
BEGIN:VEVENT
DTSTART;TZID=Europe/Warsaw:20260327T180000
DTEND;TZID=Europe/Warsaw:20260327T210000
DTSTAMP:20260422T023016
CREATED:20260325T195714Z
LAST-MODIFIED:20260325T195715Z
UID:16123-1774634400-1774645200@adapulawska.org
SUMMARY:Szelest fest gra dla Obiadów! Huta Plastiku /// Opresja /// Płaczące Wierzby
DESCRIPTION:Szelest fest gra dla Obiadów!Czas włączyć gaz pod garnkami by rozgrzać działalność Obiadów u Ady. Ostrzegamy jednak że marcowe ciepło zostanie wstrzymane specjalnie na ten wieczór\, by wrócić do zimnej postpunkowwej atmosfery. \nPrzychód z wydarzenia pozwoli dalej wydawać ciepłe wegańskie posiłki w każdy piątek. WARSZAWA\, PUŁAWSKA 37\, \nZagrają:-Huta Plastikuwarszawski post-punk since 2014. Muzyka zespołu eksploruje tematy miejskiego rozkładu\, kwestii społecznych i egzystencjalnych refleksji. Ich paleta dźwiękowa zawiera elementy post-punku\, nowej fali\, shoegaze’u i popu\, tworząc wyraźne i sugestywne wrażenia słuchowe nawiazujące do muzyki lat 80-tych. \nhttps://www.instagram.com/huta.plastiku/ \nhttps://open.spotify.com/artist/2Xs2bK1o0vvN7Kf7XKtkVY?si=P5YgFsBdQj2KEag6zmDd2Q \n-Opresjazimnofalowy duet stworzony z lodowatej płyty wyrwanej z praskiego bloku mieszkalnego. Energiczne intrumentale przywołujące nieistniejące wspomnienia z lat 80′ połączone z pięknym\, mrocznym i melodyjnym wokalem zabierają w podróż pełną prawdziwych emocji i długich cieni. \nhttps://www.instagram.com/opresja.coldwave/ \nhttps://open.spotify.com/artist/6wZj5k9BIUhnbDetjC0E2G?si=YhVJV6GtQMuBSi0BH8qfjw \n-Płaczące Wierzbyzespół założony w Gliwicach przez Ćmę (bas\, wokal)\, w którego skład wchodzą także Julia (klawisze)\, Wojtek (gitara). Grają muzykę opartą na postpunkowym brzmieniu z mocnym naciskiem na punka\, wzbogaconym o gotycki klimat lat 80. i wpływy polskiej zimnej fali rodem z Jarocina. \nhttps://www.instagram.com/placzacewierzby/ \nhttps://open.spotify.com/artist/4mxW6EmyrfSuYh97CkRip7?si=IwdXtTKmSd6iJ1swwYlaLA \nhttps://www.instagram.com/szelest_fest/ \nPuławska 37\, Warsaw bramki 18:00——————————Szelest Fest for „Obiady”!It’s time to turn up the heat under the pots and fuel the mission of Obiady u Ady. We must warn you though\, the March warmth will be put on hold for this one night as we return to the cold\, post-punk atmosphere.All of the income from the event will help us continue serving warm vegan meals every Friday. \n-Huta Plastiku Warsaw-based post-punk since 2014. Their music explores themes of urban decay\, social issues\, and existential reflection. Their sonic palette blends elements of post-punk\, new wave\, shoegaze\, and pop\, creating a distinct and atmospheric experience of the 1980s. \nhttps://www.instagram.com/huta.plastiku/ \nhttps://open.spotify.com/artist/2Xs2bK1o0vvN7Kf7XKtkVY?si=P5YgFsBdQj2KEag6zmDd2Q \n-OpresjaColdwave duo forged from a frozen concrete slab torn straight from a Praga block. Energetic instrumentals evoke non-existent memories of the 80s\, paired with hauntingly beautiful\, dark\, and melodic vocals that take you on a journey full of raw emotion and long shadows. \nhttps://www.instagram.com/opresja.coldwave/ \nhttps://open.spotify.com/artist/6wZj5k9BIUhnbDetjC0E2G?si=YhVJV6GtQMuBSi0BH8qfjw \n-Płaczące Wierzby Founded in Gliwice by Ćma (bass\, vocals)\, the band also features Julia (keys) and Wojtek (guitar). Their sound is rooted in post-punk with a strong punk edge\, enriched by a gothic 80s atmosphere and influences from the classic Polish „cold wave” of the Jarocin era. \nhttps://www.instagram.com/placzacewierzby/ \nhttps://open.spotify.com/artist/4mxW6EmyrfSuYh97CkRip7?si=IwdXtTKmSd6iJ1swwYlaLA \nhttps://www.instagram.com/szelest_fest/ \nPuławska 37\, Warsaw Doors: 18:00
URL:https://adapulawska.org/wydarzenie/szelest-fest-gra-dla-obiadow-huta-plastiku-opresja-placzace-wierzby/
LOCATION:ADA Puławska\, ADA Puławska
CATEGORIES:koncert,muzyka
ATTACH;FMTTYPE=image/jpeg:https://adapulawska.org/wp-content/uploads/2026/03/644388076_122115488439204249_1696433037614257294_n.jpg
END:VEVENT
BEGIN:VEVENT
DTSTART;TZID=Europe/Warsaw:20260329T140000
DTEND;TZID=Europe/Warsaw:20260329T170000
DTSTAMP:20260422T023016
CREATED:20260325T195837Z
LAST-MODIFIED:20260325T195837Z
UID:16120-1774792800-1774803600@adapulawska.org
SUMMARY:Wiosenne wyjście z szafy vol.2 - wymianka ciuchowa (codzienne i sceniczne)
DESCRIPTION:Zapraszamy na kolejną edycje wiosennego wyjścia z szafy💃Koniec zimy\, czas ogarnąć stylówkę na sezon letni.Tym razem widzimy się w ADA Puławska!Zasady są proste sprzątasz szafę\, to czego nie nosisz/nie potrzebujesz pakujesz w torby/worki i przynosisz. Oprócz tego możesz sobie zabrać co tylko ci się spodoba. Wszystko to co zostanie trafi do potrzebujących. Tym razem dodatkowo będzie przestrzeń na stroje występowe i estradowe.KIEDY🗓️: 29.03(niedziela)GODZINA ⏰:14:00 -16:00Co👚👠👜: ciuchy\, buty\, dodatki (zarówno CODZIENNE jak i SCENICZNE)GDZIE📍: ADA Puławska (Puławska 37)
URL:https://adapulawska.org/wydarzenie/wiosenne-wyjscie-z-szafy-vol-2/
LOCATION:ADA Puławska\, ADA Puławska
CATEGORIES:wymianka
ATTACH;FMTTYPE=image/jpeg:https://adapulawska.org/wp-content/uploads/2026/03/651711051_26304003972566499_7303233748688510183_n.jpg
END:VEVENT
BEGIN:VEVENT
DTSTART;TZID=Europe/Warsaw:20260410T190000
DTEND;TZID=Europe/Warsaw:20260410T220000
DTSTAMP:20260422T023016
CREATED:20260323T152414Z
LAST-MODIFIED:20260323T152415Z
UID:16077-1775847600-1775858400@adapulawska.org
SUMMARY:Benefit na Warszawskich Antyfaszystów! - 10.04.2026
DESCRIPTION:10.04.2026 zapraszamy na benefitowy koncert na rzecz warszawskich antyfaszystów!Zagrają:– Eric Havoc– Life Scars– Strewments– jajofrvr📍 ADA Puławska 37\, Warszawa godz. 19:00🎫BRAMKA 18:30!!
URL:https://adapulawska.org/wydarzenie/benefit-na-warszawskich-antyfaszystow-10-04-2026/
LOCATION:ADA Puławska\, ADA Puławska
ATTACH;FMTTYPE=image/jpeg:https://adapulawska.org/wp-content/uploads/2026/03/651266669_122162523146933311_5868760062450407467_n.jpg
END:VEVENT
BEGIN:VEVENT
DTSTART;TZID=Europe/Warsaw:20260419T190000
DTEND;TZID=Europe/Warsaw:20260419T220000
DTSTAMP:20260422T023016
CREATED:20260323T153031Z
LAST-MODIFIED:20260323T153033Z
UID:16091-1776625200-1776636000@adapulawska.org
SUMMARY:Dark Harvest Commandos (UK) + Sanctus Iuda + Monroe's Mysterious Death
DESCRIPTION:W niedzielę 19 kwietnia zawita do nas mocna reprezentacja Sanctus Propaganda. Trzy zespoły z katalogu tego wydawcy – solidny skład bez słabych punktów. Zapraszamy! \nDark Harvest Commandos (Glasgow\, Scotland) – hardcoreSzybki i wściekły hardcore prosto z Glasgow w Szkocji. Cztery osoby wywodzące się z podziemnej\, DIY-owej sceny\, znane wcześniej z zespołów takich jak Disaffect\, Quarantine\, Thisclose i wielu innych projektów. Nadal wkurzeni\, nadal bezkompromisowi\, nadal wierni zasadzie DIY.https://sanctuspropaganda.bandcamp.com/album/s-t-ep \nSanctus Iuda (Białystok) – crust punkZnany i lubiany crusty hardcore punk ze starych dobrych czasów. https://sanctuspropaganda.bandcamp.com/album/nie-b-d-bierny-diy \nMonroe’s Mysterious Death (Białystok) – hardcore punkSzybki\, mocny i bardzo energetyczny hardcore punk z przestrzennym brzmieniem gitar i wyrazistym wokalem. Ich koncepcyjna EP-ka poświęcona kryzysowi na granicy polsko-białoruskiej\, gdzie działa zespół. Materiał opowiada o ludziach będących w drodze w poszukiwaniu lepszego życia\, pokazując polityczne tło tej sytuacji z różnych perspektyw.https://sanctuspropaganda.bandcamp.com/album/s-t-3 \nGdzie? ADA PuławskaKiedy? 19.04.2026O której? 19:00
URL:https://adapulawska.org/wydarzenie/dark-harvest-commandos-uk-sanctus-iuda-monroes-mysterious-death/
LOCATION:ul. Puławska 37\, 02-508 Mokotów\, Poland\, ul. Puławska 37\, 02-508 Mokotów\, Poland
CATEGORIES:koncert,muzyka
ATTACH;FMTTYPE=image/jpeg:https://adapulawska.org/wp-content/uploads/2026/03/640187082_1387046856784885_5518491831530200875_n.jpg
ORGANIZER;CN="ADA Pu%C5%82awska":MAILTO:kontakt@adapulawska.org
END:VEVENT
BEGIN:VEVENT
DTSTART;TZID=Europe/Warsaw:20260424T190000
DTEND;TZID=Europe/Warsaw:20260424T220000
DTSTAMP:20260422T023016
CREATED:20260209T120547Z
LAST-MODIFIED:20260209T120648Z
UID:16011-1777057200-1777068000@adapulawska.org
SUMMARY:D-BEAT TALERZ: PLEKTANI\, SMURØD\, FAKE PLEASURE // 24.04 @ ADA
DESCRIPTION:CONSTANT EAST 34 \nPo zimowej przerwie wracamy do piwnicy na Adzie Puławskiej\, aby zaprezentować zupełną nowość na warszawskiej scenie kulinarnej – D-BEATOWY KONCEPT TALERZYKOWY. W menu dostępne będą 4 dania nagrodzone gwiazdką D-BEATy KOZIDRAK. Tego wieczoru nie będzie prowadzona rezerwacja stolików dlatego zalecamy przybycie na miejsce z odpowiednim wyprzedzeniem. Dla naszych gości szef kuchni przygotuje następujące pozycje: \nPLEKTANI (d-beat hardcore\, Ateny) \nJest tam tłuczone tak głośno i tak szybko\, że zamiast na talerzu danie zostanie podane na dużej przypince DISCHARGE. Dobrze wchodzi na ciepło\, równie smacznie wchodzi na zimno – koniecznie trzeba jeść widelcem po koledze lub koleżance podniesionym z zakurzonej podłogi. Całość okraszona wegańskim serem feta. \nhttps://plektani.bandcamp.com/album/– \nSMURØD (d-beat\, lokalni) \nSkładniki wchodzące w skład tej pozycji to d-beat\, d-beat oraz szczypta d-beatu\, a na kuchni przed wydawką na bank były jarane szlugi. Sugerowany sposób podania to wyjebanie całości na duży ekran Shitlickers i podlanie całości piwem przed spożyciem. \nhttps://smurod.bandcamp.com/album/usio-jak-za-dy \nFAKE PLEASURE (punk\, lokalni) \nJak to bywa w każdym szanującym się koncepcie talerzykowym stawiamy na różnorodność dlatego kolejne danie to pozycja lżejsza i lekkostrawna przygotowana przez szefów kuchni z ogromnym doświadczeniem w branży. \n+ TBA \nGdzie? Puławska 37Kiedy? 24.04 – 19:00 \n 
URL:https://adapulawska.org/wydarzenie/d-beat-talerz-plektani-smurod-fake-pleasure-24-04-ada/
LOCATION:Warsaw\, Poland\, Warsaw\, Poland
CATEGORIES:koncert,muzyka
ATTACH;FMTTYPE=image/jpeg:https://adapulawska.org/wp-content/uploads/2026/02/626768905_879190075091425_83450396718013049_n.jpg
END:VEVENT
BEGIN:VEVENT
DTSTART;TZID=Europe/Warsaw:20260522T160000
DTEND;TZID=Europe/Warsaw:20260524T020000
DTSTAMP:20260422T023016
CREATED:20260323T153241Z
LAST-MODIFIED:20260323T153254Z
UID:16089-1779465600-1779588000@adapulawska.org
SUMMARY:12 Urodziny Ady
DESCRIPTION:tba
URL:https://adapulawska.org/wydarzenie/12-urodziny-ady/
LOCATION:ul. Puławska 37\, 02-508 Mokotów\, Poland\, ul. Puławska 37\, 02-508 Mokotów\, Poland
CATEGORIES:benefit,film,jedzonko,muzyka,performans,selfisz,spotkanie
ATTACH;FMTTYPE=image/jpeg:https://adapulawska.org/wp-content/uploads/2026/03/634999541_1382469100575994_8839096448060397713_n.jpg
ORGANIZER;CN="ADA Pu%C5%82awska":MAILTO:kontakt@adapulawska.org
END:VEVENT
END:VCALENDAR