BEGIN:VCALENDAR
VERSION:2.0
PRODID:-//A.D.A. Puławska - ECPv6.15.20//NONSGML v1.0//EN
CALSCALE:GREGORIAN
METHOD:PUBLISH
X-ORIGINAL-URL:https://adapulawska.org
X-WR-CALDESC:Wydarzenia dla A.D.A. Puławska
REFRESH-INTERVAL;VALUE=DURATION:PT1H
X-Robots-Tag:noindex
X-PUBLISHED-TTL:PT1H
BEGIN:VTIMEZONE
TZID:Europe/Warsaw
BEGIN:DAYLIGHT
TZOFFSETFROM:+0100
TZOFFSETTO:+0200
TZNAME:CEST
DTSTART:20250330T010000
END:DAYLIGHT
BEGIN:STANDARD
TZOFFSETFROM:+0200
TZOFFSETTO:+0100
TZNAME:CET
DTSTART:20251026T010000
END:STANDARD
BEGIN:DAYLIGHT
TZOFFSETFROM:+0100
TZOFFSETTO:+0200
TZNAME:CEST
DTSTART:20260329T010000
END:DAYLIGHT
BEGIN:STANDARD
TZOFFSETFROM:+0200
TZOFFSETTO:+0100
TZNAME:CET
DTSTART:20261025T010000
END:STANDARD
BEGIN:DAYLIGHT
TZOFFSETFROM:+0100
TZOFFSETTO:+0200
TZNAME:CEST
DTSTART:20270328T010000
END:DAYLIGHT
BEGIN:STANDARD
TZOFFSETFROM:+0200
TZOFFSETTO:+0100
TZNAME:CET
DTSTART:20271031T010000
END:STANDARD
END:VTIMEZONE
BEGIN:VEVENT
DTSTART;TZID=Europe/Warsaw:20260112T190000
DTEND;TZID=Europe/Warsaw:20260112T210000
DTSTAMP:20260422T035639
CREATED:20251210T204144Z
LAST-MODIFIED:20251210T204145Z
UID:15836-1768244400-1768251600@adapulawska.org
SUMMARY:Glamour Giveaway: New Year's Eve Edition
DESCRIPTION:Zapraszamy na kolejną edycję wielkiej wymianki ciuchów i dodatków organizowaną specjalnie z myślą o osobach robiących drag i burleskę! \nNazbierało Ci się w domu sporo rzeczy\, które miały kiedyś być do jakiegoś perfo\, ale ostatecznie okazało się\, że zbierają tylko kurz? \nZaczynasz przygodę z dragiem/burleską i brakuje Ci WSZYSTKIEGO? \nTo wydarzenie jest dla Ciebie! \nZanim wyniesiecie stare ciuchy i dodatki na śmietnik\, zanim pójdziecie na zakupy – przyjdźcie na naszą wymiankę! Będzie można odświeżyć szafę\, oszczędzić pieniądze i planetę. Zachęcamy do przynoszenia wszystkiego\, co potrzebne do występowania na scenie: ubrań\, butów\, peruk\, biżuterii\, dodatków\, materiałów\, nietrafionych zakupów makijażowych. \nAle na tym nie koniec – będzie to też okazja\, aby poznać i wymienić się doświadczeniami z innymi osobami z dragowego i burleskowego środowiska. Networking to klucz do sukcesu w każdej branży\, a osoby\, które mają tę samą pasję\, to najlepszy materiał na nowych przyjaciół! \nZabierać można wszystko bez żadnych ograniczeń!Rzeczy\, które nie znajdą nowych właścicieli trafią do freeshopu na Adzie\, gdzie będą czekać na nowy dom. \nDo zobaczenia!
URL:https://adapulawska.org/wydarzenie/glamour-giveaway-new-years-eve-edition/
LOCATION:ADA Puławska\, Puławska 37\, Warszawa\, 02-508\, Poland
ATTACH;FMTTYPE=image/jpeg:https://adapulawska.org/wp-content/uploads/2025/12/598421163_122202156350546709_8486582820191224334_n.jpg
END:VEVENT
END:VCALENDAR