BEGIN:VCALENDAR
VERSION:2.0
PRODID:-//A.D.A. Puławska - ECPv6.15.20//NONSGML v1.0//EN
CALSCALE:GREGORIAN
METHOD:PUBLISH
X-ORIGINAL-URL:https://adapulawska.org
X-WR-CALDESC:Wydarzenia dla A.D.A. Puławska
REFRESH-INTERVAL;VALUE=DURATION:PT1H
X-Robots-Tag:noindex
X-PUBLISHED-TTL:PT1H
BEGIN:VTIMEZONE
TZID:Europe/Warsaw
BEGIN:DAYLIGHT
TZOFFSETFROM:+0100
TZOFFSETTO:+0200
TZNAME:CEST
DTSTART:20240331T010000
END:DAYLIGHT
BEGIN:STANDARD
TZOFFSETFROM:+0200
TZOFFSETTO:+0100
TZNAME:CET
DTSTART:20241027T010000
END:STANDARD
BEGIN:DAYLIGHT
TZOFFSETFROM:+0100
TZOFFSETTO:+0200
TZNAME:CEST
DTSTART:20250330T010000
END:DAYLIGHT
BEGIN:STANDARD
TZOFFSETFROM:+0200
TZOFFSETTO:+0100
TZNAME:CET
DTSTART:20251026T010000
END:STANDARD
BEGIN:DAYLIGHT
TZOFFSETFROM:+0100
TZOFFSETTO:+0200
TZNAME:CEST
DTSTART:20260329T010000
END:DAYLIGHT
BEGIN:STANDARD
TZOFFSETFROM:+0200
TZOFFSETTO:+0100
TZNAME:CET
DTSTART:20261025T010000
END:STANDARD
END:VTIMEZONE
BEGIN:VEVENT
DTSTART;TZID=Europe/Warsaw:20251130T190000
DTEND;TZID=Europe/Warsaw:20251130T220000
DTSTAMP:20260422T080145
CREATED:20251105T202716Z
LAST-MODIFIED:20251105T202718Z
UID:15702-1764529200-1764540000@adapulawska.org
SUMMARY:30.11. Warszawa: ACADEMY ORDER\, BRUDNE CZYNY\, KOÑ
DESCRIPTION:Refuse Records prezentuje: \nACADEMY ORDER (Filadelfia\, Pennsylvania\, USA)Academy Order to zespół punk/death rock założony w Filadelfii w 2021 roku. Tej samej zimy za pośrednictwem Convulse Records wydali EP-kę z sześcioma utworami zatytułowaną „To Wilt Without Shame”\, która została bardzo dobrze przyjęta\, wyprzedana\, a następnie ponownie wydana przez Protagonist. Grupa łączy punk\, death rock i nową falę\, które przywodzą na myśl Christian Death\, 45 Grave i Clan of Xymox\, z akcentami wczesnego Oi i hardcore\, takimi jak Blitz i TSOL. Ich nowa płyta to „The Devil Spoke” LP dla Protagonist. Po raz pierwszy w Europie!https://academyorder.bandcamp.com/ \nBRUDNE CZYNY(Bielsko-Biała)Post-punk z wyrazistym wokalem Pauli (również Moira i End Forest). Muzycznie między starą nową falą\, proto-punk i power popem – trochę vintage\, trochę modern. Do tego mocna kobieca perspektywa w tekstach. Znajdziesz w tym echa Siouxsie And The Banshees\, wczesnego Maanam\, Buzzcocks\, Bikini Kill czy współczesnego rozstrojonego lo-fi punka spod znaku Sweeping Promises\, Dry Cleaning czy Fake Fruit. Debiut LP/CD ukazał się nakładem No Sanctuary Records.https://brudneczyny.bandcamp.com/album/brudne-czyny \nKOÑ (Warszawa)Nowa i obiecującą grupa post-punk https://igogo.bandcamp.com \n30.11. WARSZAWAAda Puławska\, Puławska 37\, g 19.00
URL:https://adapulawska.org/wydarzenie/30-11-warszawa-academy-order-brudne-czyny-kon/
LOCATION:ADA Puławska\, Puławska 37\, Warszawa\, 02-508\, Poland
ATTACH;FMTTYPE=image/jpeg:https://adapulawska.org/wp-content/uploads/2025/11/571132822_840818691629288_3199554902238125993_n.jpg
END:VEVENT
END:VCALENDAR