BEGIN:VCALENDAR
VERSION:2.0
PRODID:-//A.D.A. Puławska - ECPv6.15.20//NONSGML v1.0//EN
CALSCALE:GREGORIAN
METHOD:PUBLISH
X-WR-CALNAME:A.D.A. Puławska
X-ORIGINAL-URL:https://adapulawska.org
X-WR-CALDESC:Wydarzenia dla A.D.A. Puławska
REFRESH-INTERVAL;VALUE=DURATION:PT1H
X-Robots-Tag:noindex
X-PUBLISHED-TTL:PT1H
BEGIN:VTIMEZONE
TZID:Europe/Warsaw
BEGIN:DAYLIGHT
TZOFFSETFROM:+0100
TZOFFSETTO:+0200
TZNAME:CEST
DTSTART:20240331T010000
END:DAYLIGHT
BEGIN:STANDARD
TZOFFSETFROM:+0200
TZOFFSETTO:+0100
TZNAME:CET
DTSTART:20241027T010000
END:STANDARD
BEGIN:DAYLIGHT
TZOFFSETFROM:+0100
TZOFFSETTO:+0200
TZNAME:CEST
DTSTART:20250330T010000
END:DAYLIGHT
BEGIN:STANDARD
TZOFFSETFROM:+0200
TZOFFSETTO:+0100
TZNAME:CET
DTSTART:20251026T010000
END:STANDARD
BEGIN:DAYLIGHT
TZOFFSETFROM:+0100
TZOFFSETTO:+0200
TZNAME:CEST
DTSTART:20260329T010000
END:DAYLIGHT
BEGIN:STANDARD
TZOFFSETFROM:+0200
TZOFFSETTO:+0100
TZNAME:CET
DTSTART:20261025T010000
END:STANDARD
END:VTIMEZONE
BEGIN:VEVENT
DTSTART;TZID=Europe/Warsaw:20251122T130000
DTEND;TZID=Europe/Warsaw:20251122T180000
DTSTAMP:20260422T063634
CREATED:20251121T175419Z
LAST-MODIFIED:20251121T205101Z
UID:15740-1763816400-1763834400@adapulawska.org
SUMMARY:👽Rękodziwo👽#2 kiermasz dziwnego rękodzieła
DESCRIPTION:Już 22.11 w sobotę w godzinach 13:00-18:00 zapraszamy do Ady Puławskiej na Mokotowie na drugą edycję prawdopodobnie najdziwniejszego kiermaszu rękodzieła\, jaki zobaczycie! \n\n\n\nRĘKODZIWOzrzesza osoby\, których oryginalne prace zaskakują osobliwością\, niecodziennością i wyjątkową estetyką. Nie straszny nam kicz\, cringe\, wszelka dziwność\, szaleństwo treści i formy! Jeśli kochasz psychodeliczne odkleje\, dziki upcycling\, a także nieznane twórcze osóbki z małymi stoiskami\, których nigdy jeszcze nie widziałxś\, to event ewidentnie dla Ciebie!  \n\n\n\n• WSTĘP WOLNY • \n\n\n\nLokalizacja wydarzenia: \n\n\n\n Adres: Puławska 37 \n\n\n\n Najbliższe przystanki:⁣　BUS Rakowiecka i Dworkowa- 118\, 119\, 138Goworka -167\, 168TRAMWAJ Rakowiecka i Dworkowa- 4\, 10\, 11\, 14\, 15\, 16\, 18\, 19\, C4⁣　METRO (linia M1) Stacja Pole Mokotowskie dla chętnych na 25 minutowy spacer (przesiadki w tramwaj jest najlepsza na Wilanowskiej) 
URL:https://adapulawska.org/wydarzenie/%f0%9f%91%bdrekodziwo%f0%9f%91%bd2-kiermasz-dziwnego-rekodziela/
LOCATION:ADA Puławska\, Puławska 37\, Warszawa\, 02-508\, Poland
ATTACH;FMTTYPE=image/jpeg:https://adapulawska.org/wp-content/uploads/2025/11/574574094_122135375090966696_1353928381661564029_n.jpg
END:VEVENT
END:VCALENDAR