BEGIN:VCALENDAR
VERSION:2.0
PRODID:-//A.D.A. Puławska - ECPv6.15.20//NONSGML v1.0//EN
CALSCALE:GREGORIAN
METHOD:PUBLISH
X-WR-CALNAME:A.D.A. Puławska
X-ORIGINAL-URL:https://adapulawska.org
X-WR-CALDESC:Wydarzenia dla A.D.A. Puławska
REFRESH-INTERVAL;VALUE=DURATION:PT1H
X-Robots-Tag:noindex
X-PUBLISHED-TTL:PT1H
BEGIN:VTIMEZONE
TZID:Europe/Warsaw
BEGIN:DAYLIGHT
TZOFFSETFROM:+0100
TZOFFSETTO:+0200
TZNAME:CEST
DTSTART:20240331T010000
END:DAYLIGHT
BEGIN:STANDARD
TZOFFSETFROM:+0200
TZOFFSETTO:+0100
TZNAME:CET
DTSTART:20241027T010000
END:STANDARD
BEGIN:DAYLIGHT
TZOFFSETFROM:+0100
TZOFFSETTO:+0200
TZNAME:CEST
DTSTART:20250330T010000
END:DAYLIGHT
BEGIN:STANDARD
TZOFFSETFROM:+0200
TZOFFSETTO:+0100
TZNAME:CET
DTSTART:20251026T010000
END:STANDARD
BEGIN:DAYLIGHT
TZOFFSETFROM:+0100
TZOFFSETTO:+0200
TZNAME:CEST
DTSTART:20260329T010000
END:DAYLIGHT
BEGIN:STANDARD
TZOFFSETFROM:+0200
TZOFFSETTO:+0100
TZNAME:CET
DTSTART:20261025T010000
END:STANDARD
END:VTIMEZONE
BEGIN:VEVENT
DTSTART;TZID=Europe/Warsaw:20251121T200000
DTEND;TZID=Europe/Warsaw:20251121T230000
DTSTAMP:20260422T063606
CREATED:20251105T202444Z
LAST-MODIFIED:20251105T202445Z
UID:15693-1763755200-1763766000@adapulawska.org
SUMMARY:ILUMINACJE - drag open stage w Warszawie
DESCRIPTION:To już siódma edycja ILU ILU ILU – ILUMINACJI! \nJesteś drag performer? Drag king\, quing\, thing\, queen\, monster? Zgłoś się przez formularz: https://forms.gle/U2NF2fGwQGzUoANs8ddl zgłoszeń 9.11 23:59  \nWięcej informacji w formularzu! \nJesteś fan/supporter dragu?Wlota dla publiki też oczywiście będzie – szykujcie wallets i wpisujcie w calendars!  \nStart: 20:00Host: VUJOOrganizacja: ADA Puławska\, S.L.U.T. i VUJO
URL:https://adapulawska.org/wydarzenie/iluminacje-drag-open-stage-w-warszawie/
LOCATION:ADA Puławska\, Puławska 37\, Warszawa\, 02-508\, Poland
ATTACH;FMTTYPE=image/jpeg:https://adapulawska.org/wp-content/uploads/2025/11/568497978_122302880168007815_4781742459172230529_n.jpg
END:VEVENT
END:VCALENDAR