BEGIN:VCALENDAR
VERSION:2.0
PRODID:-//A.D.A. Puławska - ECPv6.15.20//NONSGML v1.0//EN
CALSCALE:GREGORIAN
METHOD:PUBLISH
X-WR-CALNAME:A.D.A. Puławska
X-ORIGINAL-URL:https://adapulawska.org
X-WR-CALDESC:Wydarzenia dla A.D.A. Puławska
REFRESH-INTERVAL;VALUE=DURATION:PT1H
X-Robots-Tag:noindex
X-PUBLISHED-TTL:PT1H
BEGIN:VTIMEZONE
TZID:Europe/Warsaw
BEGIN:DAYLIGHT
TZOFFSETFROM:+0100
TZOFFSETTO:+0200
TZNAME:CEST
DTSTART:20240331T010000
END:DAYLIGHT
BEGIN:STANDARD
TZOFFSETFROM:+0200
TZOFFSETTO:+0100
TZNAME:CET
DTSTART:20241027T010000
END:STANDARD
BEGIN:DAYLIGHT
TZOFFSETFROM:+0100
TZOFFSETTO:+0200
TZNAME:CEST
DTSTART:20250330T010000
END:DAYLIGHT
BEGIN:STANDARD
TZOFFSETFROM:+0200
TZOFFSETTO:+0100
TZNAME:CET
DTSTART:20251026T010000
END:STANDARD
BEGIN:DAYLIGHT
TZOFFSETFROM:+0100
TZOFFSETTO:+0200
TZNAME:CEST
DTSTART:20260329T010000
END:DAYLIGHT
BEGIN:STANDARD
TZOFFSETFROM:+0200
TZOFFSETTO:+0100
TZNAME:CET
DTSTART:20261025T010000
END:STANDARD
END:VTIMEZONE
BEGIN:VEVENT
DTSTART;TZID=Europe/Warsaw:20251107T190000
DTEND;TZID=Europe/Warsaw:20251107T220000
DTSTAMP:20260422T063622
CREATED:20251105T201437Z
LAST-MODIFIED:20251105T201438Z
UID:15679-1762542000-1762552800@adapulawska.org
SUMMARY:WARSAW ROLLER DERBY NA ADZIE!
DESCRIPTION:Warsaw Roller Derby zaprasza na wspólny wieczór na Adzie Puławskiej \n🛼To może najpierw czym jest Roller Derby? Naszą pasją i mega zajawką\, którą chcemy się podzielić i Was do niej zaprosić. Jest to oddolny sport drużynowy\, kontaktowy na WROTKACH 😲 \n😈Ścigamy się\, przepychamy\, snujemy strategie i mamy derby names niczym drag queens. U nas każdego rodzaju ciało się sprawdzi\, więc porzućcie wymówki i wpadnijcie na trening rekrutacyjny nawet jeśli wasza stopa nigdy nie doznała wrot! 💪 \n📺 Co w takim razie porobimy na spotkaniu? Obejrzymy film\, który sprawił\, że świat dowiedział się w ogóle o tym szalonym sporcie oraz zachęcił do niego sporą część z nas. Potem pogadamy o faktach i mitach roller derby\, zasadach\, tym co derby nam dają oraz zagramy sobie w symulację rozgrywki 😁 \n– sito – przynieście swoje kosuzlki/ torby co tam chcecie!– przekaski– dj – stay tuned! \nOtwieramy bramkę o 19:00! \n😼 Kogo zapraszamy? – Osoby 16+ chętne dowiedzenia się więcej i spędzenia miło czasu jesiennego wieczoru. Kto wie może po obejrzeniu filmu zapragniecie zacząć trenować lub zostać sędziami albo wiernymi fanami! 🖤 \n💥Gdzie – ul. Puławska 37💥Kiedy – 7 listopada w godz 19.30-23💥Wstęp – Free! 💥Rekrutacja 10 listopada – 💥Najbliższy mecz w Warszawie – 29 listopada
URL:https://adapulawska.org/wydarzenie/warsaw-roller-derby-na-adzie/
LOCATION:ADA Puławska\, Puławska 37\, Warszawa\, 02-508\, Poland
ATTACH;FMTTYPE=image/jpeg:https://adapulawska.org/wp-content/uploads/2025/11/565393918_782055134706868_3414896667544496060_n.jpg
END:VEVENT
END:VCALENDAR