BEGIN:VCALENDAR
VERSION:2.0
PRODID:-//A.D.A. Puławska - ECPv6.15.20//NONSGML v1.0//EN
CALSCALE:GREGORIAN
METHOD:PUBLISH
X-ORIGINAL-URL:https://adapulawska.org
X-WR-CALDESC:Wydarzenia dla A.D.A. Puławska
REFRESH-INTERVAL;VALUE=DURATION:PT1H
X-Robots-Tag:noindex
X-PUBLISHED-TTL:PT1H
BEGIN:VTIMEZONE
TZID:Europe/Warsaw
BEGIN:DAYLIGHT
TZOFFSETFROM:+0100
TZOFFSETTO:+0200
TZNAME:CEST
DTSTART:20240331T010000
END:DAYLIGHT
BEGIN:STANDARD
TZOFFSETFROM:+0200
TZOFFSETTO:+0100
TZNAME:CET
DTSTART:20241027T010000
END:STANDARD
BEGIN:DAYLIGHT
TZOFFSETFROM:+0100
TZOFFSETTO:+0200
TZNAME:CEST
DTSTART:20250330T010000
END:DAYLIGHT
BEGIN:STANDARD
TZOFFSETFROM:+0200
TZOFFSETTO:+0100
TZNAME:CET
DTSTART:20251026T010000
END:STANDARD
BEGIN:DAYLIGHT
TZOFFSETFROM:+0100
TZOFFSETTO:+0200
TZNAME:CEST
DTSTART:20260329T010000
END:DAYLIGHT
BEGIN:STANDARD
TZOFFSETFROM:+0200
TZOFFSETTO:+0100
TZNAME:CET
DTSTART:20261025T010000
END:STANDARD
END:VTIMEZONE
BEGIN:VEVENT
DTSTART;TZID=Europe/Warsaw:20251024T180000
DTEND;TZID=Europe/Warsaw:20251024T235900
DTSTAMP:20260422T084024
CREATED:20250916T131014Z
LAST-MODIFIED:20250916T131025Z
UID:15561-1761328800-1761350340@adapulawska.org
SUMMARY:Pamięci Davida Chichkana
DESCRIPTION:Pamięci Davida ChickanaПамʼяті Давида Чичкана \nDavid Chichkan. Artysta – Anarchista – Żołnierz. \nSpotykamy się by wspomnieć naszego poległego kolegę.  \nW planie wydarzenia wystawy\, dyskusje i koncert. \nPodczas wydarzenia będziemy zbierać fundusze na Kolektywy Solidarności. \nWięcej szczegółów wkrótce.
URL:https://adapulawska.org/wydarzenie/pamieci-davida-chichkana/
LOCATION:ADA Puławska\, Puławska 37\, Warszawa\, 02-508\, Poland
ATTACH;FMTTYPE=image/jpeg:https://adapulawska.org/wp-content/uploads/2025/09/537671945_1221478540008385_3303441156457377222_n.jpg
ORGANIZER;CN="ADA Pu%C5%82awska":MAILTO:kontakt@adapulawska.org
END:VEVENT
END:VCALENDAR