BEGIN:VCALENDAR
VERSION:2.0
PRODID:-//A.D.A. Puławska - ECPv6.15.20//NONSGML v1.0//EN
CALSCALE:GREGORIAN
METHOD:PUBLISH
X-ORIGINAL-URL:https://adapulawska.org
X-WR-CALDESC:Wydarzenia dla A.D.A. Puławska
REFRESH-INTERVAL;VALUE=DURATION:PT1H
X-Robots-Tag:noindex
X-PUBLISHED-TTL:PT1H
BEGIN:VTIMEZONE
TZID:Europe/Warsaw
BEGIN:DAYLIGHT
TZOFFSETFROM:+0100
TZOFFSETTO:+0200
TZNAME:CEST
DTSTART:20240331T010000
END:DAYLIGHT
BEGIN:STANDARD
TZOFFSETFROM:+0200
TZOFFSETTO:+0100
TZNAME:CET
DTSTART:20241027T010000
END:STANDARD
BEGIN:DAYLIGHT
TZOFFSETFROM:+0100
TZOFFSETTO:+0200
TZNAME:CEST
DTSTART:20250330T010000
END:DAYLIGHT
BEGIN:STANDARD
TZOFFSETFROM:+0200
TZOFFSETTO:+0100
TZNAME:CET
DTSTART:20251026T010000
END:STANDARD
BEGIN:DAYLIGHT
TZOFFSETFROM:+0100
TZOFFSETTO:+0200
TZNAME:CEST
DTSTART:20260329T010000
END:DAYLIGHT
BEGIN:STANDARD
TZOFFSETFROM:+0200
TZOFFSETTO:+0100
TZNAME:CET
DTSTART:20261025T010000
END:STANDARD
END:VTIMEZONE
BEGIN:VEVENT
DTSTART;TZID=Europe/Warsaw:20251010T180000
DTEND;TZID=Europe/Warsaw:20251010T220000
DTSTAMP:20260422T084025
CREATED:20250929T121322Z
LAST-MODIFIED:20250929T121323Z
UID:15640-1760119200-1760133600@adapulawska.org
SUMMARY:Emancypunx not dead * 30 lat anarchofeministycznej grupy
DESCRIPTION:Emancypunx kończy 30 lat! Z tej okazji zapraszamy na dyskusję\, wystawę i zabawę. Wystąpią: 25 Jesuses of Fear – art goth punk/ WarszawaZłe OKO/ Oslo – feminoise// drone// punk/ OsloSiory/ Poznań– performatywny girlsband/ PoznańDj N0 TENGO PATRIA (Kostja Usenko z Super Girl Romantic Boys) – grrrrl punk/postpunk/wave/new romantic/electroclash/rap/grime etc – od PL aż po IranKiedy to zleciało? Zapraszamy na nasze urodziny\, w czasie których powspominamy anarchofeministyczne działania\, które inicjowałyśmy w Warszawie i innych miastach. Będzie dyskusja o tym\, co się zmieniło w feminizmie przez ostatnie trzy dekady i kim jesteśmy dziś. Zaprezentujemy również część naszego archiwum\, czyli zdjęcia\, ulotki\, ziny\, plakaty i artefakty z czasów przedinternetowych. A na koniec koncerty zaprzyjaźnionych artystek. Mamy nadzieję\, że wspólnie będziemy świętować działalność Emancypunx!Zagrają:25 Jesuses of Fear są zespołem art goth punkowym z Warszawy. Mieszają elementy deathrocka\, post punku\, nosie rocka\, no waveu. Teksty piosenek to absurdalne obrazy łączące uczucie alienacji i wewnętrznej walki emocjonalnej. Wyrażają emocje w brutalny poetycki sposób. Można u nich znaleźć także tematy tj. krytyka mechanizmów prowadzących do dehumanizacji\, bezsensowności cyklu konsumpcjonizmu i przemocy seksualnej.Bandcamp: https://25jesusesoffear.bandcamp.com/album/rotting-ruminationsZŁE OKO – feminoise// drone// punk to jednoosobowy projekt muzyczny Olgi\, industrialno – punkowej graficzki\, autorki kolaży i byłej basistki punkowego zespołu DNO\, obecnie zamieszkałej w Oslo. To cyfrowa agonia i apokalipsa\, dronowe downtempo i noise. W 2018 roku ZŁE OKO zadebiutowała EP-ką „Cykuta” a w 2020 wydała split z Edvardem Kstropfem. Echa industrialu początku lat 90-tych spod znaku wczesnych produkcji Ministry i Godflesh mieszają się tu z duchem feministycznego anarcho- punka rodem z Crass Records\, a w tekstach słychać niezgodę na ludzkie okrucieństwo\, nierówności i stan polskiej i światowej polityki. Warstwa dźwiękowa i wizualna to kolaże m.in. upiornych sampli z youtube i stacji w rodzaju TVP Info. Nowa plyta “XENOS” ukazala się 23 kwietnia 2024 nakładem DIY Koło Records i Zoharum Experimental Art. Bandcamp: www.zleoko23.bandcamp.comSIORY – performatywny thunder synth punkowy/raperski aktywistyczny girlsband. Założony w 2017 przez A.Winnicką (Mc. Awu)\, od 2024 z Marlą Skiber (Mc. Mizz). Projekt współtworzą tancerki i choreografki m.in: Krystyna Lama Szydłowska\, Sylwia Marciniuk\, Wiktoria Sobota\, Dorota Michalak. Po pierwszym albumie SIORY_SERCE trwają prace nad MAGNUM skoncentrowanym głównie wokół rapu.IG: @siory_serceFB: www.facebook.com/olawinnickasioryPosłuchaj: https://on.soundcloud.com/8ZdS8SbwAvTLHscV8
URL:https://adapulawska.org/wydarzenie/emancypunx-not-dead-30-lat-anarchofeministycznej-grupy/
LOCATION:ADA Puławska\, ADA Puławska
ATTACH;FMTTYPE=image/jpeg:https://adapulawska.org/wp-content/uploads/2025/09/503616039_122126289812827117_1637678992650405791_n.jpg
END:VEVENT
END:VCALENDAR