BEGIN:VCALENDAR
VERSION:2.0
PRODID:-//A.D.A. Puławska - ECPv6.15.20//NONSGML v1.0//EN
CALSCALE:GREGORIAN
METHOD:PUBLISH
X-WR-CALNAME:A.D.A. Puławska
X-ORIGINAL-URL:https://adapulawska.org
X-WR-CALDESC:Wydarzenia dla A.D.A. Puławska
REFRESH-INTERVAL;VALUE=DURATION:PT1H
X-Robots-Tag:noindex
X-PUBLISHED-TTL:PT1H
BEGIN:VTIMEZONE
TZID:Europe/Warsaw
BEGIN:DAYLIGHT
TZOFFSETFROM:+0100
TZOFFSETTO:+0200
TZNAME:CEST
DTSTART:20240331T010000
END:DAYLIGHT
BEGIN:STANDARD
TZOFFSETFROM:+0200
TZOFFSETTO:+0100
TZNAME:CET
DTSTART:20241027T010000
END:STANDARD
BEGIN:DAYLIGHT
TZOFFSETFROM:+0100
TZOFFSETTO:+0200
TZNAME:CEST
DTSTART:20250330T010000
END:DAYLIGHT
BEGIN:STANDARD
TZOFFSETFROM:+0200
TZOFFSETTO:+0100
TZNAME:CET
DTSTART:20251026T010000
END:STANDARD
BEGIN:DAYLIGHT
TZOFFSETFROM:+0100
TZOFFSETTO:+0200
TZNAME:CEST
DTSTART:20260329T010000
END:DAYLIGHT
BEGIN:STANDARD
TZOFFSETFROM:+0200
TZOFFSETTO:+0100
TZNAME:CET
DTSTART:20261025T010000
END:STANDARD
END:VTIMEZONE
BEGIN:VEVENT
DTSTART;TZID=Europe/Warsaw:20250930T190000
DTEND;TZID=Europe/Warsaw:20250930T220000
DTSTAMP:20260422T083911
CREATED:20250916T130936Z
LAST-MODIFIED:20250916T130937Z
UID:15557-1759258800-1759269600@adapulawska.org
SUMMARY:DIY GIG: FINISTERRE + SOW THE SEED\, REAP THE FEAR
DESCRIPTION:Na początek jesieni wjeżdżaj na kajdaniarski wieczorek.Będzie zajebane w piwnicy\, w zacnym towarzystwie:FINISTERRE (Kolonia)Weterani smutnego crusta wracają po latach do Warszawy. Emocjonalne partie wymieszane z punkowymi galopadami typu d-beat\, do tego polityczny mesydż przeciwko chujostwom tego świata. Lubisz to!https://finisterre.bandcamp.com/https://www.facebook.com/finisterre.punx/SOW THE SEED\, REAP THE FEAR (Warszawa) Świeża krew na polu\, które wydawało się ciut zasuszone. Granko w typie kochany neocrust spotyka skrimowe odkurzacze. Fanki i fani Fall Of Efrafa\, Orchida czy takiego Alpinista attention! Ekipa sztywniutko po jasnej stronie\, zaangażowana m.in w Empatia Distro. Szanuj!https://youtu.be/fdmiMWlZaDw?si=sydPuuSgonrHPPYJhttps://youtu.be/baiqd8OlJtk?si=z_migmL2V3AoIKeohttps://instagram.com/stsxrtf30.0919.00ADA PUŁAWSKA
URL:https://adapulawska.org/wydarzenie/diy-gig-finisterre-sow-the-seed-reap-the-fear/
LOCATION:ADA Puławska\, ADA Puławska
ATTACH;FMTTYPE=image/jpeg:https://adapulawska.org/wp-content/uploads/2025/09/547188941_1458701478532201_1197721705202254335_n.jpg
END:VEVENT
END:VCALENDAR