BEGIN:VCALENDAR
VERSION:2.0
PRODID:-//A.D.A. Puławska - ECPv6.15.20//NONSGML v1.0//EN
CALSCALE:GREGORIAN
METHOD:PUBLISH
X-WR-CALNAME:A.D.A. Puławska
X-ORIGINAL-URL:https://adapulawska.org
X-WR-CALDESC:Wydarzenia dla A.D.A. Puławska
REFRESH-INTERVAL;VALUE=DURATION:PT1H
X-Robots-Tag:noindex
X-PUBLISHED-TTL:PT1H
BEGIN:VTIMEZONE
TZID:Europe/Warsaw
BEGIN:DAYLIGHT
TZOFFSETFROM:+0100
TZOFFSETTO:+0200
TZNAME:CEST
DTSTART:20240331T010000
END:DAYLIGHT
BEGIN:STANDARD
TZOFFSETFROM:+0200
TZOFFSETTO:+0100
TZNAME:CET
DTSTART:20241027T010000
END:STANDARD
BEGIN:DAYLIGHT
TZOFFSETFROM:+0100
TZOFFSETTO:+0200
TZNAME:CEST
DTSTART:20250330T010000
END:DAYLIGHT
BEGIN:STANDARD
TZOFFSETFROM:+0200
TZOFFSETTO:+0100
TZNAME:CET
DTSTART:20251026T010000
END:STANDARD
BEGIN:DAYLIGHT
TZOFFSETFROM:+0100
TZOFFSETTO:+0200
TZNAME:CEST
DTSTART:20260329T010000
END:DAYLIGHT
BEGIN:STANDARD
TZOFFSETFROM:+0200
TZOFFSETTO:+0100
TZNAME:CET
DTSTART:20261025T010000
END:STANDARD
END:VTIMEZONE
BEGIN:VEVENT
DTSTART;TZID=Europe/Warsaw:20250906T110000
DTEND;TZID=Europe/Warsaw:20250907T170000
DTSTAMP:20260422T103215
CREATED:20250429T102107Z
LAST-MODIFIED:20250619T155733Z
UID:15063-1757156400-1757264400@adapulawska.org
SUMMARY:9th Warsaw Independent Bookfair 6-7.09
DESCRIPTION:WARSAW INDEPENDENT BOOKFAIR 2025 \n„Im więcej wiesz\, tym lepiej działasz” \nZapraszamy na IX edycję Warsaw Independent Bookfair\, który odbędzie się w Warszawie w terminie 6-7.09.2025 \nWarsaw Independent Bookfair 2025 to przestrzeń wolnej myśli i kultury\, będąco narzędziem sprzeciwu wobec cichej cenzury\, monopolizacji i kapitalistycznych ograniczeń rynku książki. Działamy\, aby wspierać twórców i twórczynie\, którzy odrzucają komercyjne kompromisy\, bronią autonomii swoich przekazów i budują alternatywne modele dystrybucji oraz współpracy. Wydarzenie jest otwarte dla wszystkich osób\, które wierzą w wartość samoorganizacji\, oddolnej solidarności i anarchistycznych idei jako siły zmieniającej świat. W zeszłych latach wiele dyskutowaliśmy o tych pojawiających się problemach. Widzimy że ich rozwiązanie wymaga globalnej świadomości\, solidarności między twórcami i czytelnikami\, oraz wsparcia dla niezależnych inicjatyw kulturowych. Tak jak przez ostatnie lata\, tak i teraz chcemy nie tylko pogłębić nasze dyskusje i krytyki\, ale także wypracować rozwiązania. Zapraszamy was do aktywnego uczestnictwa w wydarzeniu. \nDeklamujcie manifesty!\nSpotykajcie się i dyskutujcie!\nPrezentujcie nowe rozwiązania!\nBądźcie kreatywni i kreatywne!\nJesteśmy otwarci na Wasze propozycje! \nWydarzeniu będą towarzyszyć spotkania (także w formie online)\, w trakcie których będą poruszane tematy obecnie zajmujące wydawnictwa niezależne oraz inicjatywy oddolne\, które wpisują się w ideę dziewiątego Niezależnego Kiermaszu Książek. Jest on otwarty na przekaz równościowy obejmujący głos osób wykluczanych. Jest przestrzenią do wspólnego dzielenia się naszymi doświadczeniami\, uczenia się od siebie nawzajem\, dyskutowania z szacunkiem nad alternatywami oraz spojrzenia krytycznie na współczesną rzeczywistość. \nW poprzednim w kiermaszu brały udział wydawnictwa\, kolektywy i osoby reprezentujące różne środowiska zarówno z Polski jak i zagranicy. Wydarzenie przyciągnęło też sporo miłośniczek i miłośników książek i liczymy na to\, że w tym roku będzie podobnie. \nNaszym wyróżnikiem jest też to\, że nie pobieramy opłaty za stoisko. Jeśli bardzo chcesz przyjechać a jedyną przeszkodą są dla Ciebie finanse\, napisz do nas – spróbujemy coś razem wymyślić. Kiermasz jest bezpłatny dla osób odwiedzających. \nPonieważ mamy ograniczoną liczbę stanowisk\, prosimy o wcześniejsze zgłoszenie. Na zgłoszenia czekamy do 1 czerwca 2025 r. pod adresem warsawbookfair[at]riseup.net. Na ten sam adres mailowy można przysyłać wszelkie propozycje współpracy\, pytania i uwagi odnośnie wydarzenia. \nZapraszamy!\nKolektyw Warszawskiego Niezależnego Kiermaszu Książek \nwww: warsawbookfair.noblogs.org\ntwitter: twitter.com/WarsawBookfair\nfacebook: facebook.com/warsawbookfair\ninstagram ENG: @warsaw_independent_bookfair \ngrafika: Kaciaryna @kcia.the.rising.tide \nTematyka: #Internacjonalizm\, #Wielokulturowość\, #Migracje\, #Diaspory\, #Antymilitaryzm\, #Granice\, #Pomocwzajemna\, #Samoorganizacja\, #Literatura\, #Kultura \n— \nWARSAW INDEPENDENT BOOKFAIR 2025 \n‘The more you know\, the better you act’. \nWe would like to invite you to the 9th edition of Warsaw Independent Bookfair\, which will take place in Warsaw on 6-7.09.2025 \nWarsaw Independent Bookfair 2025 is a space for free thought and culture\, a tool for opposing the silent censorship\, monopolisation and capitalist restrictions of the book market. We act to support authors and creators who reject commercial compromises\, defend the autonomy of their messages and build alternative models of distribution and collaboration. The event is open to all people who believe in the value of self-organisation\, grassroots solidarity and anarchist ideas as a world-changing force. In the past years we have discussed a lot about these emerging issues. We recognise that their solution requires global awareness\, solidarity between creators and readers\, and support for independent cultural initiatives. As we have done in recent years\, we want not only to deepen our discussions and critiques\, but also to develop solutions. We invite you to actively participate in the event. \nDeclare manifestos!\nMeet and discuss!\nPresent new solutions!\nBe creative and imaginative!\nWe are open to your suggestions! \nThe event will be accompanied by meetings (also online) to discuss topics currently preoccupying independent publishers and grassroots initiatives that fit in with the idea of the ninth Independent Bookfair. It is open to an equality message that includes the voice of the excluded. It is a space to share our experiences together\, learn from each other\, respectfully discuss alternatives and take a critical look at contemporary reality. \nThe previous fair was attended by publishers\, collectives and individuals representing a variety of backgrounds from both Poland and abroad. The event also attracted quite a few book lovers and we hope that this year will be similar. \nOur distinctive feature is also that we do not charge for a stand. If you really want to come and the only obstacle for you is finances\, write to us – we will try to work something out together. The fair is free for visitors. \nAs we have a limited number of stands\, we ask you to register in advance. We are waiting for applications until 1 June 2025 at warsawbookfair@riseup.net. You can send any collaboration proposals\, questions and comments about the event to the same email address. \nWe look forward to hearing from you!\nThe Warsaw Independent Bookfair Collective \nwww: warsawbookfair.noblogs.org\ntwitter: twitter.com/WarsawBookfair\nfacebook: facebook.com/warsawbookfair\nENG instagram: @warsaw_independent_bookfair \ngraphic: Kaciaryna @kcia.the.rising.tide \nTopics: #Internationalism\, #Multiculturalism\, #Migration\, #Diaspora\, #Antimilitarism\, #Borders\, #MutualAid\, #Self-organisation\, #Literature\, #Culture.
URL:https://adapulawska.org/wydarzenie/9th-warsaw-independent-bookfair-6-7-09/
LOCATION:ADA Puławska\, Puławska 37\, Warszawa\, 02-508\, Poland
CATEGORIES:kiermasz,spotkanie
ATTACH;FMTTYPE=image/jpeg:https://adapulawska.org/wp-content/uploads/2025/04/bookfair-scaled.jpg
END:VEVENT
END:VCALENDAR