BEGIN:VCALENDAR
VERSION:2.0
PRODID:-//A.D.A. Puławska - ECPv6.15.20//NONSGML v1.0//EN
CALSCALE:GREGORIAN
METHOD:PUBLISH
X-WR-CALNAME:A.D.A. Puławska
X-ORIGINAL-URL:https://adapulawska.org
X-WR-CALDESC:Wydarzenia dla A.D.A. Puławska
REFRESH-INTERVAL;VALUE=DURATION:PT1H
X-Robots-Tag:noindex
X-PUBLISHED-TTL:PT1H
BEGIN:VTIMEZONE
TZID:Europe/Warsaw
BEGIN:DAYLIGHT
TZOFFSETFROM:+0100
TZOFFSETTO:+0200
TZNAME:CEST
DTSTART:20240331T010000
END:DAYLIGHT
BEGIN:STANDARD
TZOFFSETFROM:+0200
TZOFFSETTO:+0100
TZNAME:CET
DTSTART:20241027T010000
END:STANDARD
BEGIN:DAYLIGHT
TZOFFSETFROM:+0100
TZOFFSETTO:+0200
TZNAME:CEST
DTSTART:20250330T010000
END:DAYLIGHT
BEGIN:STANDARD
TZOFFSETFROM:+0200
TZOFFSETTO:+0100
TZNAME:CET
DTSTART:20251026T010000
END:STANDARD
BEGIN:DAYLIGHT
TZOFFSETFROM:+0100
TZOFFSETTO:+0200
TZNAME:CEST
DTSTART:20260329T010000
END:DAYLIGHT
BEGIN:STANDARD
TZOFFSETFROM:+0200
TZOFFSETTO:+0100
TZNAME:CET
DTSTART:20261025T010000
END:STANDARD
END:VTIMEZONE
BEGIN:VEVENT
DTSTART;TZID=Europe/Warsaw:20250823T190000
DTEND;TZID=Europe/Warsaw:20250823T220000
DTSTAMP:20260422T122555
CREATED:20250702T082211Z
LAST-MODIFIED:20250702T082212Z
UID:15451-1755975600-1755986400@adapulawska.org
SUMMARY:PUNK x 4 // INDIKATOR B + TRÄUME + INCIDENT + SIECZKARNIA // 23.08 // ADA PUŁAWSKA
DESCRIPTION:CONSTANT EAST 25 \nJedziesz na wakacje golfem w gazie\, cała fura zajebana leżakami\, ojciec mówi że nie napełnił klimatyzacji przed wyjazdem i masz przestać jęczeć\, że ci gorąco bo są otwarte okna\, a jak się nie podoba to możesz kupić sobie swój samochód i wtedy będziesz mieć chłodno. Brzmi znajomo? Zero zdziwienia\, w końcu co roku latem chorwację nawiedza plaga polaków\, którzy całymi rodzinami piją piwo Ożujsko z puszki\, kupują rakiję na przydrożnych straganach\, grillują i drą mordy na skalnych plażach\, a na koniec wyrzucają śmieci do Adriatyku. Dla zachowania równowagi tym razem to chorwaci będą śmiecić\, hałasować i pić piwo w polsce.  \nZ okazji zakończenia wakacji i koncertowej przerwy zapraszamy do piwnicy na Adzie Puławskiej. \nINDIKATOR B (Zagrzeb)  \nTydzień poźniej szykuje się powrót do szkoły i ponoć babka od muzyki przygotowała niezapowiedzianą kartkówkę z punka z Jugosławii – podrzucamy szybką ściągę. Kawałki po 2 minuty\, dużo melodii pomieszanych z agresywnymi riffami\, wszystko grane szybko. 40 lat później Indikator B hołduje kapelom zza żelaznej kurtyny takim jak Quod Massacre\, Etiopia czy Trula Koalicija pamiętając o tym\, że mamy 2025 rok. \nhttps://indikatorb.bandcamp.com \nTRÄUME (Warszawa)  \nTräume to warszawski hardcorepunk ze skrzydłami nietoperza zagrany z takim jebnięciem\, że starzy załoganci instalują sobie spotify\, a młodzi wpisują w google „skłot czarna żaba” i „czad giełda kotły”. Intensywność i surowość polskich lat 80tych pomieszana z onirycznym postpunkowym chłodem. Jest tu wszystko czego potrzeba do szczęścia: bęben solidny\, ciągnąca gitara no i ten wokal ach. Jest też bas oczywiście no ale co o basie napisać poza tym\, że basista kocha Spandau Ballet? \nhttps://traumepunk.bandcamp.com \nINCIDENT (Lublin) \nNikt o Ciebie nie zadba tak jak ulica a wiadomo\, że brudne jej bramy salonem twoim są. Rozgość się zatem i zasiądź przy suto zastawionym stole wraz z przyjaciółmi i powspominajcie czas kiedy pierwszy raz usłyszeliście Cock Sparrer albo smak piwka na kajakach w zeszłym roku. Incident grają punka szorstkiego jak kostka bauma i szczerego jak pobudka przed siódmą rano. \nhttps://incidentpunks.bandcamp.com \nSIECZKARNIA (Toruń) \nUrodzeni za późno\, żeby coś tam\, urodzeni za wcześnie\, żeby coś tam coś – Sieczkarnia pierdoli kiedy się urodziła i gra zajebistego punka rodem z Jarocina 84. MNIEJ ZNACZY WIĘCEJ – ta dwójka gra na bas i perkusję\, jaka jest twoja wymówka?  \nOna straciła kontrole > She’s lost control \nhttps://closecallrecords.bandcamp.com/album/narodziny-agonii-lp \n23.0819:00ADA PUŁAWSKA
URL:https://adapulawska.org/wydarzenie/punk-x-4-indikator-b-traume-incident-sieczkarnia-23-08-ada-pulawska/
LOCATION:ADA Puławska\, Puławska 37\, Warszawa\, 02-508\, Poland
ATTACH;FMTTYPE=image/jpeg:https://adapulawska.org/wp-content/uploads/2025/07/512470900_701927876150980_1131511885419348364_n.jpg
END:VEVENT
END:VCALENDAR