BEGIN:VCALENDAR
VERSION:2.0
PRODID:-//A.D.A. Puławska - ECPv6.15.20//NONSGML v1.0//EN
CALSCALE:GREGORIAN
METHOD:PUBLISH
X-WR-CALNAME:A.D.A. Puławska
X-ORIGINAL-URL:https://adapulawska.org
X-WR-CALDESC:Wydarzenia dla A.D.A. Puławska
REFRESH-INTERVAL;VALUE=DURATION:PT1H
X-Robots-Tag:noindex
X-PUBLISHED-TTL:PT1H
BEGIN:VTIMEZONE
TZID:Europe/Warsaw
BEGIN:DAYLIGHT
TZOFFSETFROM:+0100
TZOFFSETTO:+0200
TZNAME:CEST
DTSTART:20240331T010000
END:DAYLIGHT
BEGIN:STANDARD
TZOFFSETFROM:+0200
TZOFFSETTO:+0100
TZNAME:CET
DTSTART:20241027T010000
END:STANDARD
BEGIN:DAYLIGHT
TZOFFSETFROM:+0100
TZOFFSETTO:+0200
TZNAME:CEST
DTSTART:20250330T010000
END:DAYLIGHT
BEGIN:STANDARD
TZOFFSETFROM:+0200
TZOFFSETTO:+0100
TZNAME:CET
DTSTART:20251026T010000
END:STANDARD
BEGIN:DAYLIGHT
TZOFFSETFROM:+0100
TZOFFSETTO:+0200
TZNAME:CEST
DTSTART:20260329T010000
END:DAYLIGHT
BEGIN:STANDARD
TZOFFSETFROM:+0200
TZOFFSETTO:+0100
TZNAME:CET
DTSTART:20261025T010000
END:STANDARD
END:VTIMEZONE
BEGIN:VEVENT
DTSTART;TZID=Europe/Warsaw:20250619T190000
DTEND;TZID=Europe/Warsaw:20250619T220000
DTSTAMP:20260422T162211
CREATED:20250228T133214Z
LAST-MODIFIED:20250619T155805Z
UID:14896-1750359600-1750370400@adapulawska.org
SUMMARY:Agnosy (UK)\, Larma (SE)\, Smoła (PZN)\, User (WAW)
DESCRIPTION:Agnosy (crust punk) – UK\nAgnosy to ciężkie\, nisko strojone riffy z intensywnym d-beat’em\, surowym wokalem i mrocznym\, metalicznym brzmieniem\, charakterystycznym dla gatunku. Teksty Agnosy poruszają tematy polityczne\, społeczne i antyfaszystowskie\, odzwierciedlając zaangażowanie zespołu w kwestie społeczne.\nhttps://agnosy.bandcamp.com/album/when-daylight-reveals-the-torture\nhttps://facebook.com/agnosy \nLarma (punk hardcore) – SE\nLarma to ścieżka dźwiękowa Twojej następnej sesji na desce – bezkompromisowy kängpunk/d-beat\, nawiązujący do klasyki szwedzkiego hardcore’a w stylu Totalitär.\nhttps://larma1.bandcamp.com/album/larma-s-t \nSmoła (powerviolence) – Poznań\nSmoła wbrew swojej nazwie nie płynie powoli\, tylko zapierdala jak salwa pocisków z działka przeciwlotniczego\, wystrzelona przez niezrównoważonego emocjonalnie\, nasterdyowanego świra. Poznaniacy to idealna propozycja muzyczna dla lubiących się spocić i od czasu do czasu dostać zawału.\nDla Fanów Full of Hell\, Iron Lung\, Despise You\nhttps://smolaprzemoc.bandcamp.com/album/the-strongest-must-fall\nhttps://www.instagram.com/smola.band\nhttps://www.facebook.com/share/15u52T6DdP/ \nUser (punk hardcore) – W-wa\nNowy dziki i surowy hardcore z Warszawy
URL:https://adapulawska.org/wydarzenie/agnosy-uk-larma-sw-sanctus-iuda-user/
LOCATION:ADA Puławska\, Puławska 37\, Warszawa\, 02-508\, Poland
CATEGORIES:koncert
ATTACH;FMTTYPE=image/jpeg:https://adapulawska.org/wp-content/uploads/2025/02/484070122_506874035805051_8752012864544813982_n.jpg
END:VEVENT
END:VCALENDAR