BEGIN:VCALENDAR
VERSION:2.0
PRODID:-//A.D.A. Puławska - ECPv6.15.20//NONSGML v1.0//EN
CALSCALE:GREGORIAN
METHOD:PUBLISH
X-WR-CALNAME:A.D.A. Puławska
X-ORIGINAL-URL:https://adapulawska.org
X-WR-CALDESC:Wydarzenia dla A.D.A. Puławska
REFRESH-INTERVAL;VALUE=DURATION:PT1H
X-Robots-Tag:noindex
X-PUBLISHED-TTL:PT1H
BEGIN:VTIMEZONE
TZID:Europe/Warsaw
BEGIN:DAYLIGHT
TZOFFSETFROM:+0100
TZOFFSETTO:+0200
TZNAME:CEST
DTSTART:20240331T010000
END:DAYLIGHT
BEGIN:STANDARD
TZOFFSETFROM:+0200
TZOFFSETTO:+0100
TZNAME:CET
DTSTART:20241027T010000
END:STANDARD
BEGIN:DAYLIGHT
TZOFFSETFROM:+0100
TZOFFSETTO:+0200
TZNAME:CEST
DTSTART:20250330T010000
END:DAYLIGHT
BEGIN:STANDARD
TZOFFSETFROM:+0200
TZOFFSETTO:+0100
TZNAME:CET
DTSTART:20251026T010000
END:STANDARD
BEGIN:DAYLIGHT
TZOFFSETFROM:+0100
TZOFFSETTO:+0200
TZNAME:CEST
DTSTART:20260329T010000
END:DAYLIGHT
BEGIN:STANDARD
TZOFFSETFROM:+0200
TZOFFSETTO:+0100
TZNAME:CET
DTSTART:20261025T010000
END:STANDARD
END:VTIMEZONE
BEGIN:VEVENT
DTSTART;TZID=Europe/Warsaw:20250615T150000
DTEND;TZID=Europe/Warsaw:20250615T180000
DTSTAMP:20260422T162209
CREATED:20250605T164416Z
LAST-MODIFIED:20250605T170142Z
UID:15247-1749999600-1750010400@adapulawska.org
SUMMARY:„Sahara Zachodnia. Walka o wolność” WYKŁAD
DESCRIPTION:Zapraszamy na wykład: „Sahara Zachodnia. Walka o wolność”Dołącz do spotkania poświęconego jednej z najdłużej trawających kolonii współczesnego świata – Saharze Zachodniej. Dowiesz się:• kim są Saharyjczycy i czym jest Frente Polisario• jak wyglądała kolonialna przeszlość i walka o niepodleglość?• jaka wygląda sytuacja praw człowieka na okupowanym terytorium Sahary Zachodniej• jak wygląda codzienne życie w obozach dla uchodźców.Zapraszamy 15 czerwca o godzinie 15:00!
URL:https://adapulawska.org/wydarzenie/sahara-zachodnia-walka-o-wolnosc-wyklad/
ATTACH;FMTTYPE=image/jpeg:https://adapulawska.org/wp-content/uploads/2025/06/494260595_1152173580272215_7057798363172063069_n.jpg
ORGANIZER;CN="ADA Pu%C5%82awska":MAILTO:kontakt@adapulawska.org
END:VEVENT
END:VCALENDAR