BEGIN:VCALENDAR
VERSION:2.0
PRODID:-//A.D.A. Puławska - ECPv6.15.20//NONSGML v1.0//EN
CALSCALE:GREGORIAN
METHOD:PUBLISH
X-WR-CALNAME:A.D.A. Puławska
X-ORIGINAL-URL:https://adapulawska.org
X-WR-CALDESC:Wydarzenia dla A.D.A. Puławska
REFRESH-INTERVAL;VALUE=DURATION:PT1H
X-Robots-Tag:noindex
X-PUBLISHED-TTL:PT1H
BEGIN:VTIMEZONE
TZID:Europe/Warsaw
BEGIN:DAYLIGHT
TZOFFSETFROM:+0100
TZOFFSETTO:+0200
TZNAME:CEST
DTSTART:20240331T010000
END:DAYLIGHT
BEGIN:STANDARD
TZOFFSETFROM:+0200
TZOFFSETTO:+0100
TZNAME:CET
DTSTART:20241027T010000
END:STANDARD
BEGIN:DAYLIGHT
TZOFFSETFROM:+0100
TZOFFSETTO:+0200
TZNAME:CEST
DTSTART:20250330T010000
END:DAYLIGHT
BEGIN:STANDARD
TZOFFSETFROM:+0200
TZOFFSETTO:+0100
TZNAME:CET
DTSTART:20251026T010000
END:STANDARD
BEGIN:DAYLIGHT
TZOFFSETFROM:+0100
TZOFFSETTO:+0200
TZNAME:CEST
DTSTART:20260329T010000
END:DAYLIGHT
BEGIN:STANDARD
TZOFFSETFROM:+0200
TZOFFSETTO:+0100
TZNAME:CET
DTSTART:20261025T010000
END:STANDARD
END:VTIMEZONE
BEGIN:VEVENT
DTSTART;TZID=Europe/Warsaw:20250531T160000
DTEND;TZID=Europe/Warsaw:20250531T190000
DTSTAMP:20260422T162210
CREATED:20250505T204453Z
LAST-MODIFIED:20250506T204309Z
UID:15112-1748707200-1748718000@adapulawska.org
SUMMARY:Benefit na Sambrokato
DESCRIPTION:🥁 To róż\, to brokat\, to antyfaszyzm! Pięknie zapraszamy na imprezę benefitową Sambrokato 🥁 \nDrzwi: 16:00\nSet Sambrokato: 18:30\nKoncerty/DJsety: 19:00-23:00 \n🌸 Przez całą imprezę upolujecie:\n– fanty z loterii\n– sambrokatowe distro\n– dziary\n– wegańską pizzę \nWięcej info wkrótce! \n🗓️ sobota 31.05\n📍 ADA\, Puławska 37
URL:https://adapulawska.org/wydarzenie/benefit-na-sambrokato/
ATTACH;FMTTYPE=image/jpeg:https://adapulawska.org/wp-content/uploads/2025/05/490855488_122211585872249977_871593369626593425_n.jpg
END:VEVENT
END:VCALENDAR