BEGIN:VCALENDAR
VERSION:2.0
PRODID:-//A.D.A. Puławska - ECPv6.15.20//NONSGML v1.0//EN
CALSCALE:GREGORIAN
METHOD:PUBLISH
X-ORIGINAL-URL:https://adapulawska.org
X-WR-CALDESC:Wydarzenia dla A.D.A. Puławska
REFRESH-INTERVAL;VALUE=DURATION:PT1H
X-Robots-Tag:noindex
X-PUBLISHED-TTL:PT1H
BEGIN:VTIMEZONE
TZID:Europe/Warsaw
BEGIN:DAYLIGHT
TZOFFSETFROM:+0100
TZOFFSETTO:+0200
TZNAME:CEST
DTSTART:20240331T010000
END:DAYLIGHT
BEGIN:STANDARD
TZOFFSETFROM:+0200
TZOFFSETTO:+0100
TZNAME:CET
DTSTART:20241027T010000
END:STANDARD
BEGIN:DAYLIGHT
TZOFFSETFROM:+0100
TZOFFSETTO:+0200
TZNAME:CEST
DTSTART:20250330T010000
END:DAYLIGHT
BEGIN:STANDARD
TZOFFSETFROM:+0200
TZOFFSETTO:+0100
TZNAME:CET
DTSTART:20251026T010000
END:STANDARD
BEGIN:DAYLIGHT
TZOFFSETFROM:+0100
TZOFFSETTO:+0200
TZNAME:CEST
DTSTART:20260329T010000
END:DAYLIGHT
BEGIN:STANDARD
TZOFFSETFROM:+0200
TZOFFSETTO:+0100
TZNAME:CET
DTSTART:20261025T010000
END:STANDARD
END:VTIMEZONE
BEGIN:VEVENT
DTSTART;TZID=Europe/Warsaw:20250510T150000
DTEND;TZID=Europe/Warsaw:20250510T190000
DTSTAMP:20260422T175739
CREATED:20250505T203254Z
LAST-MODIFIED:20250505T211328Z
UID:15097-1746889200-1746903600@adapulawska.org
SUMMARY:Warsztaty na urodziny ADA i Szmer
DESCRIPTION:Z okazji 11 urodzin ADA Puławska i 5 urodzin szmer.info chcemy zaprosić was na serię spotkań wokół kwestii wolności w internecie! \nWracając do dawnej tradycji CyberAdy\, skłoterskich linuksowych install party oraz wolnościowych mediów internetowych chcemy porozmawiać o tym jak możemy uwolnić internet – i siebie – od korporacji i ich wszechobecnych manipulacji oraz szpiegostwa. W sobotę od 15 do 19 zamierzamy was uraczyć szeregiem krótkich wykładów\, spotkań\, warsztatów oraz dyskusji; \nwykłady/spotkania:\n• 15:00 – PoProstu\, Indymedia\, CIA\, Zuckerberg\, szmer – dlaczego chcemy tworzyć swoje media i robimy szmer\n• 15:45 – Fediwersum – sieć społecznościowa\, której nie kupią miliarderzy\n• 16:30 – Open Street Map – mapa\, która cię nie śledzi i jak zrobić własną mapę\n• 17:15 – Wolność (i dyskryminacja) cyfrowa – co robimy dobrze\, co zwaliliśmy\, co możemy zrobić lepiej?\n• 18:00 – Dyskusja szmer – plany\, możliwości\, miejsce w ruchu \nwarsztaty\n• 15:00 – „Install party” – pomagamy ogarnąć Fediwers\, zainstalować Linuksa\, ustawić komunikatory XMPP/Jabber i inne wolnościowe technologie\n• 16:00 – Jak działa szmer i Lemmy i jak współtworzyć wolny obieg informacji\n• 17:00 – Jak pozbyć się reklam na telefonie\, laptopie i w domowej sieci\n• 18:00 – Open Street Map – jak współtworzyć mapową Wikipedię (warsztat-spacer po okolicy!) \nWszystkie godziny mogą się jeszcze zmieniać\, ostateczną wersję znajdziecie na dzień przed na naszej stronie; https://adapulawska.org/wydarzenie/warsztaty-na-urodziny-ada-i-szmer/
URL:https://adapulawska.org/wydarzenie/warsztaty-na-urodziny-ada-i-szmer/
CATEGORIES:spotkanie
ATTACH;FMTTYPE=image/png:https://adapulawska.org/wp-content/uploads/2025/05/ada-plus-szmer.png
ORGANIZER;CN="ADA Pu%C5%82awska":MAILTO:kontakt@adapulawska.org
END:VEVENT
END:VCALENDAR