BEGIN:VCALENDAR
VERSION:2.0
PRODID:-//A.D.A. Puławska - ECPv6.15.20//NONSGML v1.0//EN
CALSCALE:GREGORIAN
METHOD:PUBLISH
X-WR-CALNAME:A.D.A. Puławska
X-ORIGINAL-URL:https://adapulawska.org
X-WR-CALDESC:Wydarzenia dla A.D.A. Puławska
REFRESH-INTERVAL;VALUE=DURATION:PT1H
X-Robots-Tag:noindex
X-PUBLISHED-TTL:PT1H
BEGIN:VTIMEZONE
TZID:Europe/Warsaw
BEGIN:DAYLIGHT
TZOFFSETFROM:+0100
TZOFFSETTO:+0200
TZNAME:CEST
DTSTART:20240331T010000
END:DAYLIGHT
BEGIN:STANDARD
TZOFFSETFROM:+0200
TZOFFSETTO:+0100
TZNAME:CET
DTSTART:20241027T010000
END:STANDARD
BEGIN:DAYLIGHT
TZOFFSETFROM:+0100
TZOFFSETTO:+0200
TZNAME:CEST
DTSTART:20250330T010000
END:DAYLIGHT
BEGIN:STANDARD
TZOFFSETFROM:+0200
TZOFFSETTO:+0100
TZNAME:CET
DTSTART:20251026T010000
END:STANDARD
BEGIN:DAYLIGHT
TZOFFSETFROM:+0100
TZOFFSETTO:+0200
TZNAME:CEST
DTSTART:20260329T010000
END:DAYLIGHT
BEGIN:STANDARD
TZOFFSETFROM:+0200
TZOFFSETTO:+0100
TZNAME:CET
DTSTART:20261025T010000
END:STANDARD
END:VTIMEZONE
BEGIN:VEVENT
DTSTART;TZID=Europe/Warsaw:20250509T180000
DTEND;TZID=Europe/Warsaw:20250509T180000
DTSTAMP:20260422T175704
CREATED:20250429T111158Z
LAST-MODIFIED:20250505T223657Z
UID:15073-1746813600-1746813600@adapulawska.org
SUMMARY:XI urodziny ADA Puławska!
DESCRIPTION:Serdecznie zapraszamy na XI urodziny ADA Puławska 9-10 maja 2025 🎉 \n9.05 – Piątek ✨BROKAT PARTY✨\n18:00 BRAMKA\n19:00 START \nBurleska i drag w wykonywaniu:\n💖Madame Meduse (burleska)\n💖Nicky M (drag king)\n💖Rose Pierre Doll (drag queen)\n💖Salsa Picante (burleska)\n💖Miju Fullmoon (burleska)\n💖Zsa Zsa Pyton (drag queen) \nDJ Sety:\n📀Avtomat\n📀Matka Boska Rejwowa\n📀Europol\n📀Hubert WCH \na do tego:\nKaraoke\nBingo\nPizza \n10.05 – Sobota\nBRAMKA: 15:00\nWARSZTATY: 15:00-19:00\nKONCERTY: 19:00 \n🎵Dread Messiah (UK) crust punk\n🎵Cause a Riot (FIN) hardcore punk\n🎵Sexy Suicide (PL) synth pop\n🎵Zady (PL) hardcore punk\n🎵Koń (PL) post punk\n…więcej info wkrótce
URL:https://adapulawska.org/wydarzenie/xi-urodziny-ada-pulawska/
CATEGORIES:benefit,dj,jedzonko,koncert,muzyka
ATTACH;FMTTYPE=image/jpeg:https://adapulawska.org/wp-content/uploads/2025/03/ada-urodziny.jpg
ORGANIZER;CN="ADA Pu%C5%82awska":MAILTO:kontakt@adapulawska.org
END:VEVENT
END:VCALENDAR