BEGIN:VCALENDAR
VERSION:2.0
PRODID:-//A.D.A. Puławska - ECPv6.15.20//NONSGML v1.0//EN
CALSCALE:GREGORIAN
METHOD:PUBLISH
X-ORIGINAL-URL:https://adapulawska.org
X-WR-CALDESC:Wydarzenia dla A.D.A. Puławska
REFRESH-INTERVAL;VALUE=DURATION:PT1H
X-Robots-Tag:noindex
X-PUBLISHED-TTL:PT1H
BEGIN:VTIMEZONE
TZID:Europe/Warsaw
BEGIN:DAYLIGHT
TZOFFSETFROM:+0100
TZOFFSETTO:+0200
TZNAME:CEST
DTSTART:20240331T010000
END:DAYLIGHT
BEGIN:STANDARD
TZOFFSETFROM:+0200
TZOFFSETTO:+0100
TZNAME:CET
DTSTART:20241027T010000
END:STANDARD
BEGIN:DAYLIGHT
TZOFFSETFROM:+0100
TZOFFSETTO:+0200
TZNAME:CEST
DTSTART:20250330T010000
END:DAYLIGHT
BEGIN:STANDARD
TZOFFSETFROM:+0200
TZOFFSETTO:+0100
TZNAME:CET
DTSTART:20251026T010000
END:STANDARD
BEGIN:DAYLIGHT
TZOFFSETFROM:+0100
TZOFFSETTO:+0200
TZNAME:CEST
DTSTART:20260329T010000
END:DAYLIGHT
BEGIN:STANDARD
TZOFFSETFROM:+0200
TZOFFSETTO:+0100
TZNAME:CET
DTSTART:20261025T010000
END:STANDARD
END:VTIMEZONE
BEGIN:VEVENT
DTSTART;TZID=Europe/Warsaw:20250208T190000
DTEND;TZID=Europe/Warsaw:20250208T220000
DTSTAMP:20260422T232901
CREATED:20250124T171220Z
LAST-MODIFIED:20250124T171220Z
UID:14737-1739041200-1739052000@adapulawska.org
SUMMARY:PRZYJAŹŃ TO MAGIA  |  PISUAR / DEATHKNELL / RUNAWAY DEVILS  |  BENEFIT NA KOLEKTY PRZYJAŹŃ
DESCRIPTION:Kiedy?8 | 02 | 2025Gdzie?Ada PuławskaBramki 19:00 | Noise 20:00 \nMyślisz że kryzys mieszkaniowy to poważna sprawa? Nie podoba ci się jak policja nielegalnie wyrzuca ludzi z domów? Uważasz\, że ataki nazioli\, niezależnie jak nieudolne są całkiem nie okay? Po prostu nie lubisz Trzaskowskiego i jego ferajny? A może chcesz przy*ierdolić komuś słuchając piwniczanej muzyki? \nJeżeli pozytywnie odpowiedziałaś na jedno lub więcej z wyżej wymienionych pytań to serdecznie zapraszamy cię na benefit dla Kolektywu Przyjaźń! Walczymy z tymi problemami już od dłuższej chwili i nie przestaniemy. \nKto dla nas zagra? \nPisuar \nKilka wziętych chwilówek tylko pogorszyło twoją reputację wśród ludzi\, z którymi pracujesz? Kierowca autobusu znowu zamknął ci drzwi przed nosem? Rodzina bez przerwy pyta kiedy ślub? Odgrzany w piecyku weger znowu był zimny? To wszystko jest ok. Jedzenie nie musi wyglądać jak z rolki na instagramie a z większością ludzi i tak się nigdy nie dogadasz. Przestań gonić za czymś czego nigdy nie dotkniesz. Dołącz do społeczności – Jest jeszcze życie A nie muzyka Jesteś jeszcze ty!https://www.instagram.com/pisua_r?igsh=dWYwbGVlNms3M2Fthttps://pisuar.bandcamp.com/ \nDeahknell (slut metal) \nKamień został podniesiony i wypełzły nowe karaluchy na stołeczną mapę punk. Deathknell mają logo\, którego nie jesteś w stanie rozczytać\, co powinno cię nakierować\, co jest grane. Rzuć się w ciemność tej popielniczki i daj sehttps://www.instagram.com/deathknell_slut?igsh=NnkzdGUzeDFkcWRj \nRunaway devils (Black Raw’n roll) \nTo zespół czterech wiedźm z Łodzi grająca Black Raw’n roll. Ich muzyka wyłania się z mroku\, a wypełniona jest emocjami. Inspiracje wywodzą się z dungeon synthu\, punk rocka\, dsbm’u oraz klasycznego black metalu\, lecz naszą myślą przewodnią jest to że nie ograniczamy się wcale. \nRaw to nie piękne\, wyidealizowane brzmienia. To dźwięki pochodzące z naszej duszy. Często mroczne\, przeplatane surową energią i spontanicznością. To wolność w ekspresji\, wydana w formie oldschool muzyki.https://www.instagram.com/runaway_devils?igsh=Z2gybzJrdDNtcGUw
URL:https://adapulawska.org/wydarzenie/przyjazn-to-magia-pisuar-deathknell-runaway-devils-benefit-na-kolekty-przyjazn/
CATEGORIES:benefit,muzyka
ATTACH;FMTTYPE=image/jpeg:https://adapulawska.org/wp-content/uploads/2025/01/474733108_122135260808428702_6499185496464808330_n.jpg
END:VEVENT
END:VCALENDAR