BEGIN:VCALENDAR
VERSION:2.0
PRODID:-//A.D.A. Puławska - ECPv6.15.20//NONSGML v1.0//EN
CALSCALE:GREGORIAN
METHOD:PUBLISH
X-WR-CALNAME:A.D.A. Puławska
X-ORIGINAL-URL:https://adapulawska.org
X-WR-CALDESC:Wydarzenia dla A.D.A. Puławska
REFRESH-INTERVAL;VALUE=DURATION:PT1H
X-Robots-Tag:noindex
X-PUBLISHED-TTL:PT1H
BEGIN:VTIMEZONE
TZID:Europe/Warsaw
BEGIN:DAYLIGHT
TZOFFSETFROM:+0100
TZOFFSETTO:+0200
TZNAME:CEST
DTSTART:20240331T010000
END:DAYLIGHT
BEGIN:STANDARD
TZOFFSETFROM:+0200
TZOFFSETTO:+0100
TZNAME:CET
DTSTART:20241027T010000
END:STANDARD
BEGIN:DAYLIGHT
TZOFFSETFROM:+0100
TZOFFSETTO:+0200
TZNAME:CEST
DTSTART:20250330T010000
END:DAYLIGHT
BEGIN:STANDARD
TZOFFSETFROM:+0200
TZOFFSETTO:+0100
TZNAME:CET
DTSTART:20251026T010000
END:STANDARD
BEGIN:DAYLIGHT
TZOFFSETFROM:+0100
TZOFFSETTO:+0200
TZNAME:CEST
DTSTART:20260329T010000
END:DAYLIGHT
BEGIN:STANDARD
TZOFFSETFROM:+0200
TZOFFSETTO:+0100
TZNAME:CET
DTSTART:20261025T010000
END:STANDARD
END:VTIMEZONE
BEGIN:VEVENT
DTSTART;TZID=Europe/Warsaw:20250118T170000
DTEND;TZID=Europe/Warsaw:20250118T220000
DTSTAMP:20260423T011312
CREATED:20250109T220915Z
LAST-MODIFIED:20250109T220915Z
UID:14656-1737219600-1737237600@adapulawska.org
SUMMARY:Mega Koncert Białoruski Ada Pulawska 18.01.2025
DESCRIPTION:18.01.2025 мы запрашаем вас на ўнікатовую музычную iмррэзу ў клубе Ada Puławska (вул. Puławska 37\, Варшава)Гэта вечар\, дзе эксперыменты сустракаюцца з традыцыямі\, а гітары\, рытмы і тэксты змогуць крануць самыя розныя струны вашай душы. \n⏰ Час: 17:00 — адкрыццё варот\, 17:30 — пачатак \n🎶 У праграме: \nСяргей Пукст — майстар кароткіх\, агрэсіўных пост-панк кампазіцый з псіхадэлічным адценнем. Яго музыка — гэта «tiktok rock»\, дзе нават 50 секунд хапае\, каб стварыць незабыўную атмасферу. Гітарныя мелодыі Пукста — гэта сапраўднае мастацтва для тых\, хто шукае новае. \nhttps://www.youtube.com/watch?v=n0mePtr59hU \nSyndrom Samazvanca — мінскі гурт\, які цяпер базуецца ў Варшаве. Іх музыка — гэта магутны мікс псіхадэлічнага року\, краўтроку і пост-панку. На гэты раз акустычныя рыфы\, складаная рытміка і гукі голосу гарантавана захопяць вашу ўвагу. \nhttps://open.spotify.com/artist/4Dd0C12XvG2nEzh6Hs49mNhttps://linktr.ee/syndromsamazvanca \nМаразм Аркадзія — гэта поп-панк з акустычнай гітарай і неверагоднай колькасцю півной энергіі! На стримінгах можна пачуць DIY-гучанне і шчырыя песні пра жыццё ў свеце капіталізму\, а на канцэртах — пабачыць\, як Маразм Аркадзія перамагае гэты свет сваім гумарам і энергіяй. \nhttps://www.youtube.com/watch?v=l67b2u0_5XYhttps://band.link/g10fY \nБредятина Дятела — гэта шалёнасць і весялосць у кожнай ноте! Іх цяжкія гітарныя рыфы і танцавальныя рытмы не пакінуць вас абыякавымі. Сатырычныя тэксты пра свабоду і прагу жыцця вырываюць слухача з рэальнасці і ўключаюць у свет музычнай рэвалюцыі. \nhttps://open.spotify.com/artist/6KBPlIYtmkUDl6FsIRMeaw?utm_source=chatgpt.comhttps://linktr.ee/bdiatela \nНе прапусціце гэты вечар жывой музыкі\, шчырасці і сапраўднай энергіі! \n18 stycznia zapraszamy na wyjątkowy koncert muzyczny w klubie Ada Puławska (ul. Puławska 37\, Warszawa).To wieczór\, w którym eksperymenty spotykają się z tradycją\, a gitary\, rytmy i teksty poruszą najgłębsze struny twojej duszy. \n⏰ Godzina: 17:00 — otwarcie bram\, 17:30 — start \n🎶 W programie: \nSiergiej Pukst — mistrz krótkich\, agresywnych post-punkowych kompozycji z psychodelicznym zabarwieniem. Jego muzyka to „tiktok rock”\, gdzie nawet 50 sekund wystarczy\, by stworzyć niezapomniany klimat. Gitarowe melodie Puksta to prawdziwa sztuka dla tych\, którzy szukają czegoś nowego. \nhttps://www.youtube.com/watch?v=n0mePtr59hU \nSyndrom Samazvanca — zespół z Mińska\, obecnie mieszkający w Warszawie. Ich muzyka to potężna mieszanka psychodelicznego rocka\, krautrocka i post-punka. Tym razem akustyczne riffy\, skomplikowana rytmika i brzmienie głosu z pewnością przykują twoją uwagę. \nhttps://open.spotify.com/artist/4Dd0C12XvG2nEzh6Hs49mNhttps://linktr.ee/syndromsamazvanca \nMarazm Arkadija — to pop-punk z akustyczną gitarą i niesamowitą piwną energią! Na platformach streamingowych można usłyszeć DIY-brzmienie i szczere piosenki o życiu w świecie kapitalizmu\, a na koncertach zobaczyć\, jak Marazm Arkadija zwycięża ten świat swoim humorem i energią.https://www.youtube.com/watch?v=l67b2u0_5XYhttps://band.link/g10fY \nBredjatina Djatiela — to szaleństwo i radość w każdej nucie! Ich ciężkie gitarowe riffy i taneczne rytmy nie pozostawią cię obojętnym. Satyryczne teksty o wolności i pragnieniu życia wyrywają słuchacza z rzeczywistości i przenoszą do świata muzycznej rewolucji. \nhttps://www.youtube.com/watch?v=l67b2u0_5XYhttps://band.link/g10fY \nNie przegap tego wieczoru pełnego żywej muzyki\, szczerości i prawdziwej energii!!!
URL:https://adapulawska.org/wydarzenie/mega-koncert-bialoruski-ada-pulawska-18-01-2025/
CATEGORIES:koncert,muzyka
ATTACH;FMTTYPE=image/jpeg:https://adapulawska.org/wp-content/uploads/2025/01/472535630_8468272693279450_410148486827453347_n.jpg
END:VEVENT
END:VCALENDAR