BEGIN:VCALENDAR
VERSION:2.0
PRODID:-//A.D.A. Puławska - ECPv6.15.20//NONSGML v1.0//EN
CALSCALE:GREGORIAN
METHOD:PUBLISH
X-WR-CALNAME:A.D.A. Puławska
X-ORIGINAL-URL:https://adapulawska.org
X-WR-CALDESC:Wydarzenia dla A.D.A. Puławska
REFRESH-INTERVAL;VALUE=DURATION:PT1H
X-Robots-Tag:noindex
X-PUBLISHED-TTL:PT1H
BEGIN:VTIMEZONE
TZID:Europe/Warsaw
BEGIN:DAYLIGHT
TZOFFSETFROM:+0100
TZOFFSETTO:+0200
TZNAME:CEST
DTSTART:20230326T010000
END:DAYLIGHT
BEGIN:STANDARD
TZOFFSETFROM:+0200
TZOFFSETTO:+0100
TZNAME:CET
DTSTART:20231029T010000
END:STANDARD
BEGIN:DAYLIGHT
TZOFFSETFROM:+0100
TZOFFSETTO:+0200
TZNAME:CEST
DTSTART:20240331T010000
END:DAYLIGHT
BEGIN:STANDARD
TZOFFSETFROM:+0200
TZOFFSETTO:+0100
TZNAME:CET
DTSTART:20241027T010000
END:STANDARD
BEGIN:DAYLIGHT
TZOFFSETFROM:+0100
TZOFFSETTO:+0200
TZNAME:CEST
DTSTART:20250330T010000
END:DAYLIGHT
BEGIN:STANDARD
TZOFFSETFROM:+0200
TZOFFSETTO:+0100
TZNAME:CET
DTSTART:20251026T010000
END:STANDARD
END:VTIMEZONE
BEGIN:VEVENT
DTSTART;TZID=Europe/Warsaw:20241211T190000
DTEND;TZID=Europe/Warsaw:20241211T210000
DTSTAMP:20260423T031307
CREATED:20241217T210409Z
LAST-MODIFIED:20241217T210519Z
UID:13751-1733943600-1733950800@adapulawska.org
SUMMARY:Selfisz 296// Soleil de Nuit
DESCRIPTION:ostatni selfisz w tym roku. \nczacha od wariatuńcia https://www.instagram.com/soleil_de_nuit__/ \ngrafika ok. 15×15 cmfarba w kolorze straży pożarnej (siada na jasne i ciemne podłoża) \ndla nieobecnych:https://selfisz.bigcartel.com/(aktywne do środy 11.12\, 16:00) \n////*Selfisz?To projekt poświęcony drukowaniu na tekstyliach.Instrukcja polega na tym że: my szykujemy grafikę\, Ty przynosisz swoje ubranie\, na którym nanosimy\, za pomocą techniki sitodruku\, ustalony wzór. Dzieje się to podczas jednego\, niepowtarzalnego wieczoru. \nUwaga!Rzeczy są przechowywane przez 2 miesiące.Po upływie tego czasu nie ma możliwości odbioru./////////////////////////////////////A.D.A. PUŁAWSKA to mieszczący się przy ulicy Puławskiej 37 w Warszawie Aktywny Dom Alternatywny\, pełniący funkcję autonomicznego centrum społeczno-kulturalnego.Swoją działalność opiera w całości na oddolnej aktywności społeczne
URL:https://adapulawska.org/wydarzenie/selfisz-296-soleil-de-nuit/
LOCATION:Galeria V9\, Puławska 37\, Warszawa\, 02-508\, Poland
CATEGORIES:selfisz
ATTACH;FMTTYPE=image/jpeg:https://adapulawska.org/wp-content/uploads/2024/12/468839708_1010349387804313_7144536848098147099_n.jpg
ORGANIZER;CN="V9":MAILTO:vlepvnet@gmail.com
END:VEVENT
END:VCALENDAR